| Back to Multiple platform build/check report for BioC 3.10 |
|
This page was generated on 2020-04-15 12:28:05 -0400 (Wed, 15 Apr 2020).
| Package 531/1823 | Hostname | OS / Arch | INSTALL | BUILD | CHECK | BUILD BIN | ||||||
| epiNEM 1.10.0 Martin Pirkl
| malbec1 | Linux (Ubuntu 18.04.4 LTS) / x86_64 | OK | OK | OK | |||||||
| tokay1 | Windows Server 2012 R2 Standard / x64 | [ OK ] | OK | OK | OK | |||||||
| merida1 | OS X 10.11.6 El Capitan / x86_64 | OK | OK | OK | OK |
| Package: epiNEM |
| Version: 1.10.0 |
| Command: C:\cygwin\bin\curl.exe -O https://malbec1.bioconductor.org/BBS/3.10/bioc/src/contrib/epiNEM_1.10.0.tar.gz && rm -rf epiNEM.buildbin-libdir && mkdir epiNEM.buildbin-libdir && C:\Users\biocbuild\bbs-3.10-bioc\R\bin\R.exe CMD INSTALL --merge-multiarch --build --library=epiNEM.buildbin-libdir epiNEM_1.10.0.tar.gz && C:\Users\biocbuild\bbs-3.10-bioc\R\bin\R.exe CMD INSTALL epiNEM_1.10.0.zip && rm epiNEM_1.10.0.tar.gz epiNEM_1.10.0.zip |
| StartedAt: 2020-04-14 20:22:08 -0400 (Tue, 14 Apr 2020) |
| EndedAt: 2020-04-14 20:22:36 -0400 (Tue, 14 Apr 2020) |
| EllapsedTime: 27.3 seconds |
| RetCode: 0 |
| Status: OK |
##############################################################################
##############################################################################
###
### Running command:
###
### C:\cygwin\bin\curl.exe -O https://malbec1.bioconductor.org/BBS/3.10/bioc/src/contrib/epiNEM_1.10.0.tar.gz && rm -rf epiNEM.buildbin-libdir && mkdir epiNEM.buildbin-libdir && C:\Users\biocbuild\bbs-3.10-bioc\R\bin\R.exe CMD INSTALL --merge-multiarch --build --library=epiNEM.buildbin-libdir epiNEM_1.10.0.tar.gz && C:\Users\biocbuild\bbs-3.10-bioc\R\bin\R.exe CMD INSTALL epiNEM_1.10.0.zip && rm epiNEM_1.10.0.tar.gz epiNEM_1.10.0.zip
###
##############################################################################
##############################################################################
% Total % Received % Xferd Average Speed Time Time Time Current
Dload Upload Total Spent Left Speed
0 0 0 0 0 0 0 0 --:--:-- --:--:-- --:--:-- 0
100 192k 100 192k 0 0 2566k 0 --:--:-- --:--:-- --:--:-- 2710k
install for i386
* installing *source* package 'epiNEM' ...
** using staged installation
** R
** data
*** moving datasets to lazyload DB
** inst
** byte-compile and prepare package for lazy loading
** help
*** installing help indices
converting help for package 'epiNEM'
finding HTML links ... done
AddLogicGates html
CreateRandomGraph html
CreateTopology html
ExtendTopology html
GenerateData html
HeatmapOP html
MLL html
SimEpiNEM html
createExtendedAdjacency html
epiAnno html
epiNEM html
epiScreen html
plot.epiNEM html
plot.epiScreen html
plot.epiSim html
sameith_GO html
sameith_string html
samscreen html
sim html
wageningen_GO html
wageningen_string html
wagscreen html
** building package indices
** installing vignettes
** testing if installed package can be loaded from temporary location
** testing if installed package can be loaded from final location
** testing if installed package keeps a record of temporary installation path
install for x64
* installing *source* package 'epiNEM' ...
** testing if installed package can be loaded
* MD5 sums
packaged installation of 'epiNEM' as epiNEM_1.10.0.zip
* DONE (epiNEM)
* installing to library 'C:/Users/biocbuild/bbs-3.10-bioc/R/library'
package 'epiNEM' successfully unpacked and MD5 sums checked