| Back to Multiple platform build/check report for BioC 3.10 |
|
This page was generated on 2020-04-15 12:20:28 -0400 (Wed, 15 Apr 2020).
| Package 424/1823 | Hostname | OS / Arch | INSTALL | BUILD | CHECK | BUILD BIN | ||||||
| deepSNV 1.32.0 Moritz Gerstung
| malbec1 | Linux (Ubuntu 18.04.4 LTS) / x86_64 | OK | OK | OK | |||||||
| tokay1 | Windows Server 2012 R2 Standard / x64 | OK | [ OK ] | OK | OK | |||||||
| merida1 | OS X 10.11.6 El Capitan / x86_64 | OK | OK | OK | OK |
| Package: deepSNV |
| Version: 1.32.0 |
| Command: chmod a+r deepSNV -R && C:\Users\biocbuild\bbs-3.10-bioc\R\bin\R.exe CMD build --keep-empty-dirs --no-resave-data deepSNV |
| StartedAt: 2020-04-14 21:26:19 -0400 (Tue, 14 Apr 2020) |
| EndedAt: 2020-04-14 21:32:22 -0400 (Tue, 14 Apr 2020) |
| EllapsedTime: 362.3 seconds |
| RetCode: 0 |
| Status: OK |
| PackageFile: deepSNV_1.32.0.tar.gz |
| PackageFileSize: 2.077 MiB |
############################################################################## ############################################################################## ### ### Running command: ### ### chmod a+r deepSNV -R && C:\Users\biocbuild\bbs-3.10-bioc\R\bin\R.exe CMD build --keep-empty-dirs --no-resave-data deepSNV ### ############################################################################## ############################################################################## * checking for file 'deepSNV/DESCRIPTION' ... OK * preparing 'deepSNV': * checking DESCRIPTION meta-information ... OK * cleaning src * installing the package to build vignettes * creating vignettes ... OK * cleaning src * checking for LF line-endings in source and make files and shell scripts * checking for empty or unneeded directories * looking to see if a 'data/datalist' file should be added * building 'deepSNV_1.32.0.tar.gz' Warning: file 'deepSNV/configure' did not have execute permissions: corrected