| Back to Multiple platform build/check report for BioC 3.10 |
|
This page was generated on 2020-04-15 12:22:13 -0400 (Wed, 15 Apr 2020).
| Package 403/1823 | Hostname | OS / Arch | INSTALL | BUILD | CHECK | BUILD BIN | ||||||
| dagLogo 1.24.0 Jianhong Ou
| malbec1 | Linux (Ubuntu 18.04.4 LTS) / x86_64 | OK | OK | OK | |||||||
| tokay1 | Windows Server 2012 R2 Standard / x64 | [ OK ] | OK | OK | OK | |||||||
| merida1 | OS X 10.11.6 El Capitan / x86_64 | OK | OK | OK | OK |
| Package: dagLogo |
| Version: 1.24.0 |
| Command: C:\cygwin\bin\curl.exe -O https://malbec1.bioconductor.org/BBS/3.10/bioc/src/contrib/dagLogo_1.24.0.tar.gz && rm -rf dagLogo.buildbin-libdir && mkdir dagLogo.buildbin-libdir && C:\Users\biocbuild\bbs-3.10-bioc\R\bin\R.exe CMD INSTALL --merge-multiarch --build --library=dagLogo.buildbin-libdir dagLogo_1.24.0.tar.gz && C:\Users\biocbuild\bbs-3.10-bioc\R\bin\R.exe CMD INSTALL dagLogo_1.24.0.zip && rm dagLogo_1.24.0.tar.gz dagLogo_1.24.0.zip |
| StartedAt: 2020-04-14 20:01:44 -0400 (Tue, 14 Apr 2020) |
| EndedAt: 2020-04-14 20:03:12 -0400 (Tue, 14 Apr 2020) |
| EllapsedTime: 87.8 seconds |
| RetCode: 0 |
| Status: OK |
##############################################################################
##############################################################################
###
### Running command:
###
### C:\cygwin\bin\curl.exe -O https://malbec1.bioconductor.org/BBS/3.10/bioc/src/contrib/dagLogo_1.24.0.tar.gz && rm -rf dagLogo.buildbin-libdir && mkdir dagLogo.buildbin-libdir && C:\Users\biocbuild\bbs-3.10-bioc\R\bin\R.exe CMD INSTALL --merge-multiarch --build --library=dagLogo.buildbin-libdir dagLogo_1.24.0.tar.gz && C:\Users\biocbuild\bbs-3.10-bioc\R\bin\R.exe CMD INSTALL dagLogo_1.24.0.zip && rm dagLogo_1.24.0.tar.gz dagLogo_1.24.0.zip
###
##############################################################################
##############################################################################
% Total % Received % Xferd Average Speed Time Time Time Current
Dload Upload Total Spent Left Speed
0 0 0 0 0 0 0 0 --:--:-- --:--:-- --:--:-- 0
56 2034k 56 1152k 0 0 3242k 0 --:--:-- --:--:-- --:--:-- 3272k
100 2034k 100 2034k 0 0 2528k 0 --:--:-- --:--:-- --:--:-- 2536k
install for i386
* installing *source* package 'dagLogo' ...
** using staged installation
** R
** data
** inst
** byte-compile and prepare package for lazy loading
** help
*** installing help indices
converting help for package 'dagLogo'
finding HTML links ... done
Proteome-class html
addScheme html
buildBackgroundModel html
buildZTestBackgroundModel html
cleanPeptides html
colorsets html
colorsets2 html
dagBackground-class html
dagHeatmap html
dagLogo-package html
dagLogo html
dagPeptides-class html
ecoli.proteome html
fetchSequence html
formatSequence html
getData html
getGroupingSymbol html
initiateBackgroundModel html
nameHash html
prepareProteome html
finding level-2 HTML links ... done
prepareProteomeByFTP html
prepareProteomeByUniProtWS html
proteome.example html
seq.example html
testDAU html
testDAUresults-class html
** building package indices
** installing vignettes
** testing if installed package can be loaded from temporary location
** testing if installed package can be loaded from final location
** testing if installed package keeps a record of temporary installation path
install for x64
* installing *source* package 'dagLogo' ...
** testing if installed package can be loaded
* MD5 sums
packaged installation of 'dagLogo' as dagLogo_1.24.0.zip
* DONE (dagLogo)
* installing to library 'C:/Users/biocbuild/bbs-3.10-bioc/R/library'
package 'dagLogo' successfully unpacked and MD5 sums checked