| Back to Multiple platform build/check report for BioC 3.10 |
|
This page was generated on 2020-04-15 12:16:46 -0400 (Wed, 15 Apr 2020).
| Package 404/1823 | Hostname | OS / Arch | INSTALL | BUILD | CHECK | BUILD BIN | ||||||
| daMA 1.58.0 Jobst Landgrebe
| malbec1 | Linux (Ubuntu 18.04.4 LTS) / x86_64 | OK | OK | OK | |||||||
| tokay1 | Windows Server 2012 R2 Standard / x64 | OK | OK | OK | [ OK ] | |||||||
| merida1 | OS X 10.11.6 El Capitan / x86_64 | OK | OK | OK | OK |
| Package: daMA |
| Version: 1.58.0 |
| Command: rm -rf daMA.buildbin-libdir && mkdir daMA.buildbin-libdir && C:\Users\biocbuild\bbs-3.10-bioc\R\bin\R.exe CMD INSTALL --merge-multiarch --build --library=daMA.buildbin-libdir daMA_1.58.0.tar.gz |
| StartedAt: 2020-04-15 08:31:59 -0400 (Wed, 15 Apr 2020) |
| EndedAt: 2020-04-15 08:32:23 -0400 (Wed, 15 Apr 2020) |
| EllapsedTime: 23.9 seconds |
| RetCode: 0 |
| Status: OK |
| PackageFile: daMA_1.58.0.zip |
| PackageFileSize: 4.074 MiB |
##############################################################################
##############################################################################
###
### Running command:
###
### rm -rf daMA.buildbin-libdir && mkdir daMA.buildbin-libdir && C:\Users\biocbuild\bbs-3.10-bioc\R\bin\R.exe CMD INSTALL --merge-multiarch --build --library=daMA.buildbin-libdir daMA_1.58.0.tar.gz
###
##############################################################################
##############################################################################
install for i386
* installing *source* package 'daMA' ...
** using staged installation
** R
** data
** byte-compile and prepare package for lazy loading
** help
*** installing help indices
converting help for package 'daMA'
finding HTML links ... done
analyseMA html
cinfo html
cinfoB.AB html
cmat html
cmatB.AB html
core html
data.3x2 html
designMA html
designs.basic html
designs.composite html
id.3x2 html
** building package indices
** testing if installed package can be loaded from temporary location
** testing if installed package can be loaded from final location
** testing if installed package keeps a record of temporary installation path
install for x64
* installing *source* package 'daMA' ...
** testing if installed package can be loaded
* MD5 sums
packaged installation of 'daMA' as daMA_1.58.0.zip
* DONE (daMA)