| Back to Multiple platform build/check report for BioC 3.10 |
|
This page was generated on 2020-04-15 12:31:44 -0400 (Wed, 15 Apr 2020).
| Package 399/1823 | Hostname | OS / Arch | INSTALL | BUILD | CHECK | BUILD BIN | ||||||
| cytofast 1.2.0 K.A. Stam
| malbec1 | Linux (Ubuntu 18.04.4 LTS) / x86_64 | OK | OK | WARNINGS | |||||||
| tokay1 | Windows Server 2012 R2 Standard / x64 | OK | OK | WARNINGS | [ OK ] | |||||||
| merida1 | OS X 10.11.6 El Capitan / x86_64 | OK | OK | WARNINGS | OK |
| Package: cytofast |
| Version: 1.2.0 |
| Command: rm -rf cytofast.buildbin-libdir && mkdir cytofast.buildbin-libdir && C:\Users\biocbuild\bbs-3.10-bioc\R\bin\R.exe CMD INSTALL --merge-multiarch --build --library=cytofast.buildbin-libdir cytofast_1.2.0.tar.gz |
| StartedAt: 2020-04-15 08:31:42 -0400 (Wed, 15 Apr 2020) |
| EndedAt: 2020-04-15 08:32:16 -0400 (Wed, 15 Apr 2020) |
| EllapsedTime: 33.9 seconds |
| RetCode: 0 |
| Status: OK |
| PackageFile: cytofast_1.2.0.zip |
| PackageFileSize: 1.433 MiB |
##############################################################################
##############################################################################
###
### Running command:
###
### rm -rf cytofast.buildbin-libdir && mkdir cytofast.buildbin-libdir && C:\Users\biocbuild\bbs-3.10-bioc\R\bin\R.exe CMD INSTALL --merge-multiarch --build --library=cytofast.buildbin-libdir cytofast_1.2.0.tar.gz
###
##############################################################################
##############################################################################
install for i386
* installing *source* package 'cytofast' ...
** using staged installation
** R
** data
*** moving datasets to lazyload DB
** inst
** byte-compile and prepare package for lazy loading
Creating a new generic function for 'expr' in package 'cytofast'
** help
*** installing help indices
converting help for package 'cytofast'
finding HTML links ... done
cellCounts html
cfList-class html
cytoBoxplots html
cytoHeatmaps html
cytottest html
drawTree html
msiPlot html
readCytosploreFCS html
spitzer html
sub-cfList-ANY-method html
** building package indices
** installing vignettes
** testing if installed package can be loaded from temporary location
** testing if installed package can be loaded from final location
** testing if installed package keeps a record of temporary installation path
install for x64
* installing *source* package 'cytofast' ...
** testing if installed package can be loaded
* MD5 sums
packaged installation of 'cytofast' as cytofast_1.2.0.zip
* DONE (cytofast)