| Back to Multiple platform build/check report for BioC 3.10 |
|
This page was generated on 2020-04-15 12:43:47 -0400 (Wed, 15 Apr 2020).
| Package 374/1823 | Hostname | OS / Arch | INSTALL | BUILD | CHECK | BUILD BIN | ||||||
| covEB 1.12.0 C. Pacini
| malbec1 | Linux (Ubuntu 18.04.4 LTS) / x86_64 | OK | OK | OK | |||||||
| tokay1 | Windows Server 2012 R2 Standard / x64 | OK | OK | OK | OK | |||||||
| merida1 | OS X 10.11.6 El Capitan / x86_64 | OK | OK | OK | [ OK ] |
| Package: covEB |
| Version: 1.12.0 |
| Command: rm -rf covEB.buildbin-libdir && mkdir covEB.buildbin-libdir && /Users/biocbuild/BBS/utils/build-universal.sh covEB_1.12.0.tar.gz /Library/Frameworks/R.framework/Versions/Current/Resources/bin/R covEB.buildbin-libdir |
| StartedAt: 2020-04-15 07:12:33 -0400 (Wed, 15 Apr 2020) |
| EndedAt: 2020-04-15 07:13:24 -0400 (Wed, 15 Apr 2020) |
| EllapsedTime: 50.3 seconds |
| RetCode: 0 |
| Status: OK |
| PackageFile: covEB_1.12.0.tgz |
| PackageFileSize: 111.6 KiB |
############################################################################## ############################################################################## ### ### Running command: ### ### rm -rf covEB.buildbin-libdir && mkdir covEB.buildbin-libdir && /Users/biocbuild/BBS/utils/build-universal.sh covEB_1.12.0.tar.gz /Library/Frameworks/R.framework/Versions/Current/Resources/bin/R covEB.buildbin-libdir ### ############################################################################## ############################################################################## >>>>>>> >>>>>>> INSTALLATION WITH 'R CMD INSTALL --preclean --no-multiarch --library=covEB.buildbin-libdir covEB_1.12.0.tar.gz' >>>>>>> * installing *source* package ‘covEB’ ... ** using staged installation ** R ** inst ** byte-compile and prepare package for lazy loading ** help *** installing help indices ** building package indices ** installing vignettes ** testing if installed package can be loaded from temporary location ** testing if installed package can be loaded from final location ** testing if installed package keeps a record of temporary installation path * DONE (covEB)