| Back to Multiple platform build/check report for BioC 3.10 |
|
This page was generated on 2020-04-15 12:31:29 -0400 (Wed, 15 Apr 2020).
| Package 343/1823 | Hostname | OS / Arch | INSTALL | BUILD | CHECK | BUILD BIN | ||||||
| compartmap 1.4.0 Benjamin Johnson
| malbec1 | Linux (Ubuntu 18.04.4 LTS) / x86_64 | OK | OK | WARNINGS | |||||||
| tokay1 | Windows Server 2012 R2 Standard / x64 | [ OK ] | OK | WARNINGS | OK | |||||||
| merida1 | OS X 10.11.6 El Capitan / x86_64 | OK | OK | WARNINGS | OK |
| Package: compartmap |
| Version: 1.4.0 |
| Command: C:\cygwin\bin\curl.exe -O https://malbec1.bioconductor.org/BBS/3.10/bioc/src/contrib/compartmap_1.4.0.tar.gz && rm -rf compartmap.buildbin-libdir && mkdir compartmap.buildbin-libdir && C:\Users\biocbuild\bbs-3.10-bioc\R\bin\R.exe CMD INSTALL --merge-multiarch --build --library=compartmap.buildbin-libdir compartmap_1.4.0.tar.gz && C:\Users\biocbuild\bbs-3.10-bioc\R\bin\R.exe CMD INSTALL compartmap_1.4.0.zip && rm compartmap_1.4.0.tar.gz compartmap_1.4.0.zip |
| StartedAt: 2020-04-14 20:34:05 -0400 (Tue, 14 Apr 2020) |
| EndedAt: 2020-04-14 20:35:12 -0400 (Tue, 14 Apr 2020) |
| EllapsedTime: 67.5 seconds |
| RetCode: 0 |
| Status: OK |
##############################################################################
##############################################################################
###
### Running command:
###
### C:\cygwin\bin\curl.exe -O https://malbec1.bioconductor.org/BBS/3.10/bioc/src/contrib/compartmap_1.4.0.tar.gz && rm -rf compartmap.buildbin-libdir && mkdir compartmap.buildbin-libdir && C:\Users\biocbuild\bbs-3.10-bioc\R\bin\R.exe CMD INSTALL --merge-multiarch --build --library=compartmap.buildbin-libdir compartmap_1.4.0.tar.gz && C:\Users\biocbuild\bbs-3.10-bioc\R\bin\R.exe CMD INSTALL compartmap_1.4.0.zip && rm compartmap_1.4.0.tar.gz compartmap_1.4.0.zip
###
##############################################################################
##############################################################################
% Total % Received % Xferd Average Speed Time Time Time Current
Dload Upload Total Spent Left Speed
0 0 0 0 0 0 0 0 --:--:-- --:--:-- --:--:-- 0
100 3081k 100 3081k 0 0 35.0M 0 --:--:-- --:--:-- --:--:-- 36.6M
install for i386
* installing *source* package 'compartmap' ...
** using staged installation
** R
** data
** inst
** byte-compile and prepare package for lazy loading
** help
*** installing help indices
converting help for package 'compartmap'
finding HTML links ... done
array.data.chr14 html
filtered.data.chr14 html
fisherZ html
getABSignal html
getATACABsignal html
getArrayABsignal html
getBinMatrix html
getCompartments html
getCorMatrix html
ifisherZ html
plotAB html
** building package indices
** installing vignettes
'compartmap_vignette.Rmd' using 'UTF-8'
** testing if installed package can be loaded from temporary location
** testing if installed package can be loaded from final location
** testing if installed package keeps a record of temporary installation path
install for x64
* installing *source* package 'compartmap' ...
** testing if installed package can be loaded
* MD5 sums
packaged installation of 'compartmap' as compartmap_1.4.0.zip
* DONE (compartmap)
* installing to library 'C:/Users/biocbuild/bbs-3.10-bioc/R/library'
package 'compartmap' successfully unpacked and MD5 sums checked