| Back to Multiple platform build/check report for BioC 3.10 |
|
This page was generated on 2020-04-15 12:21:24 -0400 (Wed, 15 Apr 2020).
| Package 268/1823 | Hostname | OS / Arch | INSTALL | BUILD | CHECK | BUILD BIN | ||||||
| chimera 1.28.0 Raffaele A Calogero
| malbec1 | Linux (Ubuntu 18.04.4 LTS) / x86_64 | OK | OK | OK | |||||||
| tokay1 | Windows Server 2012 R2 Standard / x64 | [ OK ] | ERROR | skipped | skipped | |||||||
| merida1 | OS X 10.11.6 El Capitan / x86_64 | OK | OK | OK | OK |
| Package: chimera |
| Version: 1.28.0 |
| Command: C:\cygwin\bin\curl.exe -O https://malbec1.bioconductor.org/BBS/3.10/bioc/src/contrib/chimera_1.28.0.tar.gz && rm -rf chimera.buildbin-libdir && mkdir chimera.buildbin-libdir && C:\Users\biocbuild\bbs-3.10-bioc\R\bin\R.exe CMD INSTALL --merge-multiarch --build --library=chimera.buildbin-libdir chimera_1.28.0.tar.gz && C:\Users\biocbuild\bbs-3.10-bioc\R\bin\R.exe CMD INSTALL chimera_1.28.0.zip && rm chimera_1.28.0.tar.gz chimera_1.28.0.zip |
| StartedAt: 2020-04-14 20:08:46 -0400 (Tue, 14 Apr 2020) |
| EndedAt: 2020-04-14 20:11:10 -0400 (Tue, 14 Apr 2020) |
| EllapsedTime: 144.2 seconds |
| RetCode: 0 |
| Status: OK |
##############################################################################
##############################################################################
###
### Running command:
###
### C:\cygwin\bin\curl.exe -O https://malbec1.bioconductor.org/BBS/3.10/bioc/src/contrib/chimera_1.28.0.tar.gz && rm -rf chimera.buildbin-libdir && mkdir chimera.buildbin-libdir && C:\Users\biocbuild\bbs-3.10-bioc\R\bin\R.exe CMD INSTALL --merge-multiarch --build --library=chimera.buildbin-libdir chimera_1.28.0.tar.gz && C:\Users\biocbuild\bbs-3.10-bioc\R\bin\R.exe CMD INSTALL chimera_1.28.0.zip && rm chimera_1.28.0.tar.gz chimera_1.28.0.zip
###
##############################################################################
##############################################################################
% Total % Received % Xferd Average Speed Time Time Time Current
Dload Upload Total Spent Left Speed
0 0 0 0 0 0 0 0 --:--:-- --:--:-- --:--:-- 0
100 2016k 100 2016k 0 0 9879k 0 --:--:-- --:--:-- --:--:-- 9.8M
install for i386
* installing *source* package 'chimera' ...
** using staged installation
** libs
C:/Rtools/mingw_32/bin/g++ -std=gnu++11 -I"C:/Users/BIOCBU~1/BBS-3~1.10-/R/include" -DNDEBUG -I"C:/extsoft/include" -O2 -Wall -mtune=core2 -c StarParser.cpp -o StarParser.o
C:/Rtools/mingw_32/bin/g++ -std=gnu++11 -shared -s -static-libgcc -o chimera.dll tmp.def StarParser.o -LC:/extsoft/lib/i386 -LC:/extsoft/lib -LC:/Users/BIOCBU~1/BBS-3~1.10-/R/bin/i386 -lR
installing to C:/Users/biocbuild/bbs-3.10-bioc/meat/chimera.buildbin-libdir/00LOCK-chimera/00new/chimera/libs/i386
** R
** inst
** byte-compile and prepare package for lazy loading
** help
*** installing help indices
converting help for package 'chimera'
finding HTML links ... done
MHmakeRandomString html
bam2fastq html
breakpointOverlaps html
chimera-package html
chimeraSeqSet html
chimeraSeqs html
class.fSet html
defuseTPTN html
filterList html
filterSamReads html
fusionName html
fusionPeptides html
gapfillerInstallation html
gapfillerRun html
gapfillerWrap html
importFusionData html
is.fSet html
newfSet html
oncofuseInstallation html
oncofuseRun html
picardInstallation html
plotCoverage html
prettyPrint html
removingErrorLine html
starInstallation html
starReads html
starRun html
subreadRun html
supportingReads html
tophatInstallation html
tophatRun html
validateSamFile html
** building package indices
** installing vignettes
** testing if installed package can be loaded from temporary location
** testing if installed package can be loaded from final location
** testing if installed package keeps a record of temporary installation path
install for x64
* installing *source* package 'chimera' ...
** libs
C:/Rtools/mingw_64/bin/g++ -std=gnu++11 -I"C:/Users/BIOCBU~1/BBS-3~1.10-/R/include" -DNDEBUG -I"C:/extsoft/include" -O2 -Wall -mtune=core2 -c StarParser.cpp -o StarParser.o
C:/Rtools/mingw_64/bin/g++ -std=gnu++11 -shared -s -static-libgcc -o chimera.dll tmp.def StarParser.o -LC:/extsoft/lib/x64 -LC:/extsoft/lib -LC:/Users/BIOCBU~1/BBS-3~1.10-/R/bin/x64 -lR
installing to C:/Users/biocbuild/bbs-3.10-bioc/meat/chimera.buildbin-libdir/chimera/libs/x64
** testing if installed package can be loaded
* MD5 sums
packaged installation of 'chimera' as chimera_1.28.0.zip
* DONE (chimera)
* installing to library 'C:/Users/biocbuild/bbs-3.10-bioc/R/library'
package 'chimera' successfully unpacked and MD5 sums checked