| Back to Multiple platform build/check report for BioC 3.10 |
|
This page was generated on 2020-04-15 12:20:33 -0400 (Wed, 15 Apr 2020).
| Package 182/1823 | Hostname | OS / Arch | INSTALL | BUILD | CHECK | BUILD BIN | ||||||
| birta 1.30.0 Benedikt Zacher
| malbec1 | Linux (Ubuntu 18.04.4 LTS) / x86_64 | OK | OK | OK | |||||||
| tokay1 | Windows Server 2012 R2 Standard / x64 | [ OK ] | OK | WARNINGS | OK | |||||||
| merida1 | OS X 10.11.6 El Capitan / x86_64 | OK | OK | OK | OK |
| Package: birta |
| Version: 1.30.0 |
| Command: C:\cygwin\bin\curl.exe -O https://malbec1.bioconductor.org/BBS/3.10/bioc/src/contrib/birta_1.30.0.tar.gz && rm -rf birta.buildbin-libdir && mkdir birta.buildbin-libdir && C:\Users\biocbuild\bbs-3.10-bioc\R\bin\R.exe CMD INSTALL --merge-multiarch --build --library=birta.buildbin-libdir birta_1.30.0.tar.gz && C:\Users\biocbuild\bbs-3.10-bioc\R\bin\R.exe CMD INSTALL birta_1.30.0.zip && rm birta_1.30.0.tar.gz birta_1.30.0.zip |
| StartedAt: 2020-04-14 18:40:02 -0400 (Tue, 14 Apr 2020) |
| EndedAt: 2020-04-14 18:40:36 -0400 (Tue, 14 Apr 2020) |
| EllapsedTime: 34.0 seconds |
| RetCode: 0 |
| Status: OK |
##############################################################################
##############################################################################
###
### Running command:
###
### C:\cygwin\bin\curl.exe -O https://malbec1.bioconductor.org/BBS/3.10/bioc/src/contrib/birta_1.30.0.tar.gz && rm -rf birta.buildbin-libdir && mkdir birta.buildbin-libdir && C:\Users\biocbuild\bbs-3.10-bioc\R\bin\R.exe CMD INSTALL --merge-multiarch --build --library=birta.buildbin-libdir birta_1.30.0.tar.gz && C:\Users\biocbuild\bbs-3.10-bioc\R\bin\R.exe CMD INSTALL birta_1.30.0.zip && rm birta_1.30.0.tar.gz birta_1.30.0.zip
###
##############################################################################
##############################################################################
% Total % Received % Xferd Average Speed Time Time Time Current
Dload Upload Total Spent Left Speed
0 0 0 0 0 0 0 0 --:--:-- --:--:-- --:--:-- 0
100 432k 100 432k 0 0 11.6M 0 --:--:-- --:--:-- --:--:-- 12.7M
install for i386
* installing *source* package 'birta' ...
** using staged installation
** libs
C:/Rtools/mingw_32/bin/g++ -std=gnu++11 -I"C:/Users/BIOCBU~1/BBS-3~1.10-/R/include" -DNDEBUG -I"C:/extsoft/include" -O2 -Wall -mtune=core2 -c BayesNetwork.cpp -o BayesNetwork.o
C:/Rtools/mingw_32/bin/g++ -std=gnu++11 -I"C:/Users/BIOCBU~1/BBS-3~1.10-/R/include" -DNDEBUG -I"C:/extsoft/include" -O2 -Wall -mtune=core2 -c BayesNetworkNC.cpp -o BayesNetworkNC.o
C:/Rtools/mingw_32/bin/g++ -std=gnu++11 -I"C:/Users/BIOCBU~1/BBS-3~1.10-/R/include" -DNDEBUG -I"C:/extsoft/include" -O2 -Wall -mtune=core2 -c getStates.cpp -o getStates.o
C:/Rtools/mingw_32/bin/g++ -std=gnu++11 -shared -s -static-libgcc -o birta.dll tmp.def BayesNetwork.o BayesNetworkNC.o getStates.o -LC:/extsoft/lib/i386 -LC:/extsoft/lib -LC:/Users/BIOCBU~1/BBS-3~1.10-/R/bin/i386 -lR
installing to C:/Users/biocbuild/bbs-3.10-bioc/meat/birta.buildbin-libdir/00LOCK-birta/00new/birta/libs/i386
** R
** data
** inst
** byte-compile and prepare package for lazy loading
** help
*** installing help indices
converting help for package 'birta'
finding HTML links ... done
EColiNetwork html
EColiOxygen html
TFexpr html
birta-methods html
birta-package html
birta.run html
genesets html
get_potential_swaps html
limmaAnalysis-methods html
limmaAnalysis html
plotConvergence html
Rd warning: C:/Users/biocbuild/bbs-3.10-bioc/tmpdir/RtmpULXA9J/R.INSTALLf885da83e63/birta/man/plotConvergence.Rd:17: file link 'birta' in package 'birta' does not exist and so has been treated as a topic
potential_swaps html
sim html
** building package indices
** installing vignettes
** testing if installed package can be loaded from temporary location
** testing if installed package can be loaded from final location
** testing if installed package keeps a record of temporary installation path
install for x64
* installing *source* package 'birta' ...
** libs
C:/Rtools/mingw_64/bin/g++ -std=gnu++11 -I"C:/Users/BIOCBU~1/BBS-3~1.10-/R/include" -DNDEBUG -I"C:/extsoft/include" -O2 -Wall -mtune=core2 -c BayesNetwork.cpp -o BayesNetwork.o
C:/Rtools/mingw_64/bin/g++ -std=gnu++11 -I"C:/Users/BIOCBU~1/BBS-3~1.10-/R/include" -DNDEBUG -I"C:/extsoft/include" -O2 -Wall -mtune=core2 -c BayesNetworkNC.cpp -o BayesNetworkNC.o
C:/Rtools/mingw_64/bin/g++ -std=gnu++11 -I"C:/Users/BIOCBU~1/BBS-3~1.10-/R/include" -DNDEBUG -I"C:/extsoft/include" -O2 -Wall -mtune=core2 -c getStates.cpp -o getStates.o
C:/Rtools/mingw_64/bin/g++ -std=gnu++11 -shared -s -static-libgcc -o birta.dll tmp.def BayesNetwork.o BayesNetworkNC.o getStates.o -LC:/extsoft/lib/x64 -LC:/extsoft/lib -LC:/Users/BIOCBU~1/BBS-3~1.10-/R/bin/x64 -lR
installing to C:/Users/biocbuild/bbs-3.10-bioc/meat/birta.buildbin-libdir/birta/libs/x64
** testing if installed package can be loaded
* MD5 sums
packaged installation of 'birta' as birta_1.30.0.zip
* DONE (birta)
* installing to library 'C:/Users/biocbuild/bbs-3.10-bioc/R/library'
package 'birta' successfully unpacked and MD5 sums checked