| Back to Multiple platform build/check report for BioC 3.10 |
|
This page was generated on 2020-04-15 12:17:10 -0400 (Wed, 15 Apr 2020).
| Package 165/1823 | Hostname | OS / Arch | INSTALL | BUILD | CHECK | BUILD BIN | ||||||
| bioDist 1.58.0 Bioconductor Package Maintainer
| malbec1 | Linux (Ubuntu 18.04.4 LTS) / x86_64 | OK | OK | OK | |||||||
| tokay1 | Windows Server 2012 R2 Standard / x64 | [ OK ] | OK | OK | OK | |||||||
| merida1 | OS X 10.11.6 El Capitan / x86_64 | OK | OK | OK | OK |
| Package: bioDist |
| Version: 1.58.0 |
| Command: C:\cygwin\bin\curl.exe -O https://malbec1.bioconductor.org/BBS/3.10/bioc/src/contrib/bioDist_1.58.0.tar.gz && rm -rf bioDist.buildbin-libdir && mkdir bioDist.buildbin-libdir && C:\Users\biocbuild\bbs-3.10-bioc\R\bin\R.exe CMD INSTALL --merge-multiarch --build --library=bioDist.buildbin-libdir bioDist_1.58.0.tar.gz && C:\Users\biocbuild\bbs-3.10-bioc\R\bin\R.exe CMD INSTALL bioDist_1.58.0.zip && rm bioDist_1.58.0.tar.gz bioDist_1.58.0.zip |
| StartedAt: 2020-04-14 19:00:49 -0400 (Tue, 14 Apr 2020) |
| EndedAt: 2020-04-14 19:01:04 -0400 (Tue, 14 Apr 2020) |
| EllapsedTime: 15.5 seconds |
| RetCode: 0 |
| Status: OK |
##############################################################################
##############################################################################
###
### Running command:
###
### C:\cygwin\bin\curl.exe -O https://malbec1.bioconductor.org/BBS/3.10/bioc/src/contrib/bioDist_1.58.0.tar.gz && rm -rf bioDist.buildbin-libdir && mkdir bioDist.buildbin-libdir && C:\Users\biocbuild\bbs-3.10-bioc\R\bin\R.exe CMD INSTALL --merge-multiarch --build --library=bioDist.buildbin-libdir bioDist_1.58.0.tar.gz && C:\Users\biocbuild\bbs-3.10-bioc\R\bin\R.exe CMD INSTALL bioDist_1.58.0.zip && rm bioDist_1.58.0.tar.gz bioDist_1.58.0.zip
###
##############################################################################
##############################################################################
% Total % Received % Xferd Average Speed Time Time Time Current
Dload Upload Total Spent Left Speed
0 0 0 0 0 0 0 0 --:--:-- --:--:-- --:--:-- 0
0 0 0 0 0 0 0 0 --:--:-- --:--:-- --:--:-- 0
100 9668 100 9668 0 0 268k 0 --:--:-- --:--:-- --:--:-- 295k
install for i386
* installing *source* package 'bioDist' ...
** using staged installation
** R
** byte-compile and prepare package for lazy loading
** help
*** installing help indices
converting help for package 'bioDist'
finding HTML links ... done
KLD.matrix html
KLdist.matrix html
closest.top html
cor.dist html
euc html
man html
mutualInfo html
spearman.dist html
tau.dist html
** building package indices
** installing vignettes
** testing if installed package can be loaded from temporary location
** testing if installed package can be loaded from final location
** testing if installed package keeps a record of temporary installation path
install for x64
* installing *source* package 'bioDist' ...
** testing if installed package can be loaded
* MD5 sums
packaged installation of 'bioDist' as bioDist_1.58.0.zip
* DONE (bioDist)
* installing to library 'C:/Users/biocbuild/bbs-3.10-bioc/R/library'
package 'bioDist' successfully unpacked and MD5 sums checked