| Back to Multiple platform build/check report for BioC 3.10 |
|
This page was generated on 2020-04-15 12:16:46 -0400 (Wed, 15 Apr 2020).
| Package 58/1823 | Hostname | OS / Arch | INSTALL | BUILD | CHECK | BUILD BIN | ||||||
| annaffy 1.58.0 Colin A. Smith
| malbec1 | Linux (Ubuntu 18.04.4 LTS) / x86_64 | OK | OK | OK | |||||||
| tokay1 | Windows Server 2012 R2 Standard / x64 | OK | OK | OK | [ OK ] | |||||||
| merida1 | OS X 10.11.6 El Capitan / x86_64 | OK | OK | OK | OK |
| Package: annaffy |
| Version: 1.58.0 |
| Command: rm -rf annaffy.buildbin-libdir && mkdir annaffy.buildbin-libdir && C:\Users\biocbuild\bbs-3.10-bioc\R\bin\R.exe CMD INSTALL --merge-multiarch --build --library=annaffy.buildbin-libdir annaffy_1.58.0.tar.gz |
| StartedAt: 2020-04-15 08:10:12 -0400 (Wed, 15 Apr 2020) |
| EndedAt: 2020-04-15 08:11:01 -0400 (Wed, 15 Apr 2020) |
| EllapsedTime: 49.5 seconds |
| RetCode: 0 |
| Status: OK |
| PackageFile: annaffy_1.58.0.zip |
| PackageFileSize: 577.7 KiB |
##############################################################################
##############################################################################
###
### Running command:
###
### rm -rf annaffy.buildbin-libdir && mkdir annaffy.buildbin-libdir && C:\Users\biocbuild\bbs-3.10-bioc\R\bin\R.exe CMD INSTALL --merge-multiarch --build --library=annaffy.buildbin-libdir annaffy_1.58.0.tar.gz
###
##############################################################################
##############################################################################
install for i386
* installing *source* package 'annaffy' ...
** using staged installation
** R
** data
** inst
** byte-compile and prepare package for lazy loading
** help
*** installing help indices
converting help for package 'annaffy'
finding HTML links ... done
aaf.character html
aaf.goterm html
aaf.handler html
aaf.integer html
aaf.raw html
aafChromLoc-class html
aafChromLoc html
aafChromosome-class html
aafChromosome html
aafCytoband-class html
aafCytoband html
aafDescription-class html
aafDescription html
aafExpr html
aafGO-class html
aafGO html
aafGOItem-class html
aafGenBank-class html
aafGenBank html
aafIntensity-class html
aafList-class html
aafLocusLink-class html
aafLocusLink html
aafPathway-class html
aafPathway html
aafPathwayItem-class html
aafProbe-class html
aafProbe html
aafPubMed-class html
aafPubMed html
aafSearchGO html
aafSearchText html
aafSigned-class html
aafSymbol-class html
aafSymbol html
aafTable-class html
aafTable html
aafTableAnn html
aafTableFrame html
aafTableInt html
aafUniGene-class html
aafUniGene html
chkPkgs html
getCSS-methods html
getHTML-methods html
getTD-methods html
getText-methods html
getURL-methods html
is.annpkg html
selectorWidget html
** building package indices
** installing vignettes
** testing if installed package can be loaded from temporary location
** testing if installed package can be loaded from final location
** testing if installed package keeps a record of temporary installation path
install for x64
* installing *source* package 'annaffy' ...
** testing if installed package can be loaded
* MD5 sums
packaged installation of 'annaffy' as annaffy_1.58.0.zip
* DONE (annaffy)