| Back to Multiple platform build/check report for BioC 3.10 |
|
This page was generated on 2020-04-15 12:31:44 -0400 (Wed, 15 Apr 2020).
| Package 19/1823 | Hostname | OS / Arch | INSTALL | BUILD | CHECK | BUILD BIN | ||||||
| adductomicsR 1.2.0 Josie Hayes
| malbec1 | Linux (Ubuntu 18.04.4 LTS) / x86_64 | OK | OK | WARNINGS | |||||||
| tokay1 | Windows Server 2012 R2 Standard / x64 | OK | OK | WARNINGS | [ OK ] | |||||||
| merida1 | OS X 10.11.6 El Capitan / x86_64 | OK | OK | WARNINGS | OK |
| Package: adductomicsR |
| Version: 1.2.0 |
| Command: rm -rf adductomicsR.buildbin-libdir && mkdir adductomicsR.buildbin-libdir && C:\Users\biocbuild\bbs-3.10-bioc\R\bin\R.exe CMD INSTALL --merge-multiarch --build --library=adductomicsR.buildbin-libdir adductomicsR_1.2.0.tar.gz |
| StartedAt: 2020-04-15 08:07:46 -0400 (Wed, 15 Apr 2020) |
| EndedAt: 2020-04-15 08:10:30 -0400 (Wed, 15 Apr 2020) |
| EllapsedTime: 164.0 seconds |
| RetCode: 0 |
| Status: OK |
| PackageFile: adductomicsR_1.2.0.zip |
| PackageFileSize: 1.156 MiB |
##############################################################################
##############################################################################
###
### Running command:
###
### rm -rf adductomicsR.buildbin-libdir && mkdir adductomicsR.buildbin-libdir && C:\Users\biocbuild\bbs-3.10-bioc\R\bin\R.exe CMD INSTALL --merge-multiarch --build --library=adductomicsR.buildbin-libdir adductomicsR_1.2.0.tar.gz
###
##############################################################################
##############################################################################
install for i386
* installing *source* package 'adductomicsR' ...
** using staged installation
** R
** inst
** byte-compile and prepare package for lazy loading
** help
*** installing help indices
converting help for package 'adductomicsR'
finding HTML links ... done
IsotopicDistributionMod html
adductQuant html
adductQuantif-class html
adductSpec-class html
adductSpecGen html
digestMod html
finding level-2 HTML links ... done
dotProdMatrix html
dotProdSpectra html
dynamicNoiseFilter html
filterAdductTable html
findPeaks html
generateTargTable html
loessWrapperMod html
ms2Group html
nAdjPeaks html
outputPeakTable html
peakIdQuant_newMethod html
peakIntegrate html
peakListId html
peakRangeSum html
probPeaks html
retentionCorr html
rtDevModelSave html
rtDevModelling html
signalGrouping html
specSimPepId html
spectraCreate html
truePeakTrough html
** building package indices
** installing vignettes
** testing if installed package can be loaded from temporary location
** testing if installed package can be loaded from final location
** testing if installed package keeps a record of temporary installation path
install for x64
* installing *source* package 'adductomicsR' ...
** testing if installed package can be loaded
* MD5 sums
packaged installation of 'adductomicsR' as adductomicsR_1.2.0.zip
* DONE (adductomicsR)