| Back to Multiple platform build/check report for BioC 3.10 |
|
This page was generated on 2020-04-15 12:36:57 -0400 (Wed, 15 Apr 2020).
| Package 6/1823 | Hostname | OS / Arch | INSTALL | BUILD | CHECK | BUILD BIN | ||||||
| a4Reporting 1.34.0 Tobias Verbeke
| malbec1 | Linux (Ubuntu 18.04.4 LTS) / x86_64 | OK | OK | OK | |||||||
| tokay1 | Windows Server 2012 R2 Standard / x64 | OK | OK | OK | OK | |||||||
| merida1 | OS X 10.11.6 El Capitan / x86_64 | OK | OK | OK | [ OK ] |
| Package: a4Reporting |
| Version: 1.34.0 |
| Command: rm -rf a4Reporting.buildbin-libdir && mkdir a4Reporting.buildbin-libdir && /Users/biocbuild/BBS/utils/build-universal.sh a4Reporting_1.34.0.tar.gz /Library/Frameworks/R.framework/Versions/Current/Resources/bin/R a4Reporting.buildbin-libdir |
| StartedAt: 2020-04-15 06:46:03 -0400 (Wed, 15 Apr 2020) |
| EndedAt: 2020-04-15 06:46:20 -0400 (Wed, 15 Apr 2020) |
| EllapsedTime: 16.2 seconds |
| RetCode: 0 |
| Status: OK |
| PackageFile: a4Reporting_1.34.0.tgz |
| PackageFileSize: 135.9 KiB |
############################################################################## ############################################################################## ### ### Running command: ### ### rm -rf a4Reporting.buildbin-libdir && mkdir a4Reporting.buildbin-libdir && /Users/biocbuild/BBS/utils/build-universal.sh a4Reporting_1.34.0.tar.gz /Library/Frameworks/R.framework/Versions/Current/Resources/bin/R a4Reporting.buildbin-libdir ### ############################################################################## ############################################################################## >>>>>>> >>>>>>> INSTALLATION WITH 'R CMD INSTALL --preclean --no-multiarch --library=a4Reporting.buildbin-libdir a4Reporting_1.34.0.tar.gz' >>>>>>> * installing *source* package ‘a4Reporting’ ... ** using staged installation ** R ** inst ** byte-compile and prepare package for lazy loading ** help *** installing help indices ** building package indices ** testing if installed package can be loaded from temporary location ** testing if installed package can be loaded from final location ** testing if installed package keeps a record of temporary installation path * DONE (a4Reporting)