| Back to Multiple platform build/check report for BioC 3.10 |
|
This page was generated on 2020-04-15 12:25:08 -0400 (Wed, 15 Apr 2020).
| Package 1808/1823 | Hostname | OS / Arch | INSTALL | BUILD | CHECK | BUILD BIN | ||||||
| XBSeq 1.18.0 Yuanhang Liu
| malbec1 | Linux (Ubuntu 18.04.4 LTS) / x86_64 | OK | OK | OK | |||||||
| tokay1 | Windows Server 2012 R2 Standard / x64 | OK | OK | [ OK ] | OK | |||||||
| merida1 | OS X 10.11.6 El Capitan / x86_64 | OK | OK | OK | OK |
| Package: XBSeq |
| Version: 1.18.0 |
| Command: C:\Users\biocbuild\bbs-3.10-bioc\R\bin\R.exe CMD check --force-multiarch --install=check:XBSeq.install-out.txt --library=C:\Users\biocbuild\bbs-3.10-bioc\R\library --no-vignettes --timings XBSeq_1.18.0.tar.gz |
| StartedAt: 2020-04-15 07:26:17 -0400 (Wed, 15 Apr 2020) |
| EndedAt: 2020-04-15 07:44:37 -0400 (Wed, 15 Apr 2020) |
| EllapsedTime: 1099.8 seconds |
| RetCode: 0 |
| Status: OK |
| CheckDir: XBSeq.Rcheck |
| Warnings: 0 |
##############################################################################
##############################################################################
###
### Running command:
###
### C:\Users\biocbuild\bbs-3.10-bioc\R\bin\R.exe CMD check --force-multiarch --install=check:XBSeq.install-out.txt --library=C:\Users\biocbuild\bbs-3.10-bioc\R\library --no-vignettes --timings XBSeq_1.18.0.tar.gz
###
##############################################################################
##############################################################################
* using log directory 'C:/Users/biocbuild/bbs-3.10-bioc/meat/XBSeq.Rcheck'
* using R version 3.6.3 (2020-02-29)
* using platform: x86_64-w64-mingw32 (64-bit)
* using session charset: ISO8859-1
* using option '--no-vignettes'
* checking for file 'XBSeq/DESCRIPTION' ... OK
* checking extension type ... Package
* this is package 'XBSeq' version '1.18.0'
* checking package namespace information ... OK
* checking package dependencies ... OK
* checking if this is a source package ... OK
* checking if there is a namespace ... OK
* checking for hidden files and directories ... OK
* checking for portable file names ... OK
* checking whether package 'XBSeq' can be installed ... OK
* checking installed package size ... OK
* checking package directory ... OK
* checking 'build' directory ... OK
* checking DESCRIPTION meta-information ... OK
* checking top-level files ... OK
* checking for left-over files ... OK
* checking index information ... OK
* checking package subdirectories ... OK
* checking R files for non-ASCII characters ... OK
* checking R files for syntax errors ... OK
* loading checks for arch 'i386'
** checking whether the package can be loaded ... OK
** checking whether the package can be loaded with stated dependencies ... OK
** checking whether the package can be unloaded cleanly ... OK
** checking whether the namespace can be loaded with stated dependencies ... NOTE
Warning: no function found corresponding to methods exports from 'XBSeq' for: 'conditions', 'conditions<-', 'dispTable'
A namespace must be able to be loaded with just the base namespace
loaded: otherwise if the namespace gets loaded by a saved object, the
session will be unable to start.
Probably some imports need to be declared in the NAMESPACE file.
** checking whether the namespace can be unloaded cleanly ... OK
* loading checks for arch 'x64'
** checking whether the package can be loaded ... OK
** checking whether the package can be loaded with stated dependencies ... OK
** checking whether the package can be unloaded cleanly ... OK
** checking whether the namespace can be loaded with stated dependencies ... NOTE
Warning: no function found corresponding to methods exports from 'XBSeq' for: 'conditions', 'conditions<-', 'dispTable'
A namespace must be able to be loaded with just the base namespace
loaded: otherwise if the namespace gets loaded by a saved object, the
session will be unable to start.
Probably some imports need to be declared in the NAMESPACE file.
** checking whether the namespace can be unloaded cleanly ... OK
* checking dependencies in R code ... OK
* checking S3 generic/method consistency ... OK
* checking replacement functions ... OK
* checking foreign function calls ... OK
* checking R code for possible problems ... NOTE
Loglikhood : <anonymous>: no visible global function definition for
'ddelap'
Loglikhood : <anonymous>: no visible global function definition for
'dpois'
Loglikhood_NB : <anonymous>: no visible global function definition for
'dnbinom'
MAplot: no visible binding for global variable 'baseMean'
MAplot: no visible global function definition for 'quantile'
MAplot: no visible binding for global variable 'log2FoldChange'
XBSeqDataSet: no visible global function definition for 'DataFrame'
XBSeqDataSet: no visible global function definition for
'SummarizedExperiment'
XBSeqDataSet: no visible global function definition for 'formula'
XBSeqTest: no visible global function definition for 'dispTable'
XBSeqTest: no visible global function definition for 'conditions'
XBSeqTest: no visible global function definition for 'p.adjust'
XBSeqTestForMatrices : <anonymous>: no visible global function
definition for 'dnbinom'
XBplot: no visible global function definition for 'median'
XBplot: no visible binding for global variable 'Sample'
XBplot: no visible binding for global variable 'Group'
XBplot: no visible binding for global variable '..count..'
adjustScv: no visible global function definition for 'data'
adjustScv: no visible binding for global variable
'scvBiasCorrectionFits'
estimation_param_PoissonNB_MLE: no visible global function definition
for 'optim'
estimation_param_PoissonNB_MLE_NB: no visible global function
definition for 'optim'
exactTestBetaApprox: no visible global function definition for 'qbeta'
exactTestBetaApprox: no visible global function definition for 'pbeta'
getSignalVars: no visible global function definition for 'cor'
parametricscvFit: no visible global function definition for 'glm'
parametricscvFit: no visible global function definition for 'Gamma'
parametricscvFit: no visible global function definition for
'coefficients'
plotSCVEsts: no visible global function definition for 'complete.cases'
predict_helper: no visible global function definition for 'predict'
prepareScvBiasCorrectionFits : <anonymous> : <anonymous>: no visible
global function definition for 'rnbinom'
counts,XBSeqDataSet: no visible global function definition for 'assays'
counts,XBSeqDataSet: no visible global function definition for 'assay'
estimateRealCount,XBSeqDataSet: no visible global function definition
for 'assay'
estimateRealCount,XBSeqDataSet: no visible global function definition
for 'assay<-'
estimateSCV,XBSeqDataSet: no visible global function definition for
'conditions'
estimateSCV,XBSeqDataSet: no visible global function definition for
'dispTable<-'
Undefined global functions or variables:
..count.. DataFrame Gamma Group Sample SummarizedExperiment assay
assay<- assays baseMean coefficients complete.cases conditions cor
data ddelap dispTable dispTable<- dnbinom dpois formula glm
log2FoldChange median optim p.adjust pbeta predict qbeta quantile
rnbinom scvBiasCorrectionFits
Consider adding
importFrom("stats", "Gamma", "coefficients", "complete.cases", "cor",
"dnbinom", "dpois", "formula", "glm", "median", "optim",
"p.adjust", "pbeta", "predict", "qbeta", "quantile",
"rnbinom")
importFrom("utils", "data")
to your NAMESPACE file.
* checking Rd files ... OK
* checking Rd metadata ... OK
* checking Rd cross-references ... OK
* checking for missing documentation entries ... OK
* checking for code/documentation mismatches ... OK
* checking Rd \usage sections ... OK
* checking Rd contents ... OK
* checking for unstated dependencies in examples ... OK
* checking contents of 'data' directory ... OK
* checking data for non-ASCII characters ... OK
* checking data for ASCII and uncompressed saves ... OK
* checking installed files from 'inst/doc' ... OK
* checking files in 'vignettes' ... OK
* checking examples ...
** running examples for arch 'i386' ... OK
Examples with CPU or elapsed time > 5s
user system elapsed
MAplot 85.81 0.71 86.53
XBSeq 78.27 0.08 78.38
XBSeqTest 71.17 0.25 71.42
** running examples for arch 'x64' ... OK
Examples with CPU or elapsed time > 5s
user system elapsed
MAplot 64.03 0.17 64.21
XBSeqTest 62.83 0.02 62.85
XBSeq 62.60 0.06 62.65
* checking for unstated dependencies in 'tests' ... OK
* checking tests ...
** running tests for arch 'i386' ...
Running 'testthat.R'
OK
** running tests for arch 'x64' ...
Running 'testthat.R'
OK
* checking for unstated dependencies in vignettes ... OK
* checking package vignettes in 'inst/doc' ... OK
* checking running R code from vignettes ... SKIPPED
* checking re-building of vignette outputs ... SKIPPED
* checking PDF version of manual ... OK
* DONE
Status: 3 NOTEs
See
'C:/Users/biocbuild/bbs-3.10-bioc/meat/XBSeq.Rcheck/00check.log'
for details.
XBSeq.Rcheck/00install.out
##############################################################################
##############################################################################
###
### Running command:
###
### C:\cygwin\bin\curl.exe -O https://malbec1.bioconductor.org/BBS/3.10/bioc/src/contrib/XBSeq_1.18.0.tar.gz && rm -rf XBSeq.buildbin-libdir && mkdir XBSeq.buildbin-libdir && C:\Users\biocbuild\bbs-3.10-bioc\R\bin\R.exe CMD INSTALL --merge-multiarch --build --library=XBSeq.buildbin-libdir XBSeq_1.18.0.tar.gz && C:\Users\biocbuild\bbs-3.10-bioc\R\bin\R.exe CMD INSTALL XBSeq_1.18.0.zip && rm XBSeq_1.18.0.tar.gz XBSeq_1.18.0.zip
###
##############################################################################
##############################################################################
% Total % Received % Xferd Average Speed Time Time Time Current
Dload Upload Total Spent Left Speed
0 0 0 0 0 0 0 0 --:--:-- --:--:-- --:--:-- 0
100 866k 100 866k 0 0 2943k 0 --:--:-- --:--:-- --:--:-- 2987k
install for i386
* installing *source* package 'XBSeq' ...
** using staged installation
** R
** data
** inst
** byte-compile and prepare package for lazy loading
** help
*** installing help indices
converting help for package 'XBSeq'
finding HTML links ... done
ExampleData html
MAplot html
XBSeq-package html
XBSeq html
XBSeqDataSet-class html
finding level-2 HTML links ... done
XBSeqTest html
XBplot html
apaUsage html
conditions html
counts html
dispEst html
dispTable html
estimateRealCount html
estimateSCV html
fitInfo html
getSignalVars html
plotSCVEsts html
** building package indices
** installing vignettes
'XBSeq.Rmd' using 'UTF-8'
** testing if installed package can be loaded from temporary location
** testing if installed package can be loaded from final location
** testing if installed package keeps a record of temporary installation path
install for x64
* installing *source* package 'XBSeq' ...
** testing if installed package can be loaded
* MD5 sums
packaged installation of 'XBSeq' as XBSeq_1.18.0.zip
* DONE (XBSeq)
* installing to library 'C:/Users/biocbuild/bbs-3.10-bioc/R/library'
package 'XBSeq' successfully unpacked and MD5 sums checked
|
XBSeq.Rcheck/tests_i386/testthat.Rout
R version 3.6.3 (2020-02-29) -- "Holding the Windsock"
Copyright (C) 2020 The R Foundation for Statistical Computing
Platform: i386-w64-mingw32/i386 (32-bit)
R is free software and comes with ABSOLUTELY NO WARRANTY.
You are welcome to redistribute it under certain conditions.
Type 'license()' or 'licence()' for distribution details.
R is a collaborative project with many contributors.
Type 'contributors()' for more information and
'citation()' on how to cite R or R packages in publications.
Type 'demo()' for some demos, 'help()' for on-line help, or
'help.start()' for an HTML browser interface to help.
Type 'q()' to quit R.
> library(testthat)
> library(XBSeq)
Loading required package: DESeq2
Loading required package: S4Vectors
Loading required package: stats4
Loading required package: BiocGenerics
Loading required package: parallel
Attaching package: 'BiocGenerics'
The following objects are masked from 'package:parallel':
clusterApply, clusterApplyLB, clusterCall, clusterEvalQ,
clusterExport, clusterMap, parApply, parCapply, parLapply,
parLapplyLB, parRapply, parSapply, parSapplyLB
The following objects are masked from 'package:stats':
IQR, mad, sd, var, xtabs
The following objects are masked from 'package:base':
Filter, Find, Map, Position, Reduce, anyDuplicated, append,
as.data.frame, basename, cbind, colnames, dirname, do.call,
duplicated, eval, evalq, get, grep, grepl, intersect, is.unsorted,
lapply, mapply, match, mget, order, paste, pmax, pmax.int, pmin,
pmin.int, rank, rbind, rownames, sapply, setdiff, sort, table,
tapply, union, unique, unsplit, which, which.max, which.min
Attaching package: 'S4Vectors'
The following object is masked from 'package:base':
expand.grid
Loading required package: IRanges
Attaching package: 'IRanges'
The following object is masked from 'package:grDevices':
windows
Loading required package: GenomicRanges
Loading required package: GenomeInfoDb
Loading required package: SummarizedExperiment
Loading required package: Biobase
Welcome to Bioconductor
Vignettes contain introductory material; view with
'browseVignettes()'. To cite Bioconductor, see
'citation("Biobase")', and for packages 'citation("pkgname")'.
Loading required package: DelayedArray
Loading required package: matrixStats
Attaching package: 'matrixStats'
The following objects are masked from 'package:Biobase':
anyMissing, rowMedians
Loading required package: BiocParallel
Attaching package: 'DelayedArray'
The following objects are masked from 'package:matrixStats':
colMaxs, colMins, colRanges, rowMaxs, rowMins, rowRanges
The following objects are masked from 'package:base':
aperm, apply, rowsum
Welcome to 'XBSeq'.
>
> test_check("XBSeq")
estimating parameters using MLE for group one
estimating parameters using MLE for group two
== testthat results ===========================================================
[ OK: 16 | SKIPPED: 0 | WARNINGS: 3 | FAILED: 0 ]
>
> proc.time()
user system elapsed
154.39 1.59 155.96
|
XBSeq.Rcheck/tests_x64/testthat.Rout
R version 3.6.3 (2020-02-29) -- "Holding the Windsock"
Copyright (C) 2020 The R Foundation for Statistical Computing
Platform: x86_64-w64-mingw32/x64 (64-bit)
R is free software and comes with ABSOLUTELY NO WARRANTY.
You are welcome to redistribute it under certain conditions.
Type 'license()' or 'licence()' for distribution details.
R is a collaborative project with many contributors.
Type 'contributors()' for more information and
'citation()' on how to cite R or R packages in publications.
Type 'demo()' for some demos, 'help()' for on-line help, or
'help.start()' for an HTML browser interface to help.
Type 'q()' to quit R.
> library(testthat)
> library(XBSeq)
Loading required package: DESeq2
Loading required package: S4Vectors
Loading required package: stats4
Loading required package: BiocGenerics
Loading required package: parallel
Attaching package: 'BiocGenerics'
The following objects are masked from 'package:parallel':
clusterApply, clusterApplyLB, clusterCall, clusterEvalQ,
clusterExport, clusterMap, parApply, parCapply, parLapply,
parLapplyLB, parRapply, parSapply, parSapplyLB
The following objects are masked from 'package:stats':
IQR, mad, sd, var, xtabs
The following objects are masked from 'package:base':
Filter, Find, Map, Position, Reduce, anyDuplicated, append,
as.data.frame, basename, cbind, colnames, dirname, do.call,
duplicated, eval, evalq, get, grep, grepl, intersect, is.unsorted,
lapply, mapply, match, mget, order, paste, pmax, pmax.int, pmin,
pmin.int, rank, rbind, rownames, sapply, setdiff, sort, table,
tapply, union, unique, unsplit, which, which.max, which.min
Attaching package: 'S4Vectors'
The following object is masked from 'package:base':
expand.grid
Loading required package: IRanges
Attaching package: 'IRanges'
The following object is masked from 'package:grDevices':
windows
Loading required package: GenomicRanges
Loading required package: GenomeInfoDb
Loading required package: SummarizedExperiment
Loading required package: Biobase
Welcome to Bioconductor
Vignettes contain introductory material; view with
'browseVignettes()'. To cite Bioconductor, see
'citation("Biobase")', and for packages 'citation("pkgname")'.
Loading required package: DelayedArray
Loading required package: matrixStats
Attaching package: 'matrixStats'
The following objects are masked from 'package:Biobase':
anyMissing, rowMedians
Loading required package: BiocParallel
Attaching package: 'DelayedArray'
The following objects are masked from 'package:matrixStats':
colMaxs, colMins, colRanges, rowMaxs, rowMins, rowRanges
The following objects are masked from 'package:base':
aperm, apply, rowsum
Welcome to 'XBSeq'.
>
> test_check("XBSeq")
estimating parameters using MLE for group one
estimating parameters using MLE for group two
== testthat results ===========================================================
[ OK: 16 | SKIPPED: 0 | WARNINGS: 3 | FAILED: 0 ]
>
> proc.time()
user system elapsed
157.67 0.64 158.31
|
|
XBSeq.Rcheck/examples_i386/XBSeq-Ex.timings
|
XBSeq.Rcheck/examples_x64/XBSeq-Ex.timings
|