| Back to Multiple platform build/check report for BioC 3.10 |
|
This page was generated on 2020-04-15 12:28:26 -0400 (Wed, 15 Apr 2020).
| Package 1764/1823 | Hostname | OS / Arch | INSTALL | BUILD | CHECK | BUILD BIN | ||||||
| TSRchitect 1.12.4 R. Taylor Raborn
| malbec1 | Linux (Ubuntu 18.04.4 LTS) / x86_64 | OK | OK | WARNINGS | |||||||
| tokay1 | Windows Server 2012 R2 Standard / x64 | [ OK ] | OK | WARNINGS | OK | |||||||
| merida1 | OS X 10.11.6 El Capitan / x86_64 | OK | OK | WARNINGS | OK |
| Package: TSRchitect |
| Version: 1.12.4 |
| Command: C:\cygwin\bin\curl.exe -O https://malbec1.bioconductor.org/BBS/3.10/bioc/src/contrib/TSRchitect_1.12.4.tar.gz && rm -rf TSRchitect.buildbin-libdir && mkdir TSRchitect.buildbin-libdir && C:\Users\biocbuild\bbs-3.10-bioc\R\bin\R.exe CMD INSTALL --merge-multiarch --build --library=TSRchitect.buildbin-libdir TSRchitect_1.12.4.tar.gz && C:\Users\biocbuild\bbs-3.10-bioc\R\bin\R.exe CMD INSTALL TSRchitect_1.12.4.zip && rm TSRchitect_1.12.4.tar.gz TSRchitect_1.12.4.zip |
| StartedAt: 2020-04-14 19:53:20 -0400 (Tue, 14 Apr 2020) |
| EndedAt: 2020-04-14 19:54:40 -0400 (Tue, 14 Apr 2020) |
| EllapsedTime: 80.6 seconds |
| RetCode: 0 |
| Status: OK |
##############################################################################
##############################################################################
###
### Running command:
###
### C:\cygwin\bin\curl.exe -O https://malbec1.bioconductor.org/BBS/3.10/bioc/src/contrib/TSRchitect_1.12.4.tar.gz && rm -rf TSRchitect.buildbin-libdir && mkdir TSRchitect.buildbin-libdir && C:\Users\biocbuild\bbs-3.10-bioc\R\bin\R.exe CMD INSTALL --merge-multiarch --build --library=TSRchitect.buildbin-libdir TSRchitect_1.12.4.tar.gz && C:\Users\biocbuild\bbs-3.10-bioc\R\bin\R.exe CMD INSTALL TSRchitect_1.12.4.zip && rm TSRchitect_1.12.4.tar.gz TSRchitect_1.12.4.zip
###
##############################################################################
##############################################################################
% Total % Received % Xferd Average Speed Time Time Time Current
Dload Upload Total Spent Left Speed
0 0 0 0 0 0 0 0 --:--:-- --:--:-- --:--:-- 0
0 873k 0 0 0 0 0 0 --:--:-- --:--:-- --:--:-- 0
100 873k 100 873k 0 0 3701k 0 --:--:-- --:--:-- --:--:-- 3750k
install for i386
* installing *source* package 'TSRchitect' ...
** using staged installation
** R
** demo
** inst
** byte-compile and prepare package for lazy loading
** help
*** installing help indices
converting help for package 'TSRchitect'
finding HTML links ... done
TSRchitectUsersGuide html
TSRmshapeIndex html
TSRshapeIndex html
addAnnotationToTSR-methods html
finding level-2 HTML links ... done
addTagCountsToTSR-methods html
bedToTSS-methods html
createSummarizedExperiment-methods html
detTSR-methods html
determineTSR-methods html
getBamDataFirstRead-methods html
getBamDataLastRead-methods html
getFileNames-methods html
getTSRdata-methods html
getTSScountData-methods html
getTSStagData-methods html
getTitle-methods html
gsq2bed-methods html
importAnnotationExternal-methods html
importAnnotationHub-methods html
inputToTSS-methods html
loadTSSobj-methods html
makeGRangesFromTSR-methods html
mergeSampleData-methods html
prcTSS html
processTSS-methods html
tagCountTSS html
tsrCluster html
tssArrayProperties html
tssObject html
writeTSR-methods html
writeTSS-methods html
** building package indices
** installing vignettes
'TSRchitect.Rmd' using 'UTF-8'
'TSRchitectUsersGuide.Rmd' using 'UTF-8'
** testing if installed package can be loaded from temporary location
** testing if installed package can be loaded from final location
** testing if installed package keeps a record of temporary installation path
install for x64
* installing *source* package 'TSRchitect' ...
** testing if installed package can be loaded
* MD5 sums
packaged installation of 'TSRchitect' as TSRchitect_1.12.4.zip
* DONE (TSRchitect)
* installing to library 'C:/Users/biocbuild/bbs-3.10-bioc/R/library'
package 'TSRchitect' successfully unpacked and MD5 sums checked