| Back to Multiple platform build/check report for BioC 3.10 |
|
This page was generated on 2020-04-15 12:29:25 -0400 (Wed, 15 Apr 2020).
| Package 1569/1823 | Hostname | OS / Arch | INSTALL | BUILD | CHECK | BUILD BIN | ||||||
| SeqSQC 1.8.1 Qian Liu
| malbec1 | Linux (Ubuntu 18.04.4 LTS) / x86_64 | OK | OK | OK | |||||||
| tokay1 | Windows Server 2012 R2 Standard / x64 | OK | OK | OK | [ OK ] | |||||||
| merida1 | OS X 10.11.6 El Capitan / x86_64 | OK | OK | OK | OK |
| Package: SeqSQC |
| Version: 1.8.1 |
| Command: rm -rf SeqSQC.buildbin-libdir && mkdir SeqSQC.buildbin-libdir && C:\Users\biocbuild\bbs-3.10-bioc\R\bin\R.exe CMD INSTALL --merge-multiarch --build --library=SeqSQC.buildbin-libdir SeqSQC_1.8.1.tar.gz |
| StartedAt: 2020-04-15 09:40:23 -0400 (Wed, 15 Apr 2020) |
| EndedAt: 2020-04-15 09:40:55 -0400 (Wed, 15 Apr 2020) |
| EllapsedTime: 31.7 seconds |
| RetCode: 0 |
| Status: OK |
| PackageFile: SeqSQC_1.8.1.zip |
| PackageFileSize: 3.774 MiB |
##############################################################################
##############################################################################
###
### Running command:
###
### rm -rf SeqSQC.buildbin-libdir && mkdir SeqSQC.buildbin-libdir && C:\Users\biocbuild\bbs-3.10-bioc\R\bin\R.exe CMD INSTALL --merge-multiarch --build --library=SeqSQC.buildbin-libdir SeqSQC_1.8.1.tar.gz
###
##############################################################################
##############################################################################
install for i386
* installing *source* package 'SeqSQC' ...
** using staged installation
** R
** inst
** byte-compile and prepare package for lazy loading
** help
*** installing help indices
converting help for package 'SeqSQC'
finding HTML links ... done
CCDS.Hs37.3.reduced_chr1.bed html
IBDCheck html
IBDRemove html
Inbreeding html
LoadVfile html
MissingRate html
PCACheck html
RenderReport html
SeqOpen html
SeqSQC-class html
SeqSQC-package html
SexCheck html
example.gds html
example.seqfile.Rdata html
example_sub.vcf html
plotQC html
problemList html
sampleAnnotation.txt html
sampleQC html
** building package indices
** installing vignettes
** testing if installed package can be loaded from temporary location
** testing if installed package can be loaded from final location
** testing if installed package keeps a record of temporary installation path
install for x64
* installing *source* package 'SeqSQC' ...
** testing if installed package can be loaded
* MD5 sums
packaged installation of 'SeqSQC' as SeqSQC_1.8.1.zip
* DONE (SeqSQC)