| Back to Multiple platform build/check report for BioC 3.10 |
|
This page was generated on 2020-04-15 12:25:04 -0400 (Wed, 15 Apr 2020).
| Package 1556/1823 | Hostname | OS / Arch | INSTALL | BUILD | CHECK | BUILD BIN | ||||||
Zhicheng Ji
| malbec1 | Linux (Ubuntu 18.04.4 LTS) / x86_64 | OK | ERROR | skipped | |||||||
| tokay1 | Windows Server 2012 R2 Standard / x64 | [ OK ] | ERROR | skipped | skipped | |||||||
| merida1 | OS X 10.11.6 El Capitan / x86_64 | OK | ERROR | skipped | skipped |
| Package: SEPA |
| Version: 1.16.0 |
| Command: C:\cygwin\bin\curl.exe -O https://malbec1.bioconductor.org/BBS/3.10/bioc/src/contrib/SEPA_1.16.0.tar.gz && rm -rf SEPA.buildbin-libdir && mkdir SEPA.buildbin-libdir && C:\Users\biocbuild\bbs-3.10-bioc\R\bin\R.exe CMD INSTALL --merge-multiarch --build --library=SEPA.buildbin-libdir SEPA_1.16.0.tar.gz && C:\Users\biocbuild\bbs-3.10-bioc\R\bin\R.exe CMD INSTALL SEPA_1.16.0.zip && rm SEPA_1.16.0.tar.gz SEPA_1.16.0.zip |
| StartedAt: 2020-04-14 18:58:51 -0400 (Tue, 14 Apr 2020) |
| EndedAt: 2020-04-14 18:59:40 -0400 (Tue, 14 Apr 2020) |
| EllapsedTime: 48.0 seconds |
| RetCode: 0 |
| Status: OK |
##############################################################################
##############################################################################
###
### Running command:
###
### C:\cygwin\bin\curl.exe -O https://malbec1.bioconductor.org/BBS/3.10/bioc/src/contrib/SEPA_1.16.0.tar.gz && rm -rf SEPA.buildbin-libdir && mkdir SEPA.buildbin-libdir && C:\Users\biocbuild\bbs-3.10-bioc\R\bin\R.exe CMD INSTALL --merge-multiarch --build --library=SEPA.buildbin-libdir SEPA_1.16.0.tar.gz && C:\Users\biocbuild\bbs-3.10-bioc\R\bin\R.exe CMD INSTALL SEPA_1.16.0.zip && rm SEPA_1.16.0.tar.gz SEPA_1.16.0.zip
###
##############################################################################
##############################################################################
% Total % Received % Xferd Average Speed Time Time Time Current
Dload Upload Total Spent Left Speed
0 0 0 0 0 0 0 0 --:--:-- --:--:-- --:--:-- 0
100 696k 100 696k 0 0 11.2M 0 --:--:-- --:--:-- --:--:-- 12.1M
install for i386
* installing *source* package 'SEPA' ...
** using staged installation
** R
** data
** inst
** byte-compile and prepare package for lazy loading
** help
*** installing help indices
converting help for package 'SEPA'
finding HTML links ... done
HSMMdata html
SEPA html
SEPAui html
patternGOanalysis html
patternsummary html
pseudotime html
pseudotimepattern html
pseudotimevisualize html
truetime html
truetimepattern html
truetimevisualize html
windowGOanalysis html
windowGOvisualize html
** building package indices
** installing vignettes
** testing if installed package can be loaded from temporary location
Warning: Package 'SEPA' is deprecated and will be removed from Bioconductor
version 3.11
** testing if installed package can be loaded from final location
Warning: Package 'SEPA' is deprecated and will be removed from Bioconductor
version 3.11
** testing if installed package keeps a record of temporary installation path
install for x64
* installing *source* package 'SEPA' ...
** testing if installed package can be loaded
Warning: Package 'SEPA' is deprecated and will be removed from Bioconductor
version 3.11
* MD5 sums
packaged installation of 'SEPA' as SEPA_1.16.0.zip
* DONE (SEPA)
* installing to library 'C:/Users/biocbuild/bbs-3.10-bioc/R/library'
package 'SEPA' successfully unpacked and MD5 sums checked