| Back to Multiple platform build/check report for BioC 3.10 |
|
This page was generated on 2020-04-15 12:32:44 -0400 (Wed, 15 Apr 2020).
| Package 1517/1823 | Hostname | OS / Arch | INSTALL | BUILD | CHECK | BUILD BIN | ||||||
| SBGNview 1.0.0 Xiaoxi Dong
| malbec1 | Linux (Ubuntu 18.04.4 LTS) / x86_64 | OK | OK | OK | |||||||
| tokay1 | Windows Server 2012 R2 Standard / x64 | OK | OK | OK | [ OK ] | |||||||
| merida1 | OS X 10.11.6 El Capitan / x86_64 | OK | OK | OK | OK |
| Package: SBGNview |
| Version: 1.0.0 |
| Command: rm -rf SBGNview.buildbin-libdir && mkdir SBGNview.buildbin-libdir && C:\Users\biocbuild\bbs-3.10-bioc\R\bin\R.exe CMD INSTALL --merge-multiarch --build --library=SBGNview.buildbin-libdir SBGNview_1.0.0.tar.gz |
| StartedAt: 2020-04-15 09:37:34 -0400 (Wed, 15 Apr 2020) |
| EndedAt: 2020-04-15 09:38:26 -0400 (Wed, 15 Apr 2020) |
| EllapsedTime: 52.5 seconds |
| RetCode: 0 |
| Status: OK |
| PackageFile: SBGNview_1.0.0.zip |
| PackageFileSize: 1.668 MiB |
##############################################################################
##############################################################################
###
### Running command:
###
### rm -rf SBGNview.buildbin-libdir && mkdir SBGNview.buildbin-libdir && C:\Users\biocbuild\bbs-3.10-bioc\R\bin\R.exe CMD INSTALL --merge-multiarch --build --library=SBGNview.buildbin-libdir SBGNview_1.0.0.tar.gz
###
##############################################################################
##############################################################################
install for i386
* installing *source* package 'SBGNview' ...
** using staged installation
** R
** data
** inst
** byte-compile and prepare package for lazy loading
** help
*** installing help indices
converting help for package 'SBGNview'
finding HTML links ... done
SBGNview html
SBGNview.obj html
arc-class html
changeDataId html
changeIds html
downloadSbgnFile html
findPathways html
getMolList html
glyph-class html
highlightArcs html
highlightNodes html
highlightPath html
loadMappingTable html
mapped.ids html
outputFile-set html
outputFile html
pathways.info html
pathways.stat html
plus-.SBGNview html
print.SBGNview html
renderSbgn html
sbgnNodes html
spline.arc-class html
** building package indices
** installing vignettes
** testing if installed package can be loaded from temporary location
** testing if installed package can be loaded from final location
** testing if installed package keeps a record of temporary installation path
install for x64
* installing *source* package 'SBGNview' ...
** testing if installed package can be loaded
* MD5 sums
packaged installation of 'SBGNview' as SBGNview_1.0.0.zip
* DONE (SBGNview)