| Back to Multiple platform build/check report for BioC 3.10 | 
  | 
This page was generated on 2020-04-15 12:42:07 -0400 (Wed, 15 Apr 2020).
| Package 1302/1823 | Hostname | OS / Arch | INSTALL | BUILD | CHECK | BUILD BIN | ||||||
| Prize 1.16.0 Daryanaz Dargahi 
  | malbec1 | Linux (Ubuntu 18.04.4 LTS) / x86_64 | OK | OK | OK | |||||||
| tokay1 | Windows Server 2012 R2 Standard / x64 | OK | OK | OK | OK | |||||||
| merida1 | OS X 10.11.6 El Capitan / x86_64 | OK | OK | OK | [ OK ] | 
| Package: Prize | 
| Version: 1.16.0 | 
| Command: rm -rf Prize.buildbin-libdir && mkdir Prize.buildbin-libdir && /Users/biocbuild/BBS/utils/build-universal.sh Prize_1.16.0.tar.gz /Library/Frameworks/R.framework/Versions/Current/Resources/bin/R Prize.buildbin-libdir | 
| StartedAt: 2020-04-15 08:23:37 -0400 (Wed, 15 Apr 2020) | 
| EndedAt: 2020-04-15 08:24:39 -0400 (Wed, 15 Apr 2020) | 
| EllapsedTime: 61.7 seconds | 
| RetCode: 0 | 
| Status: OK | 
| PackageFile: Prize_1.16.0.tgz | 
| PackageFileSize: 431 KiB | 
############################################################################## ############################################################################## ### ### Running command: ### ### rm -rf Prize.buildbin-libdir && mkdir Prize.buildbin-libdir && /Users/biocbuild/BBS/utils/build-universal.sh Prize_1.16.0.tar.gz /Library/Frameworks/R.framework/Versions/Current/Resources/bin/R Prize.buildbin-libdir ### ############################################################################## ############################################################################## >>>>>>> >>>>>>> INSTALLATION WITH 'R CMD INSTALL --preclean --no-multiarch --library=Prize.buildbin-libdir Prize_1.16.0.tar.gz' >>>>>>> * installing *source* package ‘Prize’ ... ** using staged installation ** R ** inst ** byte-compile and prepare package for lazy loading ** help *** installing help indices ** building package indices ** installing vignettes ** testing if installed package can be loaded from temporary location ** testing if installed package can be loaded from final location ** testing if installed package keeps a record of temporary installation path * DONE (Prize)