| Back to Multiple platform build/check report for BioC 3.10 |
|
This page was generated on 2020-04-15 12:37:35 -0400 (Wed, 15 Apr 2020).
| Package 1133/1823 | Hostname | OS / Arch | INSTALL | BUILD | CHECK | BUILD BIN | ||||||
| NarrowPeaks 1.30.0 Pedro Madrigal
| malbec1 | Linux (Ubuntu 18.04.4 LTS) / x86_64 | OK | OK | OK | |||||||
| tokay1 | Windows Server 2012 R2 Standard / x64 | OK | OK | OK | OK | |||||||
| merida1 | OS X 10.11.6 El Capitan / x86_64 | [ OK ] | OK | WARNINGS | OK |
| Package: NarrowPeaks |
| Version: 1.30.0 |
| Command: /Library/Frameworks/R.framework/Versions/Current/Resources/bin/R CMD INSTALL NarrowPeaks |
| StartedAt: 2020-04-14 18:52:55 -0400 (Tue, 14 Apr 2020) |
| EndedAt: 2020-04-14 18:53:28 -0400 (Tue, 14 Apr 2020) |
| EllapsedTime: 33.1 seconds |
| RetCode: 0 |
| Status: OK |
##############################################################################
##############################################################################
###
### Running command:
###
### /Library/Frameworks/R.framework/Versions/Current/Resources/bin/R CMD INSTALL NarrowPeaks
###
##############################################################################
##############################################################################
* installing to library ‘/Library/Frameworks/R.framework/Versions/3.6/Resources/library’
* installing *source* package ‘NarrowPeaks’ ...
** using staged installation
** libs
clang -I"/Library/Frameworks/R.framework/Resources/include" -DNDEBUG -isysroot /Library/Developer/CommandLineTools/SDKs/MacOSX.sdk -I/usr/local/include -fPIC -Wall -g -O2 -c wig2CSARScore.c -o wig2CSARScore.o
wig2CSARScore.c:240:11: warning: explicitly assigning value of variable of type 'int' to itself [-Wself-assign]
for(i=i;i<x+span_c;i++){
~^~
wig2CSARScore.c:246:10: warning: explicitly assigning value of variable of type 'int' to itself [-Wself-assign]
for(i=i;i<=chrL[m];i++)
~^~
wig2CSARScore.c:267:11: warning: explicitly assigning value of variable of type 'int' to itself [-Wself-assign]
for(i=i;i<x+span_c;i++){
~^~
wig2CSARScore.c:273:10: warning: explicitly assigning value of variable of type 'int' to itself [-Wself-assign]
for(i=i;i<=chrL[m];i++)
~^~
wig2CSARScore.c:352:11: warning: explicitly assigning value of variable of type 'int' to itself [-Wself-assign]
for(i=i;i<start_c+span_c;i++){
~^~
wig2CSARScore.c:359:10: warning: explicitly assigning value of variable of type 'int' to itself [-Wself-assign]
for(i=i;i<=chrL[m];i++)
~^~
wig2CSARScore.c:380:11: warning: explicitly assigning value of variable of type 'int' to itself [-Wself-assign]
for(i=i;i<start_c+span_c;i++){
~^~
wig2CSARScore.c:387:10: warning: explicitly assigning value of variable of type 'int' to itself [-Wself-assign]
for(i=i;i<=chrL[m];i++)
~^~
8 warnings generated.
clang -I"/Library/Frameworks/R.framework/Resources/include" -DNDEBUG -isysroot /Library/Developer/CommandLineTools/SDKs/MacOSX.sdk -I/usr/local/include -fPIC -Wall -g -O2 -c wig2CSARScore_R_wrapper.c -o wig2CSARScore_R_wrapper.o
clang -dynamiclib -Wl,-headerpad_max_install_names -undefined dynamic_lookup -single_module -multiply_defined suppress -L/Library/Frameworks/R.framework/Resources/lib -L/usr/local/lib -o NarrowPeaks.so wig2CSARScore.o wig2CSARScore_R_wrapper.o -F/Library/Frameworks/R.framework/.. -framework R -Wl,-framework -Wl,CoreFoundation
installing to /Library/Frameworks/R.framework/Versions/3.6/Resources/library/00LOCK-NarrowPeaks/00new/NarrowPeaks/libs
** R
** data
** inst
** byte-compile and prepare package for lazy loading
** help
*** installing help indices
** building package indices
** installing vignettes
** testing if installed package can be loaded from temporary location
** checking absolute paths in shared objects and dynamic libraries
** testing if installed package can be loaded from final location
** testing if installed package keeps a record of temporary installation path
* DONE (NarrowPeaks)