| Back to Multiple platform build/check report for BioC 3.10 |
|
This page was generated on 2020-04-15 12:17:01 -0400 (Wed, 15 Apr 2020).
| Package 988/1823 | Hostname | OS / Arch | INSTALL | BUILD | CHECK | BUILD BIN | ||||||
| MergeMaid 2.58.0 Xiaogang Zhong
| malbec1 | Linux (Ubuntu 18.04.4 LTS) / x86_64 | OK | OK | WARNINGS | |||||||
| tokay1 | Windows Server 2012 R2 Standard / x64 | OK | OK | WARNINGS | [ OK ] | |||||||
| merida1 | OS X 10.11.6 El Capitan / x86_64 | OK | OK | WARNINGS | OK |
| Package: MergeMaid |
| Version: 2.58.0 |
| Command: rm -rf MergeMaid.buildbin-libdir && mkdir MergeMaid.buildbin-libdir && C:\Users\biocbuild\bbs-3.10-bioc\R\bin\R.exe CMD INSTALL --merge-multiarch --build --library=MergeMaid.buildbin-libdir MergeMaid_2.58.0.tar.gz |
| StartedAt: 2020-04-15 09:07:11 -0400 (Wed, 15 Apr 2020) |
| EndedAt: 2020-04-15 09:08:01 -0400 (Wed, 15 Apr 2020) |
| EllapsedTime: 50.2 seconds |
| RetCode: 0 |
| Status: OK |
| PackageFile: MergeMaid_2.58.0.zip |
| PackageFileSize: 650.6 KiB |
##############################################################################
##############################################################################
###
### Running command:
###
### rm -rf MergeMaid.buildbin-libdir && mkdir MergeMaid.buildbin-libdir && C:\Users\biocbuild\bbs-3.10-bioc\R\bin\R.exe CMD INSTALL --merge-multiarch --build --library=MergeMaid.buildbin-libdir MergeMaid_2.58.0.tar.gz
###
##############################################################################
##############################################################################
install for i386
* installing *source* package 'MergeMaid' ...
** using staged installation
** R
** data
** inst
** byte-compile and prepare package for lazy loading
** help
*** installing help indices
converting help for package 'MergeMaid'
finding HTML links ... done
class.mergeCoeff html
class.mergeCor html
class.mergeExpressionSet html
intCor html
intcorDens html
intersection html
mergeData html
mergeExprs html
modelOutcome html
** building package indices
** installing vignettes
** testing if installed package can be loaded from temporary location
** testing if installed package can be loaded from final location
** testing if installed package keeps a record of temporary installation path
install for x64
* installing *source* package 'MergeMaid' ...
** testing if installed package can be loaded
* MD5 sums
packaged installation of 'MergeMaid' as MergeMaid_2.58.0.zip
* DONE (MergeMaid)