| Back to Multiple platform build/check report for BioC 3.10 |
|
This page was generated on 2020-04-15 12:31:29 -0400 (Wed, 15 Apr 2020).
| Package 1109/1823 | Hostname | OS / Arch | INSTALL | BUILD | CHECK | BUILD BIN | ||||||
| MTseeker 1.4.0 Tim Triche
| malbec1 | Linux (Ubuntu 18.04.4 LTS) / x86_64 | OK | ERROR | skipped | |||||||
| tokay1 | Windows Server 2012 R2 Standard / x64 | [ ERROR ] | ERROR | skipped | skipped | |||||||
| merida1 | OS X 10.11.6 El Capitan / x86_64 | OK | ERROR | skipped | skipped |
| Package: MTseeker |
| Version: 1.4.0 |
| Command: C:\cygwin\bin\curl.exe -O https://malbec1.bioconductor.org/BBS/3.10/bioc/src/contrib/MTseeker_1.4.0.tar.gz && rm -rf MTseeker.buildbin-libdir && mkdir MTseeker.buildbin-libdir && C:\Users\biocbuild\bbs-3.10-bioc\R\bin\R.exe CMD INSTALL --merge-multiarch --build --library=MTseeker.buildbin-libdir MTseeker_1.4.0.tar.gz && C:\Users\biocbuild\bbs-3.10-bioc\R\bin\R.exe CMD INSTALL MTseeker_1.4.0.zip && rm MTseeker_1.4.0.tar.gz MTseeker_1.4.0.zip |
| StartedAt: 2020-04-14 20:08:43 -0400 (Tue, 14 Apr 2020) |
| EndedAt: 2020-04-14 20:08:49 -0400 (Tue, 14 Apr 2020) |
| EllapsedTime: 5.3 seconds |
| RetCode: 1 |
| Status: ERROR |
##############################################################################
##############################################################################
###
### Running command:
###
### C:\cygwin\bin\curl.exe -O https://malbec1.bioconductor.org/BBS/3.10/bioc/src/contrib/MTseeker_1.4.0.tar.gz && rm -rf MTseeker.buildbin-libdir && mkdir MTseeker.buildbin-libdir && C:\Users\biocbuild\bbs-3.10-bioc\R\bin\R.exe CMD INSTALL --merge-multiarch --build --library=MTseeker.buildbin-libdir MTseeker_1.4.0.tar.gz && C:\Users\biocbuild\bbs-3.10-bioc\R\bin\R.exe CMD INSTALL MTseeker_1.4.0.zip && rm MTseeker_1.4.0.tar.gz MTseeker_1.4.0.zip
###
##############################################################################
##############################################################################
% Total % Received % Xferd Average Speed Time Time Time Current
Dload Upload Total Spent Left Speed
0 0 0 0 0 0 0 0 --:--:-- --:--:-- --:--:-- 0
30 2965k 30 912k 0 0 1563k 0 0:00:01 --:--:-- 0:00:01 1569k
100 2965k 100 2965k 0 0 2463k 0 0:00:01 0:00:01 --:--:-- 2470k
install for i386
ERROR: dependency 'gmapR' is not available for package 'MTseeker'
* removing 'C:/Users/biocbuild/bbs-3.10-bioc/meat/MTseeker.buildbin-libdir/MTseeker'