| Back to Multiple platform build/check report for BioC 3.10 |
|
This page was generated on 2020-04-15 12:11:34 -0400 (Wed, 15 Apr 2020).
| Package 1036/1823 | Hostname | OS / Arch | INSTALL | BUILD | CHECK | BUILD BIN | ||||||
| MGFR 1.12.0 Khadija El Amrani
| malbec1 | Linux (Ubuntu 18.04.4 LTS) / x86_64 | OK | [ OK ] | OK | |||||||
| tokay1 | Windows Server 2012 R2 Standard / x64 | OK | OK | OK | OK | |||||||
| merida1 | OS X 10.11.6 El Capitan / x86_64 | OK | OK | OK | OK |
| Package: MGFR |
| Version: 1.12.0 |
| Command: /home/biocbuild/bbs-3.10-bioc/R/bin/R CMD build --keep-empty-dirs --no-resave-data MGFR |
| StartedAt: 2020-04-14 22:04:36 -0400 (Tue, 14 Apr 2020) |
| EndedAt: 2020-04-14 22:05:06 -0400 (Tue, 14 Apr 2020) |
| EllapsedTime: 30.5 seconds |
| RetCode: 0 |
| Status: OK |
| PackageFile: MGFR_1.12.0.tar.gz |
| PackageFileSize: 1.703 MiB |
##############################################################################
##############################################################################
###
### Running command:
###
### /home/biocbuild/bbs-3.10-bioc/R/bin/R CMD build --keep-empty-dirs --no-resave-data MGFR
###
##############################################################################
##############################################################################
* checking for file ‘MGFR/DESCRIPTION’ ... OK
* preparing ‘MGFR’:
* checking DESCRIPTION meta-information ... OK
* installing the package to build vignettes
* creating vignettes ... OK
Warning: ‘inst/doc’ files
‘MGFR.Rnw’, ‘MGFR.R’
ignored as vignettes have been rebuilt.
Run R CMD build with --no-build-vignettes to prevent rebuilding.
* checking for LF line-endings in source and make files and shell scripts
* checking for empty or unneeded directories
* looking to see if a ‘data/datalist’ file should be added
* building ‘MGFR_1.12.0.tar.gz’