| Back to Multiple platform build/check report for BioC 3.10 |
|
This page was generated on 2020-04-15 12:19:32 -0400 (Wed, 15 Apr 2020).
| Package 984/1823 | Hostname | OS / Arch | INSTALL | BUILD | CHECK | BUILD BIN | ||||||
| MEDIPS 1.38.0 Lukas Chavez
| malbec1 | Linux (Ubuntu 18.04.4 LTS) / x86_64 | OK | OK | OK | |||||||
| tokay1 | Windows Server 2012 R2 Standard / x64 | [ OK ] | OK | OK | OK | |||||||
| merida1 | OS X 10.11.6 El Capitan / x86_64 | OK | OK | OK | OK |
| Package: MEDIPS |
| Version: 1.38.0 |
| Command: C:\cygwin\bin\curl.exe -O https://malbec1.bioconductor.org/BBS/3.10/bioc/src/contrib/MEDIPS_1.38.0.tar.gz && rm -rf MEDIPS.buildbin-libdir && mkdir MEDIPS.buildbin-libdir && C:\Users\biocbuild\bbs-3.10-bioc\R\bin\R.exe CMD INSTALL --merge-multiarch --build --library=MEDIPS.buildbin-libdir MEDIPS_1.38.0.tar.gz && C:\Users\biocbuild\bbs-3.10-bioc\R\bin\R.exe CMD INSTALL MEDIPS_1.38.0.zip && rm MEDIPS_1.38.0.tar.gz MEDIPS_1.38.0.zip |
| StartedAt: 2020-04-14 20:03:23 -0400 (Tue, 14 Apr 2020) |
| EndedAt: 2020-04-14 20:04:22 -0400 (Tue, 14 Apr 2020) |
| EllapsedTime: 58.5 seconds |
| RetCode: 0 |
| Status: OK |
##############################################################################
##############################################################################
###
### Running command:
###
### C:\cygwin\bin\curl.exe -O https://malbec1.bioconductor.org/BBS/3.10/bioc/src/contrib/MEDIPS_1.38.0.tar.gz && rm -rf MEDIPS.buildbin-libdir && mkdir MEDIPS.buildbin-libdir && C:\Users\biocbuild\bbs-3.10-bioc\R\bin\R.exe CMD INSTALL --merge-multiarch --build --library=MEDIPS.buildbin-libdir MEDIPS_1.38.0.tar.gz && C:\Users\biocbuild\bbs-3.10-bioc\R\bin\R.exe CMD INSTALL MEDIPS_1.38.0.zip && rm MEDIPS_1.38.0.tar.gz MEDIPS_1.38.0.zip
###
##############################################################################
##############################################################################
% Total % Received % Xferd Average Speed Time Time Time Current
Dload Upload Total Spent Left Speed
0 0 0 0 0 0 0 0 --:--:-- --:--:-- --:--:-- 0
100 61123 100 61123 0 0 666k 0 --:--:-- --:--:-- --:--:-- 694k
install for i386
* installing *source* package 'MEDIPS' ...
** using staged installation
** R
** inst
** byte-compile and prepare package for lazy loading
** help
*** installing help indices
converting help for package 'MEDIPS'
finding HTML links ... done
COUPLINGset-class html
MEDIPS-package html
MEDIPS.CpGenrich html
MEDIPS.addCNV html
MEDIPS.correlation html
MEDIPS.couplingVector html
MEDIPS.createROIset html
MEDIPS.createSet html
MEDIPS.exportWIG html
MEDIPS.getAnnotation html
MEDIPS.mergeFrames html
MEDIPS.mergeSets html
MEDIPS.meth html
MEDIPS.plotCalibrationPlot html
MEDIPS.plotSaturation html
MEDIPS.plotSeqCoverage html
MEDIPS.saturation html
MEDIPS.selectROIs html
MEDIPS.selectSig html
MEDIPS.seqCoverage html
MEDIPS.setAnnotation html
MEDIPSroiSet-class html
MEDIPSset-class html
** building package indices
** installing vignettes
** testing if installed package can be loaded from temporary location
** testing if installed package can be loaded from final location
** testing if installed package keeps a record of temporary installation path
install for x64
* installing *source* package 'MEDIPS' ...
** testing if installed package can be loaded
* MD5 sums
packaged installation of 'MEDIPS' as MEDIPS_1.38.0.zip
* DONE (MEDIPS)
* installing to library 'C:/Users/biocbuild/bbs-3.10-bioc/R/library'
package 'MEDIPS' successfully unpacked and MD5 sums checked