| Back to Multiple platform build/check report for BioC 3.10 |
|
This page was generated on 2020-04-15 12:20:01 -0400 (Wed, 15 Apr 2020).
| Package 827/1823 | Hostname | OS / Arch | INSTALL | BUILD | CHECK | BUILD BIN | ||||||
| IdMappingRetrieval 1.34.0 Alex Lisovich
| malbec1 | Linux (Ubuntu 18.04.4 LTS) / x86_64 | OK | OK | OK | |||||||
| tokay1 | Windows Server 2012 R2 Standard / x64 | OK | OK | [ OK ] | OK | |||||||
| merida1 | OS X 10.11.6 El Capitan / x86_64 | OK | OK | OK | OK |
| Package: IdMappingRetrieval |
| Version: 1.34.0 |
| Command: C:\Users\biocbuild\bbs-3.10-bioc\R\bin\R.exe CMD check --force-multiarch --install=check:IdMappingRetrieval.install-out.txt --library=C:\Users\biocbuild\bbs-3.10-bioc\R\library --no-vignettes --timings IdMappingRetrieval_1.34.0.tar.gz |
| StartedAt: 2020-04-15 03:59:43 -0400 (Wed, 15 Apr 2020) |
| EndedAt: 2020-04-15 04:02:27 -0400 (Wed, 15 Apr 2020) |
| EllapsedTime: 164.3 seconds |
| RetCode: 0 |
| Status: OK |
| CheckDir: IdMappingRetrieval.Rcheck |
| Warnings: 0 |
############################################################################## ############################################################################## ### ### Running command: ### ### C:\Users\biocbuild\bbs-3.10-bioc\R\bin\R.exe CMD check --force-multiarch --install=check:IdMappingRetrieval.install-out.txt --library=C:\Users\biocbuild\bbs-3.10-bioc\R\library --no-vignettes --timings IdMappingRetrieval_1.34.0.tar.gz ### ############################################################################## ############################################################################## * using log directory 'C:/Users/biocbuild/bbs-3.10-bioc/meat/IdMappingRetrieval.Rcheck' * using R version 3.6.3 (2020-02-29) * using platform: x86_64-w64-mingw32 (64-bit) * using session charset: ISO8859-1 * using option '--no-vignettes' * checking for file 'IdMappingRetrieval/DESCRIPTION' ... OK * checking extension type ... Package * this is package 'IdMappingRetrieval' version '1.34.0' * checking package namespace information ... OK * checking package dependencies ... OK * checking if this is a source package ... OK * checking if there is a namespace ... OK * checking for hidden files and directories ... NOTE Found the following hidden files and directories: .BBSoptions These were most likely included in error. See section 'Package structure' in the 'Writing R Extensions' manual. * checking for portable file names ... OK * checking whether package 'IdMappingRetrieval' can be installed ... OK * checking installed package size ... OK * checking package directory ... OK * checking 'build' directory ... OK * checking DESCRIPTION meta-information ... NOTE Malformed Description field: should contain one or more complete sentences. * checking top-level files ... OK * checking for left-over files ... OK * checking index information ... OK * checking package subdirectories ... OK * checking R files for non-ASCII characters ... OK * checking R files for syntax errors ... OK * loading checks for arch 'i386' ** checking whether the package can be loaded ... OK ** checking whether the package can be loaded with stated dependencies ... OK ** checking whether the package can be unloaded cleanly ... OK ** checking whether the namespace can be loaded with stated dependencies ... OK ** checking whether the namespace can be unloaded cleanly ... OK * loading checks for arch 'x64' ** checking whether the package can be loaded ... OK ** checking whether the package can be loaded with stated dependencies ... OK ** checking whether the package can be unloaded cleanly ... OK ** checking whether the namespace can be loaded with stated dependencies ... OK ** checking whether the namespace can be unloaded cleanly ... OK * checking dependencies in R code ... NOTE Packages in Depends field not imported from: 'RCurl' 'XML' These packages need to be imported from (in the NAMESPACE file) for when this namespace is loaded but not attached. * checking S3 generic/method consistency ... NOTE Found the following apparent S3 methods exported but not registered: addServices.ServiceManager getDataFrame.Annotation getDataFrameList.ServiceManager getFolderName.Annotation getIdMap.Annotation getIdMapList.ServiceManager getServiceRoot.Annotation getServices.ServiceManager setOptions.Annotation setServices.ServiceManager See section 'Registering S3 methods' in the 'Writing R Extensions' manual. * checking replacement functions ... OK * checking foreign function calls ... OK * checking R code for possible problems ... OK * checking Rd files ... OK * checking Rd metadata ... OK * checking Rd cross-references ... OK * checking for missing documentation entries ... OK * checking for code/documentation mismatches ... OK * checking Rd \usage sections ... OK * checking Rd contents ... OK * checking for unstated dependencies in examples ... OK * checking files in 'vignettes' ... OK * checking examples ... ** running examples for arch 'i386' ... OK ** running examples for arch 'x64' ... OK * checking for unstated dependencies in vignettes ... OK * checking package vignettes in 'inst/doc' ... OK * checking running R code from vignettes ... SKIPPED * checking re-building of vignette outputs ... SKIPPED * checking PDF version of manual ... OK * DONE Status: 4 NOTEs See 'C:/Users/biocbuild/bbs-3.10-bioc/meat/IdMappingRetrieval.Rcheck/00check.log' for details.
IdMappingRetrieval.Rcheck/00install.out
##############################################################################
##############################################################################
###
### Running command:
###
### C:\cygwin\bin\curl.exe -O https://malbec1.bioconductor.org/BBS/3.10/bioc/src/contrib/IdMappingRetrieval_1.34.0.tar.gz && rm -rf IdMappingRetrieval.buildbin-libdir && mkdir IdMappingRetrieval.buildbin-libdir && C:\Users\biocbuild\bbs-3.10-bioc\R\bin\R.exe CMD INSTALL --merge-multiarch --build --library=IdMappingRetrieval.buildbin-libdir IdMappingRetrieval_1.34.0.tar.gz && C:\Users\biocbuild\bbs-3.10-bioc\R\bin\R.exe CMD INSTALL IdMappingRetrieval_1.34.0.zip && rm IdMappingRetrieval_1.34.0.tar.gz IdMappingRetrieval_1.34.0.zip
###
##############################################################################
##############################################################################
% Total % Received % Xferd Average Speed Time Time Time Current
Dload Upload Total Spent Left Speed
0 0 0 0 0 0 0 0 --:--:-- --:--:-- --:--:-- 0
100 32717 100 32717 0 0 727k 0 --:--:-- --:--:-- --:--:-- 798k
install for i386
* installing *source* package 'IdMappingRetrieval' ...
** using staged installation
** R
** demo
** byte-compile and prepare package for lazy loading
** help
*** installing help indices
converting help for package 'IdMappingRetrieval'
finding HTML links ... done
Annotation html
AnnotationAffx html
AnnotationEnsembl html
AnnotationEnsemblCsv html
AnnotationEnvision html
AnnotationNetAffx html
Generic.Roo html
IdMappingAnnotationData.root html
IdMappingRetrieval-package html
ServiceManager html
addServices.ServiceManager html
as.IdMap html
as.UniquePairs html
filesExist.AnnotationNetAffx html
getColumns.Annotation html
getColumns.AnnotationAffx html
getColumns.AnnotationEnsembl html
getColumns.AnnotationEnsemblCsv html
getColumns.AnnotationEnvision html
getDataFrame.Annotation html
getDataFrameList.ServiceManager html
getFolderName.Annotation html
getIdMap.Annotation html
getIdMapList.ServiceManager html
getServiceRoot.Annotation html
getServices.ServiceManager html
readDF.Annotation html
readDF.AnnotationAffx html
readDF.AnnotationEnsembl html
readDF.AnnotationEnsemblCsv html
readDF.AnnotationEnvision html
readDF.AnnotationNetAffx html
setOptions.Annotation html
setServices.ServiceManager html
subsetByColumn html
swapKeys html
** building package indices
** installing vignettes
** testing if installed package can be loaded from temporary location
** testing if installed package can be loaded from final location
** testing if installed package keeps a record of temporary installation path
install for x64
* installing *source* package 'IdMappingRetrieval' ...
** testing if installed package can be loaded
* MD5 sums
packaged installation of 'IdMappingRetrieval' as IdMappingRetrieval_1.34.0.zip
* DONE (IdMappingRetrieval)
* installing to library 'C:/Users/biocbuild/bbs-3.10-bioc/R/library'
package 'IdMappingRetrieval' successfully unpacked and MD5 sums checked
|
IdMappingRetrieval.Rcheck/examples_i386/IdMappingRetrieval-Ex.timings
|
IdMappingRetrieval.Rcheck/examples_x64/IdMappingRetrieval-Ex.timings
|