| Back to Multiple platform build/check report for BioC 3.10 |
|
This page was generated on 2020-04-15 12:04:08 -0400 (Wed, 15 Apr 2020).
| Package 863/1823 | Hostname | OS / Arch | INSTALL | BUILD | CHECK | BUILD BIN | ||||||
| IRanges 2.20.2 Bioconductor Package Maintainer
| malbec1 | Linux (Ubuntu 18.04.4 LTS) / x86_64 | [ OK ] | OK | WARNINGS | |||||||
| tokay1 | Windows Server 2012 R2 Standard / x64 | OK | OK | WARNINGS | OK | |||||||
| merida1 | OS X 10.11.6 El Capitan / x86_64 | OK | OK | WARNINGS | OK |
| Package: IRanges |
| Version: 2.20.2 |
| Command: /home/biocbuild/bbs-3.10-bioc/R/bin/R CMD INSTALL IRanges |
| StartedAt: 2020-04-14 18:07:51 -0400 (Tue, 14 Apr 2020) |
| EndedAt: 2020-04-14 18:08:49 -0400 (Tue, 14 Apr 2020) |
| EllapsedTime: 58.0 seconds |
| RetCode: 0 |
| Status: OK |
##############################################################################
##############################################################################
###
### Running command:
###
### /home/biocbuild/bbs-3.10-bioc/R/bin/R CMD INSTALL IRanges
###
##############################################################################
##############################################################################
* installing to library ‘/home/biocbuild/bbs-3.10-bioc/R/library’
* installing *source* package ‘IRanges’ ...
** using staged installation
** libs
gcc -I"/home/biocbuild/bbs-3.10-bioc/R/include" -DNDEBUG -I"/home/biocbuild/bbs-3.10-bioc/R/library/S4Vectors/include" -I/usr/local/include -fpic -g -O2 -Wall -c CompressedAtomicList_utils.c -o CompressedAtomicList_utils.o
gcc -I"/home/biocbuild/bbs-3.10-bioc/R/include" -DNDEBUG -I"/home/biocbuild/bbs-3.10-bioc/R/library/S4Vectors/include" -I/usr/local/include -fpic -g -O2 -Wall -c CompressedIRangesList_class.c -o CompressedIRangesList_class.o
gcc -I"/home/biocbuild/bbs-3.10-bioc/R/include" -DNDEBUG -I"/home/biocbuild/bbs-3.10-bioc/R/library/S4Vectors/include" -I/usr/local/include -fpic -g -O2 -Wall -c CompressedList_class.c -o CompressedList_class.o
gcc -I"/home/biocbuild/bbs-3.10-bioc/R/include" -DNDEBUG -I"/home/biocbuild/bbs-3.10-bioc/R/library/S4Vectors/include" -I/usr/local/include -fpic -g -O2 -Wall -c Grouping_class.c -o Grouping_class.o
gcc -I"/home/biocbuild/bbs-3.10-bioc/R/include" -DNDEBUG -I"/home/biocbuild/bbs-3.10-bioc/R/library/S4Vectors/include" -I/usr/local/include -fpic -g -O2 -Wall -c IPosRanges_comparison.c -o IPosRanges_comparison.o
gcc -I"/home/biocbuild/bbs-3.10-bioc/R/include" -DNDEBUG -I"/home/biocbuild/bbs-3.10-bioc/R/library/S4Vectors/include" -I/usr/local/include -fpic -g -O2 -Wall -c IRanges_class.c -o IRanges_class.o
gcc -I"/home/biocbuild/bbs-3.10-bioc/R/include" -DNDEBUG -I"/home/biocbuild/bbs-3.10-bioc/R/library/S4Vectors/include" -I/usr/local/include -fpic -g -O2 -Wall -c IRanges_constructor.c -o IRanges_constructor.o
gcc -I"/home/biocbuild/bbs-3.10-bioc/R/include" -DNDEBUG -I"/home/biocbuild/bbs-3.10-bioc/R/library/S4Vectors/include" -I/usr/local/include -fpic -g -O2 -Wall -c NCList.c -o NCList.o
NCList.c:1173:13: warning: ‘NCList_get_y_overlaps_rec’ defined but not used [-Wunused-function]
static void NCList_get_y_overlaps_rec(const NCList *x_nclist,
^~~~~~~~~~~~~~~~~~~~~~~~~
NCList.c:202:22: warning: ‘next_top_down’ defined but not used [-Wunused-function]
static const NCList *next_top_down(const NCList *nclist)
^~~~~~~~~~~~~
NCList.c: In function ‘NCList_find_overlaps_in_groups’:
NCList.c:1546:7: warning: ‘ans’ may be used uninitialized in this function [-Wmaybe-uninitialized]
SEXP ans;
^~~
gcc -I"/home/biocbuild/bbs-3.10-bioc/R/include" -DNDEBUG -I"/home/biocbuild/bbs-3.10-bioc/R/library/S4Vectors/include" -I/usr/local/include -fpic -g -O2 -Wall -c R_init_IRanges.c -o R_init_IRanges.o
gcc -I"/home/biocbuild/bbs-3.10-bioc/R/include" -DNDEBUG -I"/home/biocbuild/bbs-3.10-bioc/R/library/S4Vectors/include" -I/usr/local/include -fpic -g -O2 -Wall -c Ranges_class.c -o Ranges_class.o
gcc -I"/home/biocbuild/bbs-3.10-bioc/R/include" -DNDEBUG -I"/home/biocbuild/bbs-3.10-bioc/R/library/S4Vectors/include" -I/usr/local/include -fpic -g -O2 -Wall -c RleViews_utils.c -o RleViews_utils.o
gcc -I"/home/biocbuild/bbs-3.10-bioc/R/include" -DNDEBUG -I"/home/biocbuild/bbs-3.10-bioc/R/library/S4Vectors/include" -I/usr/local/include -fpic -g -O2 -Wall -c S4Vectors_stubs.c -o S4Vectors_stubs.o
gcc -I"/home/biocbuild/bbs-3.10-bioc/R/include" -DNDEBUG -I"/home/biocbuild/bbs-3.10-bioc/R/library/S4Vectors/include" -I/usr/local/include -fpic -g -O2 -Wall -c SimpleIRangesList_class.c -o SimpleIRangesList_class.o
gcc -I"/home/biocbuild/bbs-3.10-bioc/R/include" -DNDEBUG -I"/home/biocbuild/bbs-3.10-bioc/R/library/S4Vectors/include" -I/usr/local/include -fpic -g -O2 -Wall -c coverage_methods.c -o coverage_methods.o
coverage_methods.c: In function ‘compute_coverage_from_IRanges_holder’:
coverage_methods.c:503:28: warning: ‘x_end’ may be used uninitialized in this function [-Wmaybe-uninitialized]
if (*out_ranges_are_tiles && x_end != cvg_len)
~~~~~~~~~~~~~~~~~~~~~~^~~~~~~~~~~~~~~~~~~
coverage_methods.c:419:21: note: ‘x_end’ was declared here
i, j, x_start, x_end, shift_elt, tmp;
^~~~~
gcc -I"/home/biocbuild/bbs-3.10-bioc/R/include" -DNDEBUG -I"/home/biocbuild/bbs-3.10-bioc/R/library/S4Vectors/include" -I/usr/local/include -fpic -g -O2 -Wall -c extractListFragments.c -o extractListFragments.o
extractListFragments.c: In function ‘find_partition_overlaps’:
extractListFragments.c:66:5: warning: ‘split_partitions_buf’ may be used uninitialized in this function [-Wmaybe-uninitialized]
IntAE_insert_at(split_partitions_buf,
^~~~~~~~~~~~~~~~~~~~~~~~~~~~~~~~~~~~~
IntAE_get_nelt(split_partitions_buf),
~~~~~~~~~~~~~~~~~~~~~~~~~~~~~~~~~~~~~
q_prev_end);
~~~~~~~~~~~
gcc -I"/home/biocbuild/bbs-3.10-bioc/R/include" -DNDEBUG -I"/home/biocbuild/bbs-3.10-bioc/R/library/S4Vectors/include" -I/usr/local/include -fpic -g -O2 -Wall -c inter_range_methods.c -o inter_range_methods.o
gcc -shared -L/home/biocbuild/bbs-3.10-bioc/R/lib -L/usr/local/lib -o IRanges.so CompressedAtomicList_utils.o CompressedIRangesList_class.o CompressedList_class.o Grouping_class.o IPosRanges_comparison.o IRanges_class.o IRanges_constructor.o NCList.o R_init_IRanges.o Ranges_class.o RleViews_utils.o S4Vectors_stubs.o SimpleIRangesList_class.o coverage_methods.o extractListFragments.o inter_range_methods.o -L/home/biocbuild/bbs-3.10-bioc/R/lib -lR
installing to /home/biocbuild/bbs-3.10-bioc/R/library/00LOCK-IRanges/00new/IRanges/libs
** R
** inst
** byte-compile and prepare package for lazy loading
Creating a generic function for ‘drop’ from package ‘base’ in package ‘IRanges’
Creating a generic function for ‘runmed’ from package ‘stats’ in package ‘IRanges’
Creating a generic function for ‘chartr’ from package ‘base’ in package ‘IRanges’
Creating a generic function for ‘toupper’ from package ‘base’ in package ‘IRanges’
Creating a generic function for ‘tolower’ from package ‘base’ in package ‘IRanges’
Creating a generic function for ‘sub’ from package ‘base’ in package ‘IRanges’
Creating a generic function for ‘gsub’ from package ‘base’ in package ‘IRanges’
Creating a generic function for ‘startsWith’ from package ‘base’ in package ‘IRanges’
Creating a generic function for ‘endsWith’ from package ‘base’ in package ‘IRanges’
Creating a generic function for ‘smoothEnds’ from package ‘stats’ in package ‘IRanges’
** help
*** installing help indices
** building package indices
** installing vignettes
** testing if installed package can be loaded from temporary location
** checking absolute paths in shared objects and dynamic libraries
** testing if installed package can be loaded from final location
** testing if installed package keeps a record of temporary installation path
* DONE (IRanges)