| Back to Multiple platform build/check report for BioC 3.10 |
|
This page was generated on 2020-04-15 12:25:06 -0400 (Wed, 15 Apr 2020).
| Package 858/1823 | Hostname | OS / Arch | INSTALL | BUILD | CHECK | BUILD BIN | ||||||
| IONiseR 2.10.0 Mike Smith
| malbec1 | Linux (Ubuntu 18.04.4 LTS) / x86_64 | OK | OK | OK | |||||||
| tokay1 | Windows Server 2012 R2 Standard / x64 | [ OK ] | OK | OK | OK | |||||||
| merida1 | OS X 10.11.6 El Capitan / x86_64 | OK | OK | OK | OK |
| Package: IONiseR |
| Version: 2.10.0 |
| Command: C:\cygwin\bin\curl.exe -O https://malbec1.bioconductor.org/BBS/3.10/bioc/src/contrib/IONiseR_2.10.0.tar.gz && rm -rf IONiseR.buildbin-libdir && mkdir IONiseR.buildbin-libdir && C:\Users\biocbuild\bbs-3.10-bioc\R\bin\R.exe CMD INSTALL --merge-multiarch --build --library=IONiseR.buildbin-libdir IONiseR_2.10.0.tar.gz && C:\Users\biocbuild\bbs-3.10-bioc\R\bin\R.exe CMD INSTALL IONiseR_2.10.0.zip && rm IONiseR_2.10.0.tar.gz IONiseR_2.10.0.zip |
| StartedAt: 2020-04-14 19:46:12 -0400 (Tue, 14 Apr 2020) |
| EndedAt: 2020-04-14 19:47:44 -0400 (Tue, 14 Apr 2020) |
| EllapsedTime: 91.8 seconds |
| RetCode: 0 |
| Status: OK |
##############################################################################
##############################################################################
###
### Running command:
###
### C:\cygwin\bin\curl.exe -O https://malbec1.bioconductor.org/BBS/3.10/bioc/src/contrib/IONiseR_2.10.0.tar.gz && rm -rf IONiseR.buildbin-libdir && mkdir IONiseR.buildbin-libdir && C:\Users\biocbuild\bbs-3.10-bioc\R\bin\R.exe CMD INSTALL --merge-multiarch --build --library=IONiseR.buildbin-libdir IONiseR_2.10.0.tar.gz && C:\Users\biocbuild\bbs-3.10-bioc\R\bin\R.exe CMD INSTALL IONiseR_2.10.0.zip && rm IONiseR_2.10.0.tar.gz IONiseR_2.10.0.zip
###
##############################################################################
##############################################################################
% Total % Received % Xferd Average Speed Time Time Time Current
Dload Upload Total Spent Left Speed
0 0 0 0 0 0 0 0 --:--:-- --:--:-- --:--:-- 0
100 1155k 100 1155k 0 0 9043k 0 --:--:-- --:--:-- --:--:-- 9315k
install for i386
* installing *source* package 'IONiseR' ...
** using staged installation
** R
** inst
** byte-compile and prepare package for lazy loading
** help
*** installing help indices
converting help for package 'IONiseR'
finding HTML links ... done
Fast5Summary-class html
IONiseR html
baseCalled html
channelActivityPlot html
channelHeatmap html
eventData html
fast5toFastq html
fastq html
fastq2D html
fastqComplement html
fastqTemplate html
layoutPlot html
muxHeatmap html
plotActiveChannels html
plotBaseProductionRate html
plotCurrentByTime html
plotEventRate html
plotKmerFrequencyCorrelation html
plotReadAccumulation html
plotReadCategoryCounts html
plotReadCategoryQuals html
plotReadTypeProduction html
readFast5Log html
readFast5Summary html
readInfo html
** building package indices
** installing vignettes
** testing if installed package can be loaded from temporary location
** testing if installed package can be loaded from final location
** testing if installed package keeps a record of temporary installation path
install for x64
* installing *source* package 'IONiseR' ...
** testing if installed package can be loaded
* MD5 sums
packaged installation of 'IONiseR' as IONiseR_2.10.0.zip
* DONE (IONiseR)
* installing to library 'C:/Users/biocbuild/bbs-3.10-bioc/R/library'
package 'IONiseR' successfully unpacked and MD5 sums checked