| Back to Multiple platform build/check report for BioC 3.10 |
|
This page was generated on 2020-04-15 12:19:02 -0400 (Wed, 15 Apr 2020).
| Package 688/1823 | Hostname | OS / Arch | INSTALL | BUILD | CHECK | BUILD BIN | ||||||
| Genominator 1.40.0 James Bullard
| malbec1 | Linux (Ubuntu 18.04.4 LTS) / x86_64 | OK | OK | WARNINGS | |||||||
| tokay1 | Windows Server 2012 R2 Standard / x64 | [ OK ] | OK | WARNINGS | OK | |||||||
| merida1 | OS X 10.11.6 El Capitan / x86_64 | OK | OK | WARNINGS | OK |
| Package: Genominator |
| Version: 1.40.0 |
| Command: C:\cygwin\bin\curl.exe -O https://malbec1.bioconductor.org/BBS/3.10/bioc/src/contrib/Genominator_1.40.0.tar.gz && rm -rf Genominator.buildbin-libdir && mkdir Genominator.buildbin-libdir && C:\Users\biocbuild\bbs-3.10-bioc\R\bin\R.exe CMD INSTALL --merge-multiarch --build --library=Genominator.buildbin-libdir Genominator_1.40.0.tar.gz && C:\Users\biocbuild\bbs-3.10-bioc\R\bin\R.exe CMD INSTALL Genominator_1.40.0.zip && rm Genominator_1.40.0.tar.gz Genominator_1.40.0.zip |
| StartedAt: 2020-04-14 19:23:47 -0400 (Tue, 14 Apr 2020) |
| EndedAt: 2020-04-14 19:24:45 -0400 (Tue, 14 Apr 2020) |
| EllapsedTime: 57.5 seconds |
| RetCode: 0 |
| Status: OK |
##############################################################################
##############################################################################
###
### Running command:
###
### C:\cygwin\bin\curl.exe -O https://malbec1.bioconductor.org/BBS/3.10/bioc/src/contrib/Genominator_1.40.0.tar.gz && rm -rf Genominator.buildbin-libdir && mkdir Genominator.buildbin-libdir && C:\Users\biocbuild\bbs-3.10-bioc\R\bin\R.exe CMD INSTALL --merge-multiarch --build --library=Genominator.buildbin-libdir Genominator_1.40.0.tar.gz && C:\Users\biocbuild\bbs-3.10-bioc\R\bin\R.exe CMD INSTALL Genominator_1.40.0.zip && rm Genominator_1.40.0.tar.gz Genominator_1.40.0.zip
###
##############################################################################
##############################################################################
% Total % Received % Xferd Average Speed Time Time Time Current
Dload Upload Total Spent Left Speed
0 0 0 0 0 0 0 0 --:--:-- --:--:-- --:--:-- 0
100 1478k 100 1478k 0 0 24.4M 0 --:--:-- --:--:-- --:--:-- 26.2M
install for i386
* installing *source* package 'Genominator' ...
** using staged installation
** R
** data
** inst
** byte-compile and prepare package for lazy loading
Warning message:
Package 'GenomeGraphs' is deprecated and will be removed from
Bioconductor version 3.11
** help
*** installing help indices
converting help for package 'Genominator'
finding HTML links ... done
ExpData html
Genominator html
addPrimingWeights html
aggregateExpData html
applyMapped html
collapseExpData html
computeCoverage html
computePrimingWeights html
getRegion html
importFromAlignedReads html
importToExpData html
joinExpData html
makeGeneRepresentation html
mergeWithAnnotation html
plot.genominator.coverage html
plot.genominator.goodness.of.fit html
regionGoodnessOfFit-methods html
splitByAnnotation html
summarizeByAnnotation html
summarizeExpData html
validAnnotation html
yeastAnno html
** building package indices
** installing vignettes
** testing if installed package can be loaded from temporary location
Warning: Package 'GenomeGraphs' is deprecated and will be removed from
Bioconductor version 3.11
** testing if installed package can be loaded from final location
Warning: Package 'GenomeGraphs' is deprecated and will be removed from
Bioconductor version 3.11
** testing if installed package keeps a record of temporary installation path
install for x64
* installing *source* package 'Genominator' ...
** testing if installed package can be loaded
Warning: Package 'GenomeGraphs' is deprecated and will be removed from
Bioconductor version 3.11
* MD5 sums
packaged installation of 'Genominator' as Genominator_1.40.0.zip
* DONE (Genominator)
* installing to library 'C:/Users/biocbuild/bbs-3.10-bioc/R/library'
package 'Genominator' successfully unpacked and MD5 sums checked