| Back to Multiple platform build/check report for BioC 3.10 |
|
This page was generated on 2020-04-15 12:18:02 -0400 (Wed, 15 Apr 2020).
| Package 669/1823 | Hostname | OS / Arch | INSTALL | BUILD | CHECK | BUILD BIN | ||||||
| GeneticsPed 1.48.0 David Henderson
| malbec1 | Linux (Ubuntu 18.04.4 LTS) / x86_64 | OK | OK | OK | |||||||
| tokay1 | Windows Server 2012 R2 Standard / x64 | OK | OK | OK | [ OK ] | |||||||
| merida1 | OS X 10.11.6 El Capitan / x86_64 | OK | OK | OK | OK |
| Package: GeneticsPed |
| Version: 1.48.0 |
| Command: rm -rf GeneticsPed.buildbin-libdir && mkdir GeneticsPed.buildbin-libdir && C:\Users\biocbuild\bbs-3.10-bioc\R\bin\R.exe CMD INSTALL --merge-multiarch --build --library=GeneticsPed.buildbin-libdir GeneticsPed_1.48.0.tar.gz |
| StartedAt: 2020-04-15 08:48:06 -0400 (Wed, 15 Apr 2020) |
| EndedAt: 2020-04-15 08:49:06 -0400 (Wed, 15 Apr 2020) |
| EllapsedTime: 59.8 seconds |
| RetCode: 0 |
| Status: OK |
| PackageFile: GeneticsPed_1.48.0.zip |
| PackageFileSize: 1.119 MiB |
##############################################################################
##############################################################################
###
### Running command:
###
### rm -rf GeneticsPed.buildbin-libdir && mkdir GeneticsPed.buildbin-libdir && C:\Users\biocbuild\bbs-3.10-bioc\R\bin\R.exe CMD INSTALL --merge-multiarch --build --library=GeneticsPed.buildbin-libdir GeneticsPed_1.48.0.tar.gz
###
##############################################################################
##############################################################################
install for i386
* installing *source* package 'GeneticsPed' ...
** using staged installation
** libs
C:/Rtools/mingw_32/bin/g++ -std=gnu++11 -I"C:/Users/BIOCBU~1/BBS-3~1.10-/R/include" -DNDEBUG -I"C:/extsoft/include" -O2 -Wall -mtune=core2 -c ainverse.cc -o ainverse.o
C:/Rtools/mingw_32/bin/g++ -std=gnu++11 -I"C:/Users/BIOCBU~1/BBS-3~1.10-/R/include" -DNDEBUG -I"C:/extsoft/include" -O2 -Wall -mtune=core2 -c eibd.cc -o eibd.o
C:/Rtools/mingw_32/bin/gfortran -O3 -mtune=core2 -c ggmatmult.f -o ggmatmult.o
C:/Rtools/mingw_32/bin/gfortran -O3 -mtune=core2 -c gpi.f -o gpi.o
C:/Rtools/mingw_32/bin/g++ -std=gnu++11 -I"C:/Users/BIOCBU~1/BBS-3~1.10-/R/include" -DNDEBUG -I"C:/extsoft/include" -O2 -Wall -mtune=core2 -c inbreed.cc -o inbreed.o
C:/Rtools/mingw_32/bin/g++ -std=gnu++11 -I"C:/Users/BIOCBU~1/BBS-3~1.10-/R/include" -DNDEBUG -I"C:/extsoft/include" -O2 -Wall -mtune=core2 -c inverseAdditive.cc -o inverseAdditive.o
C:/Rtools/mingw_32/bin/g++ -std=gnu++11 -I"C:/Users/BIOCBU~1/BBS-3~1.10-/R/include" -DNDEBUG -I"C:/extsoft/include" -O2 -Wall -mtune=core2 -c meuwissen.cc -o meuwissen.o
C:/Rtools/mingw_32/bin/g++ -std=gnu++11 -I"C:/Users/BIOCBU~1/BBS-3~1.10-/R/include" -DNDEBUG -I"C:/extsoft/include" -O2 -Wall -mtune=core2 -c pedSort.cc -o pedSort.o
C:/Rtools/mingw_32/bin/g++ -std=gnu++11 -I"C:/Users/BIOCBU~1/BBS-3~1.10-/R/include" -DNDEBUG -I"C:/extsoft/include" -O2 -Wall -mtune=core2 -c pedtemplate.cc -o pedtemplate.o
C:/Rtools/mingw_32/bin/g++ -std=gnu++11 -I"C:/Users/BIOCBU~1/BBS-3~1.10-/R/include" -DNDEBUG -I"C:/extsoft/include" -O2 -Wall -mtune=core2 -c register.cc -o register.o
C:/Rtools/mingw_32/bin/gcc -I"C:/Users/BIOCBU~1/BBS-3~1.10-/R/include" -DNDEBUG -I"C:/extsoft/include" -O3 -Wall -std=gnu99 -mtune=core2 -c sargolzaei.c -o sargolzaei.o
C:/Rtools/mingw_32/bin/g++ -std=gnu++11 -I"C:/Users/BIOCBU~1/BBS-3~1.10-/R/include" -DNDEBUG -I"C:/extsoft/include" -O2 -Wall -mtune=core2 -c sortped.cc -o sortped.o
C:/Rtools/mingw_32/bin/g++ -std=gnu++11 -shared -s -static-libgcc -o GeneticsPed.dll tmp.def ainverse.o eibd.o ggmatmult.o gpi.o inbreed.o inverseAdditive.o meuwissen.o pedSort.o pedtemplate.o register.o sargolzaei.o sortped.o -LC:/extsoft/lib/i386 -LC:/extsoft/lib -lgfortran -lm -lquadmath -LC:/Users/BIOCBU~1/BBS-3~1.10-/R/bin/i386 -lR
installing to C:/Users/biocbuild/bbs-3.10-bioc/meat/GeneticsPed.buildbin-libdir/00LOCK-GeneticsPed/00new/GeneticsPed/libs/i386
** R
** data
** inst
** byte-compile and prepare package for lazy loading
** help
*** installing help indices
converting help for package 'GeneticsPed'
finding HTML links ... done
TDT html
check html
datasets html
extend html
family html
founder html
geneContribution html
generatePedigree html
generation html
gpi html
gpiUtil html
inbreeding html
model.matrix html
nIndividual html
pedigree html
prune html
relationshipAdditive html
removeIndividual html
sort.pedigree html
summary.pedigree html
undocumented html
** building package indices
** installing vignettes
** testing if installed package can be loaded from temporary location
** testing if installed package can be loaded from final location
** testing if installed package keeps a record of temporary installation path
install for x64
* installing *source* package 'GeneticsPed' ...
** libs
C:/Rtools/mingw_64/bin/g++ -std=gnu++11 -I"C:/Users/BIOCBU~1/BBS-3~1.10-/R/include" -DNDEBUG -I"C:/extsoft/include" -O2 -Wall -mtune=core2 -c ainverse.cc -o ainverse.o
C:/Rtools/mingw_64/bin/g++ -std=gnu++11 -I"C:/Users/BIOCBU~1/BBS-3~1.10-/R/include" -DNDEBUG -I"C:/extsoft/include" -O2 -Wall -mtune=core2 -c eibd.cc -o eibd.o
C:/Rtools/mingw_64/bin/gfortran -O2 -mtune=core2 -c ggmatmult.f -o ggmatmult.o
C:/Rtools/mingw_64/bin/gfortran -O2 -mtune=core2 -c gpi.f -o gpi.o
C:/Rtools/mingw_64/bin/g++ -std=gnu++11 -I"C:/Users/BIOCBU~1/BBS-3~1.10-/R/include" -DNDEBUG -I"C:/extsoft/include" -O2 -Wall -mtune=core2 -c inbreed.cc -o inbreed.o
C:/Rtools/mingw_64/bin/g++ -std=gnu++11 -I"C:/Users/BIOCBU~1/BBS-3~1.10-/R/include" -DNDEBUG -I"C:/extsoft/include" -O2 -Wall -mtune=core2 -c inverseAdditive.cc -o inverseAdditive.o
C:/Rtools/mingw_64/bin/g++ -std=gnu++11 -I"C:/Users/BIOCBU~1/BBS-3~1.10-/R/include" -DNDEBUG -I"C:/extsoft/include" -O2 -Wall -mtune=core2 -c meuwissen.cc -o meuwissen.o
C:/Rtools/mingw_64/bin/g++ -std=gnu++11 -I"C:/Users/BIOCBU~1/BBS-3~1.10-/R/include" -DNDEBUG -I"C:/extsoft/include" -O2 -Wall -mtune=core2 -c pedSort.cc -o pedSort.o
C:/Rtools/mingw_64/bin/g++ -std=gnu++11 -I"C:/Users/BIOCBU~1/BBS-3~1.10-/R/include" -DNDEBUG -I"C:/extsoft/include" -O2 -Wall -mtune=core2 -c pedtemplate.cc -o pedtemplate.o
C:/Rtools/mingw_64/bin/g++ -std=gnu++11 -I"C:/Users/BIOCBU~1/BBS-3~1.10-/R/include" -DNDEBUG -I"C:/extsoft/include" -O2 -Wall -mtune=core2 -c register.cc -o register.o
C:/Rtools/mingw_64/bin/gcc -I"C:/Users/BIOCBU~1/BBS-3~1.10-/R/include" -DNDEBUG -I"C:/extsoft/include" -O2 -Wall -std=gnu99 -mtune=core2 -c sargolzaei.c -o sargolzaei.o
C:/Rtools/mingw_64/bin/g++ -std=gnu++11 -I"C:/Users/BIOCBU~1/BBS-3~1.10-/R/include" -DNDEBUG -I"C:/extsoft/include" -O2 -Wall -mtune=core2 -c sortped.cc -o sortped.o
C:/Rtools/mingw_64/bin/g++ -std=gnu++11 -shared -s -static-libgcc -o GeneticsPed.dll tmp.def ainverse.o eibd.o ggmatmult.o gpi.o inbreed.o inverseAdditive.o meuwissen.o pedSort.o pedtemplate.o register.o sargolzaei.o sortped.o -LC:/extsoft/lib/x64 -LC:/extsoft/lib -lgfortran -lm -lquadmath -LC:/Users/BIOCBU~1/BBS-3~1.10-/R/bin/x64 -lR
installing to C:/Users/biocbuild/bbs-3.10-bioc/meat/GeneticsPed.buildbin-libdir/GeneticsPed/libs/x64
** testing if installed package can be loaded
* MD5 sums
packaged installation of 'GeneticsPed' as GeneticsPed_1.48.0.zip
* DONE (GeneticsPed)