| Back to Multiple platform build/check report for BioC 3.10 |
|
This page was generated on 2020-04-15 12:25:39 -0400 (Wed, 15 Apr 2020).
| Package 649/1823 | Hostname | OS / Arch | INSTALL | BUILD | CHECK | BUILD BIN | ||||||
| GeneBreak 1.16.0 Evert van den Broek
| malbec1 | Linux (Ubuntu 18.04.4 LTS) / x86_64 | OK | OK | OK | |||||||
| tokay1 | Windows Server 2012 R2 Standard / x64 | [ OK ] | OK | OK | OK | |||||||
| merida1 | OS X 10.11.6 El Capitan / x86_64 | OK | OK | OK | OK |
| Package: GeneBreak |
| Version: 1.16.0 |
| Command: C:\cygwin\bin\curl.exe -O https://malbec1.bioconductor.org/BBS/3.10/bioc/src/contrib/GeneBreak_1.16.0.tar.gz && rm -rf GeneBreak.buildbin-libdir && mkdir GeneBreak.buildbin-libdir && C:\Users\biocbuild\bbs-3.10-bioc\R\bin\R.exe CMD INSTALL --merge-multiarch --build --library=GeneBreak.buildbin-libdir GeneBreak_1.16.0.tar.gz && C:\Users\biocbuild\bbs-3.10-bioc\R\bin\R.exe CMD INSTALL GeneBreak_1.16.0.zip && rm GeneBreak_1.16.0.tar.gz GeneBreak_1.16.0.zip |
| StartedAt: 2020-04-14 19:44:09 -0400 (Tue, 14 Apr 2020) |
| EndedAt: 2020-04-14 19:44:42 -0400 (Tue, 14 Apr 2020) |
| EllapsedTime: 33.4 seconds |
| RetCode: 0 |
| Status: OK |
##############################################################################
##############################################################################
###
### Running command:
###
### C:\cygwin\bin\curl.exe -O https://malbec1.bioconductor.org/BBS/3.10/bioc/src/contrib/GeneBreak_1.16.0.tar.gz && rm -rf GeneBreak.buildbin-libdir && mkdir GeneBreak.buildbin-libdir && C:\Users\biocbuild\bbs-3.10-bioc\R\bin\R.exe CMD INSTALL --merge-multiarch --build --library=GeneBreak.buildbin-libdir GeneBreak_1.16.0.tar.gz && C:\Users\biocbuild\bbs-3.10-bioc\R\bin\R.exe CMD INSTALL GeneBreak_1.16.0.zip && rm GeneBreak_1.16.0.tar.gz GeneBreak_1.16.0.zip
###
##############################################################################
##############################################################################
% Total % Received % Xferd Average Speed Time Time Time Current
Dload Upload Total Spent Left Speed
0 0 0 0 0 0 0 0 --:--:-- --:--:-- --:--:-- 0
0 0 0 0 0 0 0 0 --:--:-- --:--:-- --:--:-- 0
100 4104k 100 4104k 0 0 18.2M 0 --:--:-- --:--:-- --:--:-- 18.4M
install for i386
* installing *source* package 'GeneBreak' ...
** using staged installation
** R
** data
** byte-compile and prepare package for lazy loading
Creating a new generic function for 'segmentData' in package 'GeneBreak'
** help
*** installing help indices
converting help for package 'GeneBreak'
finding HTML links ... done
CopyNumberBreakPointGenes-class html
CopyNumberBreakPoints-class html
GeneBreak html
accessOptions-CopyNumberBreakPoints-method
html
addGeneAnnotation-CopyNumberBreakPoints-method
html
bpFilter-CopyNumberBreakPoints-method html
bpGenes-CopyNumberBreakPointGenes-method
html
bpPlot-CopyNumberBreakPoints-method html
bpStats-CopyNumberBreakPoints-method html
breakpointData-CopyNumberBreakPoints-method
html
breakpointsPerGene-CopyNumberBreakPointGenes-method
html
callData-CopyNumberBreakPoints-method html
copynumber.data.chr18 html
copynumber.data.chr20 html
copynumber.data.chr21 html
ens.gene.ann.hg18 html
ens.gene.ann.hg19 html
ens.gene.ann.hg38 html
featureChromosomes-CopyNumberBreakPoints-method
html
featureInfo-CopyNumberBreakPoints-method
html
featuresPerGene-CopyNumberBreakPointGenes-method
html
geneChromosomes-CopyNumberBreakPointGenes-method
html
geneInfo-CopyNumberBreakPointGenes-method
html
getBreakpoints html
namesFeatures-CopyNumberBreakPoints-method
html
recurrentGenes-CopyNumberBreakPointGenes-method
html
sampleNames-CopyNumberBreakPoints-method
html
segmentData-CopyNumberBreakPoints-method
html
** building package indices
** installing vignettes
** testing if installed package can be loaded from temporary location
** testing if installed package can be loaded from final location
** testing if installed package keeps a record of temporary installation path
install for x64
* installing *source* package 'GeneBreak' ...
** testing if installed package can be loaded
* MD5 sums
packaged installation of 'GeneBreak' as GeneBreak_1.16.0.zip
* DONE (GeneBreak)
* installing to library 'C:/Users/biocbuild/bbs-3.10-bioc/R/library'
package 'GeneBreak' successfully unpacked and MD5 sums checked