| Back to Multiple platform build/check report for BioC 3.10 |
|
This page was generated on 2020-04-15 12:30:08 -0400 (Wed, 15 Apr 2020).
| Package 755/1823 | Hostname | OS / Arch | INSTALL | BUILD | CHECK | BUILD BIN | ||||||
| GSEABenchmarkeR 1.6.4 Ludwig Geistlinger
| malbec1 | Linux (Ubuntu 18.04.4 LTS) / x86_64 | OK | OK | OK | |||||||
| tokay1 | Windows Server 2012 R2 Standard / x64 | [ OK ] | OK | OK | OK | |||||||
| merida1 | OS X 10.11.6 El Capitan / x86_64 | OK | OK | OK | OK |
| Package: GSEABenchmarkeR |
| Version: 1.6.4 |
| Command: C:\cygwin\bin\curl.exe -O https://malbec1.bioconductor.org/BBS/3.10/bioc/src/contrib/GSEABenchmarkeR_1.6.4.tar.gz && rm -rf GSEABenchmarkeR.buildbin-libdir && mkdir GSEABenchmarkeR.buildbin-libdir && C:\Users\biocbuild\bbs-3.10-bioc\R\bin\R.exe CMD INSTALL --merge-multiarch --build --library=GSEABenchmarkeR.buildbin-libdir GSEABenchmarkeR_1.6.4.tar.gz && C:\Users\biocbuild\bbs-3.10-bioc\R\bin\R.exe CMD INSTALL GSEABenchmarkeR_1.6.4.zip && rm GSEABenchmarkeR_1.6.4.tar.gz GSEABenchmarkeR_1.6.4.zip |
| StartedAt: 2020-04-14 19:45:17 -0400 (Tue, 14 Apr 2020) |
| EndedAt: 2020-04-14 19:46:12 -0400 (Tue, 14 Apr 2020) |
| EllapsedTime: 55.1 seconds |
| RetCode: 0 |
| Status: OK |
##############################################################################
##############################################################################
###
### Running command:
###
### C:\cygwin\bin\curl.exe -O https://malbec1.bioconductor.org/BBS/3.10/bioc/src/contrib/GSEABenchmarkeR_1.6.4.tar.gz && rm -rf GSEABenchmarkeR.buildbin-libdir && mkdir GSEABenchmarkeR.buildbin-libdir && C:\Users\biocbuild\bbs-3.10-bioc\R\bin\R.exe CMD INSTALL --merge-multiarch --build --library=GSEABenchmarkeR.buildbin-libdir GSEABenchmarkeR_1.6.4.tar.gz && C:\Users\biocbuild\bbs-3.10-bioc\R\bin\R.exe CMD INSTALL GSEABenchmarkeR_1.6.4.zip && rm GSEABenchmarkeR_1.6.4.tar.gz GSEABenchmarkeR_1.6.4.zip
###
##############################################################################
##############################################################################
% Total % Received % Xferd Average Speed Time Time Time Current
Dload Upload Total Spent Left Speed
0 0 0 0 0 0 0 0 --:--:-- --:--:-- --:--:-- 0
100 296k 100 296k 0 0 5645k 0 --:--:-- --:--:-- --:--:-- 6052k
install for i386
* installing *source* package 'GSEABenchmarkeR' ...
** using staged installation
** R
** inst
** byte-compile and prepare package for lazy loading
** help
*** installing help indices
converting help for package 'GSEABenchmarkeR'
finding HTML links ... done
bpPlot html
cacheResource html
finding level-2 HTML links ... done
evalNrSigSets html
evalRandomGS html
evalRelevance html
evalTypeIError html
loadEData html
maPreproc html
readDataId2diseaseCodeMap html
readResults html
runDE html
runEA html
** building package indices
** installing vignettes
** testing if installed package can be loaded from temporary location
** testing if installed package can be loaded from final location
** testing if installed package keeps a record of temporary installation path
install for x64
* installing *source* package 'GSEABenchmarkeR' ...
** testing if installed package can be loaded
* MD5 sums
packaged installation of 'GSEABenchmarkeR' as GSEABenchmarkeR_1.6.4.zip
* DONE (GSEABenchmarkeR)
* installing to library 'C:/Users/biocbuild/bbs-3.10-bioc/R/library'
package 'GSEABenchmarkeR' successfully unpacked and MD5 sums checked