| Back to Multiple platform build/check report for BioC 3.10 |
|
This page was generated on 2020-04-15 12:32:45 -0400 (Wed, 15 Apr 2020).
| Package 730/1823 | Hostname | OS / Arch | INSTALL | BUILD | CHECK | BUILD BIN | ||||||
| GOTHiC 1.22.0 Borbala Mifsud
| malbec1 | Linux (Ubuntu 18.04.4 LTS) / x86_64 | OK | OK | OK | |||||||
| tokay1 | Windows Server 2012 R2 Standard / x64 | [ OK ] | OK | OK | OK | |||||||
| merida1 | OS X 10.11.6 El Capitan / x86_64 | OK | OK | OK | OK |
| Package: GOTHiC |
| Version: 1.22.0 |
| Command: C:\cygwin\bin\curl.exe -O https://malbec1.bioconductor.org/BBS/3.10/bioc/src/contrib/GOTHiC_1.22.0.tar.gz && rm -rf GOTHiC.buildbin-libdir && mkdir GOTHiC.buildbin-libdir && C:\Users\biocbuild\bbs-3.10-bioc\R\bin\R.exe CMD INSTALL --merge-multiarch --build --library=GOTHiC.buildbin-libdir GOTHiC_1.22.0.tar.gz && C:\Users\biocbuild\bbs-3.10-bioc\R\bin\R.exe CMD INSTALL GOTHiC_1.22.0.zip && rm GOTHiC_1.22.0.tar.gz GOTHiC_1.22.0.zip |
| StartedAt: 2020-04-14 20:06:59 -0400 (Tue, 14 Apr 2020) |
| EndedAt: 2020-04-14 20:07:42 -0400 (Tue, 14 Apr 2020) |
| EllapsedTime: 43.2 seconds |
| RetCode: 0 |
| Status: OK |
##############################################################################
##############################################################################
###
### Running command:
###
### C:\cygwin\bin\curl.exe -O https://malbec1.bioconductor.org/BBS/3.10/bioc/src/contrib/GOTHiC_1.22.0.tar.gz && rm -rf GOTHiC.buildbin-libdir && mkdir GOTHiC.buildbin-libdir && C:\Users\biocbuild\bbs-3.10-bioc\R\bin\R.exe CMD INSTALL --merge-multiarch --build --library=GOTHiC.buildbin-libdir GOTHiC_1.22.0.tar.gz && C:\Users\biocbuild\bbs-3.10-bioc\R\bin\R.exe CMD INSTALL GOTHiC_1.22.0.zip && rm GOTHiC_1.22.0.tar.gz GOTHiC_1.22.0.zip
###
##############################################################################
##############################################################################
% Total % Received % Xferd Average Speed Time Time Time Current
Dload Upload Total Spent Left Speed
0 0 0 0 0 0 0 0 --:--:-- --:--:-- --:--:-- 0
0 0 0 0 0 0 0 0 --:--:-- --:--:-- --:--:-- 0
100 2162k 100 2162k 0 0 12.1M 0 --:--:-- --:--:-- --:--:-- 12.2M
install for i386
* installing *source* package 'GOTHiC' ...
** using staged installation
** R
** data
** byte-compile and prepare package for lazy loading
** help
*** installing help indices
converting help for package 'GOTHiC'
finding HTML links ... done
GOTHiC html
GOTHiChicup html
filtered html
mapReadsToRestrictionSites html
pairReads html
** building package indices
** installing vignettes
** testing if installed package can be loaded from temporary location
** testing if installed package can be loaded from final location
** testing if installed package keeps a record of temporary installation path
install for x64
* installing *source* package 'GOTHiC' ...
** testing if installed package can be loaded
* MD5 sums
packaged installation of 'GOTHiC' as GOTHiC_1.22.0.zip
* DONE (GOTHiC)
* installing to library 'C:/Users/biocbuild/bbs-3.10-bioc/R/library'
package 'GOTHiC' successfully unpacked and MD5 sums checked