| Back to Multiple platform build/check report for BioC 3.10 |
|
This page was generated on 2020-04-15 12:44:48 -0400 (Wed, 15 Apr 2020).
| Package 472/1823 | Hostname | OS / Arch | INSTALL | BUILD | CHECK | BUILD BIN | ||||||
| DMRScan 1.8.0 Christian M Page
| malbec1 | Linux (Ubuntu 18.04.4 LTS) / x86_64 | OK | OK | OK | |||||||
| tokay1 | Windows Server 2012 R2 Standard / x64 | OK | OK | OK | OK | |||||||
| merida1 | OS X 10.11.6 El Capitan / x86_64 | OK | [ OK ] | OK | OK |
| Package: DMRScan |
| Version: 1.8.0 |
| Command: /Library/Frameworks/R.framework/Versions/Current/Resources/bin/R CMD build --keep-empty-dirs --no-resave-data DMRScan |
| StartedAt: 2020-04-14 22:25:14 -0400 (Tue, 14 Apr 2020) |
| EndedAt: 2020-04-14 22:27:22 -0400 (Tue, 14 Apr 2020) |
| EllapsedTime: 128.2 seconds |
| RetCode: 0 |
| Status: OK |
| PackageFile: DMRScan_1.8.0.tar.gz |
| PackageFileSize: 4.026 MiB |
############################################################################## ############################################################################## ### ### Running command: ### ### /Library/Frameworks/R.framework/Versions/Current/Resources/bin/R CMD build --keep-empty-dirs --no-resave-data DMRScan ### ############################################################################## ############################################################################## * checking for file ‘DMRScan/DESCRIPTION’ ... OK * preparing ‘DMRScan’: * checking DESCRIPTION meta-information ... OK * installing the package to build vignettes * creating vignettes ... OK * checking for LF line-endings in source and make files and shell scripts * checking for empty or unneeded directories * looking to see if a ‘data/datalist’ file should be added * building ‘DMRScan_1.8.0.tar.gz’ Warning in utils::tar(filepath, pkgname, compression = compression, compression_level = 9L, : storing paths of more than 100 bytes is not portable: ‘DMRScan/vignettes/DMRScan_vignette_cache/latex/unnamed-chunk-1_7668943253b4aa93adc1ac8f9545d32e.RData’