| Back to Multiple platform build/check report for BioC 3.10 |
|
This page was generated on 2020-04-15 12:33:07 -0400 (Wed, 15 Apr 2020).
| Package 384/1823 | Hostname | OS / Arch | INSTALL | BUILD | CHECK | BUILD BIN | ||||||
| CrossICC 1.0.0 Yu Sun
| malbec1 | Linux (Ubuntu 18.04.4 LTS) / x86_64 | OK | OK | OK | |||||||
| tokay1 | Windows Server 2012 R2 Standard / x64 | OK | OK | OK | [ OK ] | |||||||
| merida1 | OS X 10.11.6 El Capitan / x86_64 | OK | OK | OK | OK |
| Package: CrossICC |
| Version: 1.0.0 |
| Command: rm -rf CrossICC.buildbin-libdir && mkdir CrossICC.buildbin-libdir && C:\Users\biocbuild\bbs-3.10-bioc\R\bin\R.exe CMD INSTALL --merge-multiarch --build --library=CrossICC.buildbin-libdir CrossICC_1.0.0.tar.gz |
| StartedAt: 2020-04-15 08:30:51 -0400 (Wed, 15 Apr 2020) |
| EndedAt: 2020-04-15 08:31:21 -0400 (Wed, 15 Apr 2020) |
| EllapsedTime: 30.7 seconds |
| RetCode: 0 |
| Status: OK |
| PackageFile: CrossICC_1.0.0.zip |
| PackageFileSize: 2.599 MiB |
##############################################################################
##############################################################################
###
### Running command:
###
### rm -rf CrossICC.buildbin-libdir && mkdir CrossICC.buildbin-libdir && C:\Users\biocbuild\bbs-3.10-bioc\R\bin\R.exe CMD INSTALL --merge-multiarch --build --library=CrossICC.buildbin-libdir CrossICC_1.0.0.tar.gz
###
##############################################################################
##############################################################################
install for i386
* installing *source* package 'CrossICC' ...
** using staged installation
** R
** data
** inst
** byte-compile and prepare package for lazy loading
** help
*** installing help indices
converting help for package 'CrossICC'
finding HTML links ... done
Cal.ARI html
CrossICC html
CrossICCInput html
centroidOfcentroid html
demo.platforms html
get_jarrad_index_df_fromDF html
get_jarrad_index_df_fromlist html
get_overlap_test_by_fisher html
predictor html
rand.index html
ssGSEA html
summaryCrossICC html
** building package indices
** installing vignettes
** testing if installed package can be loaded from temporary location
** testing if installed package can be loaded from final location
** testing if installed package keeps a record of temporary installation path
install for x64
* installing *source* package 'CrossICC' ...
** testing if installed package can be loaded
* MD5 sums
packaged installation of 'CrossICC' as CrossICC_1.0.0.zip
* DONE (CrossICC)