| Back to Multiple platform build/check report for BioC 3.10 |
|
This page was generated on 2020-04-15 12:25:47 -0400 (Wed, 15 Apr 2020).
| Package 267/1823 | Hostname | OS / Arch | INSTALL | BUILD | CHECK | BUILD BIN | ||||||
| Chicago 1.14.0 Mikhail Spivakov
| malbec1 | Linux (Ubuntu 18.04.4 LTS) / x86_64 | OK | OK | OK | |||||||
| tokay1 | Windows Server 2012 R2 Standard / x64 | [ OK ] | OK | OK | OK | |||||||
| merida1 | OS X 10.11.6 El Capitan / x86_64 | OK | OK | OK | OK |
| Package: Chicago |
| Version: 1.14.0 |
| Command: C:\cygwin\bin\curl.exe -O https://malbec1.bioconductor.org/BBS/3.10/bioc/src/contrib/Chicago_1.14.0.tar.gz && rm -rf Chicago.buildbin-libdir && mkdir Chicago.buildbin-libdir && C:\Users\biocbuild\bbs-3.10-bioc\R\bin\R.exe CMD INSTALL --merge-multiarch --build --library=Chicago.buildbin-libdir Chicago_1.14.0.tar.gz && C:\Users\biocbuild\bbs-3.10-bioc\R\bin\R.exe CMD INSTALL Chicago_1.14.0.zip && rm Chicago_1.14.0.tar.gz Chicago_1.14.0.zip |
| StartedAt: 2020-04-14 18:59:27 -0400 (Tue, 14 Apr 2020) |
| EndedAt: 2020-04-14 19:00:36 -0400 (Tue, 14 Apr 2020) |
| EllapsedTime: 69.8 seconds |
| RetCode: 0 |
| Status: OK |
##############################################################################
##############################################################################
###
### Running command:
###
### C:\cygwin\bin\curl.exe -O https://malbec1.bioconductor.org/BBS/3.10/bioc/src/contrib/Chicago_1.14.0.tar.gz && rm -rf Chicago.buildbin-libdir && mkdir Chicago.buildbin-libdir && C:\Users\biocbuild\bbs-3.10-bioc\R\bin\R.exe CMD INSTALL --merge-multiarch --build --library=Chicago.buildbin-libdir Chicago_1.14.0.tar.gz && C:\Users\biocbuild\bbs-3.10-bioc\R\bin\R.exe CMD INSTALL Chicago_1.14.0.zip && rm Chicago_1.14.0.tar.gz Chicago_1.14.0.zip
###
##############################################################################
##############################################################################
% Total % Received % Xferd Average Speed Time Time Time Current
Dload Upload Total Spent Left Speed
0 0 0 0 0 0 0 0 --:--:-- --:--:-- --:--:-- 0
100 430k 100 430k 0 0 6306k 0 --:--:-- --:--:-- --:--:-- 6626k
install for i386
* installing *source* package 'Chicago' ...
** using staged installation
** R
** data
** inst
** byte-compile and prepare package for lazy loading
** help
*** installing help indices
converting help for package 'Chicago'
finding HTML links ... done
Chicago-package html
cdUnitTest html
chicagoData html
chicagoPipeline html
copyCD html
defaultSettings html
estimateBrownianComponent html
estimateDistFun html
estimateTechnicalNoise html
exportResults html
getPvals html
getScores html
getSkOnly html
mergeSamples html
modifySettings html
normaliseBaits html
normaliseOtherEnds html
overlapFragWithFeatures html
finding level-2 HTML links ... done
peakEnrichment4Features html
plotBaits html
plotDistFun html
readAndMerge html
readSample html
setExperiment html
** building package indices
** installing vignettes
** testing if installed package can be loaded from temporary location
** testing if installed package can be loaded from final location
** testing if installed package keeps a record of temporary installation path
install for x64
* installing *source* package 'Chicago' ...
** testing if installed package can be loaded
* MD5 sums
packaged installation of 'Chicago' as Chicago_1.14.0.zip
* DONE (Chicago)
* installing to library 'C:/Users/biocbuild/bbs-3.10-bioc/R/library'
package 'Chicago' successfully unpacked and MD5 sums checked