| Back to Multiple platform build/check report for BioC 3.10 |
|
This page was generated on 2020-04-15 12:11:22 -0400 (Wed, 15 Apr 2020).
| Package 290/1823 | Hostname | OS / Arch | INSTALL | BUILD | CHECK | BUILD BIN | ||||||
| CHRONOS 1.14.0 Panos Balomenos
| malbec1 | Linux (Ubuntu 18.04.4 LTS) / x86_64 | OK | OK | [ OK ] | |||||||
| tokay1 | Windows Server 2012 R2 Standard / x64 | OK | OK | OK | OK | |||||||
| merida1 | OS X 10.11.6 El Capitan / x86_64 | OK | OK | OK | OK |
| Package: CHRONOS |
| Version: 1.14.0 |
| Command: /home/biocbuild/bbs-3.10-bioc/R/bin/R CMD check --install=check:CHRONOS.install-out.txt --library=/home/biocbuild/bbs-3.10-bioc/R/library --no-vignettes --timings CHRONOS_1.14.0.tar.gz |
| StartedAt: 2020-04-15 03:49:26 -0400 (Wed, 15 Apr 2020) |
| EndedAt: 2020-04-15 03:51:44 -0400 (Wed, 15 Apr 2020) |
| EllapsedTime: 137.6 seconds |
| RetCode: 0 |
| Status: OK |
| CheckDir: CHRONOS.Rcheck |
| Warnings: 0 |
##############################################################################
##############################################################################
###
### Running command:
###
### /home/biocbuild/bbs-3.10-bioc/R/bin/R CMD check --install=check:CHRONOS.install-out.txt --library=/home/biocbuild/bbs-3.10-bioc/R/library --no-vignettes --timings CHRONOS_1.14.0.tar.gz
###
##############################################################################
##############################################################################
* using log directory ‘/home/biocbuild/bbs-3.10-bioc/meat/CHRONOS.Rcheck’
* using R version 3.6.3 (2020-02-29)
* using platform: x86_64-pc-linux-gnu (64-bit)
* using session charset: UTF-8
* using option ‘--no-vignettes’
* checking for file ‘CHRONOS/DESCRIPTION’ ... OK
* this is package ‘CHRONOS’ version ‘1.14.0’
* checking package namespace information ... OK
* checking package dependencies ... OK
* checking if this is a source package ... OK
* checking if there is a namespace ... OK
* checking for hidden files and directories ... OK
* checking for portable file names ... OK
* checking for sufficient/correct file permissions ... OK
* checking whether package ‘CHRONOS’ can be installed ... OK
* checking installed package size ... OK
* checking package directory ... OK
* checking ‘build’ directory ... OK
* checking DESCRIPTION meta-information ... OK
* checking top-level files ... OK
* checking for left-over files ... OK
* checking index information ... OK
* checking package subdirectories ... OK
* checking R files for non-ASCII characters ... OK
* checking R files for syntax errors ... OK
* checking whether the package can be loaded ... OK
* checking whether the package can be loaded with stated dependencies ... OK
* checking whether the package can be unloaded cleanly ... OK
* checking whether the namespace can be loaded with stated dependencies ... OK
* checking whether the namespace can be unloaded cleanly ... OK
* checking dependencies in R code ... OK
* checking S3 generic/method consistency ... OK
* checking replacement functions ... OK
* checking foreign function calls ... OK
* checking R code for possible problems ... OK
* checking Rd files ... OK
* checking Rd metadata ... OK
* checking Rd cross-references ... OK
* checking for missing documentation entries ... OK
* checking for code/documentation mismatches ... OK
* checking Rd \usage sections ... OK
* checking Rd contents ... OK
* checking for unstated dependencies in examples ... OK
* checking files in ‘vignettes’ ... OK
* checking examples ... OK
Examples with CPU or elapsed time > 5s
user system elapsed
CHRONOSrun 2.008 0.4 6.417
* checking for unstated dependencies in ‘tests’ ... OK
* checking tests ...
Running ‘runTests.R’
OK
* checking for unstated dependencies in vignettes ... OK
* checking package vignettes in ‘inst/doc’ ... OK
* checking running R code from vignettes ... SKIPPED
* checking re-building of vignette outputs ... SKIPPED
* checking PDF version of manual ... OK
* DONE
Status: OK
CHRONOS.Rcheck/00install.out
############################################################################## ############################################################################## ### ### Running command: ### ### /home/biocbuild/bbs-3.10-bioc/R/bin/R CMD INSTALL CHRONOS ### ############################################################################## ############################################################################## * installing to library ‘/home/biocbuild/bbs-3.10-bioc/R/library’ * installing *source* package ‘CHRONOS’ ... ** using staged installation ** R ** inst ** byte-compile and prepare package for lazy loading ** help *** installing help indices ** building package indices ** installing vignettes ** testing if installed package can be loaded from temporary location ** testing if installed package can be loaded from final location ** testing if installed package keeps a record of temporary installation path * DONE (CHRONOS)
CHRONOS.Rcheck/tests/runTests.Rout
R version 3.6.3 (2020-02-29) -- "Holding the Windsock"
Copyright (C) 2020 The R Foundation for Statistical Computing
Platform: x86_64-pc-linux-gnu (64-bit)
R is free software and comes with ABSOLUTELY NO WARRANTY.
You are welcome to redistribute it under certain conditions.
Type 'license()' or 'licence()' for distribution details.
R is a collaborative project with many contributors.
Type 'contributors()' for more information and
'citation()' on how to cite R or R packages in publications.
Type 'demo()' for some demos, 'help()' for on-line help, or
'help.start()' for an HTML browser interface to help.
Type 'q()' to quit R.
> BiocGenerics:::testPackage('CHRONOS')
Testing test_CHRONOSrun...Importing entrezgene data...done.
Importing miRNA data...done.
Downloading files...done.
Creating adjacency matrices...done.
Extracting Linear Subpathways...done.
#98 subpathways initially
Calculating subscores...done.
#21 subpathways after subscore.
Calculating mirscores......end.
Extracting Non Linear Subpathways...done.
#24 subpathways initially
Calculating subscores...done.
#19 subpathways after subscore.
Calculating mirscores......end.
done.
Testing test_pathwayToGraph...Creating adjacency matrices...done.
done.
Testing test_subExtractionLinear...Importing entrezgene data...done.
Extracting Linear Subpathways...done.
done.
Testing test_subExtractionNonLinear...Importing entrezgene data...done.
Extracting Non Linear Subpathways...done.
done.
Testing test_subRefinement...Importing entrezgene data...done.
Importing miRNA data...done.
#98 subpathways initially
Calculating subscores...done.
#21 subpathways after subscore.
Calculating mirscores......end.
done.
Testing test_subVisualization...Importing entrezgene data...done.
Summarising scores...done.
Summarising scores...done.
done.
RUNIT TEST PROTOCOL -- Wed Apr 15 03:51:41 2020
***********************************************
Number of test functions: 6
Number of errors: 0
Number of failures: 0
1 Test Suite :
CHRONOS RUnit Tests - 6 test functions, 0 errors, 0 failures
Number of test functions: 6
Number of errors: 0
Number of failures: 0
>
>
> proc.time()
user system elapsed
11.884 0.984 15.591
CHRONOS.Rcheck/CHRONOS-Ex.timings
| name | user | system | elapsed | |
| CHRONOSrun | 2.008 | 0.400 | 6.417 | |
| convertMiRNANomenclature | 0.012 | 0.000 | 0.012 | |
| convertNomenclature | 0 | 0 | 0 | |
| createPathwayGraphs | 0.460 | 0.036 | 0.506 | |
| downloadKEGGPathwayList | 0.048 | 0.000 | 0.049 | |
| downloadMiRecords | 0.052 | 0.000 | 0.050 | |
| downloadPathways | 0 | 0 | 0 | |
| extractLinearSubpathways | 1.560 | 0.336 | 1.764 | |
| extractNonLinearSubpathways | 0.372 | 0.056 | 0.565 | |
| getEdgeTypes | 0.004 | 0.000 | 0.003 | |
| importExpressions | 0.080 | 0.008 | 0.087 | |
| pathwayMeasures | 0.208 | 0.008 | 0.226 | |
| scoreSubpathways | 0.172 | 0.032 | 0.221 | |
| subpathwayKEGGmap | 0.052 | 0.000 | 0.054 | |
| subpathwayMiRNAs | 0.888 | 0.040 | 0.941 | |
| visualizeResults | 0.260 | 0.004 | 1.782 | |