| Back to Multiple platform build/check report for BioC 3.10 |
|
This page was generated on 2020-04-15 12:26:56 -0400 (Wed, 15 Apr 2020).
| Package 50/1823 | Hostname | OS / Arch | INSTALL | BUILD | CHECK | BUILD BIN | ||||||
| AMOUNTAIN 1.12.0 Dong Li
| malbec1 | Linux (Ubuntu 18.04.4 LTS) / x86_64 | OK | OK | OK | |||||||
| tokay1 | Windows Server 2012 R2 Standard / x64 | [ OK ] | OK | OK | OK | |||||||
| merida1 | OS X 10.11.6 El Capitan / x86_64 | OK | OK | OK | OK |
| Package: AMOUNTAIN |
| Version: 1.12.0 |
| Command: C:\cygwin\bin\curl.exe -O https://malbec1.bioconductor.org/BBS/3.10/bioc/src/contrib/AMOUNTAIN_1.12.0.tar.gz && rm -rf AMOUNTAIN.buildbin-libdir && mkdir AMOUNTAIN.buildbin-libdir && C:\Users\biocbuild\bbs-3.10-bioc\R\bin\R.exe CMD INSTALL --merge-multiarch --build --library=AMOUNTAIN.buildbin-libdir AMOUNTAIN_1.12.0.tar.gz && C:\Users\biocbuild\bbs-3.10-bioc\R\bin\R.exe CMD INSTALL AMOUNTAIN_1.12.0.zip && rm AMOUNTAIN_1.12.0.tar.gz AMOUNTAIN_1.12.0.zip |
| StartedAt: 2020-04-14 18:32:08 -0400 (Tue, 14 Apr 2020) |
| EndedAt: 2020-04-14 18:33:03 -0400 (Tue, 14 Apr 2020) |
| EllapsedTime: 55.7 seconds |
| RetCode: 0 |
| Status: OK |
##############################################################################
##############################################################################
###
### Running command:
###
### C:\cygwin\bin\curl.exe -O https://malbec1.bioconductor.org/BBS/3.10/bioc/src/contrib/AMOUNTAIN_1.12.0.tar.gz && rm -rf AMOUNTAIN.buildbin-libdir && mkdir AMOUNTAIN.buildbin-libdir && C:\Users\biocbuild\bbs-3.10-bioc\R\bin\R.exe CMD INSTALL --merge-multiarch --build --library=AMOUNTAIN.buildbin-libdir AMOUNTAIN_1.12.0.tar.gz && C:\Users\biocbuild\bbs-3.10-bioc\R\bin\R.exe CMD INSTALL AMOUNTAIN_1.12.0.zip && rm AMOUNTAIN_1.12.0.tar.gz AMOUNTAIN_1.12.0.zip
###
##############################################################################
##############################################################################
% Total % Received % Xferd Average Speed Time Time Time Current
Dload Upload Total Spent Left Speed
0 0 0 0 0 0 0 0 --:--:-- --:--:-- --:--:-- 0
100 320k 100 320k 0 0 7143k 0 --:--:-- --:--:-- --:--:-- 7813k
install for i386
* installing *source* package 'AMOUNTAIN' ...
** using staged installation
** libs
C:/Rtools/mingw_32/bin/gcc -I"C:/Users/BIOCBU~1/BBS-3~1.10-/R/include" -DNDEBUG -I/src/include -I/i386/include -I"C:/extsoft/include" -O3 -Wall -std=gnu99 -mtune=core2 -c AMOUNTAIN.c -o AMOUNTAIN.o
C:/Rtools/mingw_32/bin/gcc -shared -s -static-libgcc -o AMOUNTAIN.dll tmp.def AMOUNTAIN.o -L/i386/lib -lgsl -lgslcblas -lm -LC:/extsoft/lib/i386 -LC:/extsoft/lib -LC:/Users/BIOCBU~1/BBS-3~1.10-/R/bin/i386 -lR
installing to C:/Users/biocbuild/bbs-3.10-bioc/meat/AMOUNTAIN.buildbin-libdir/00LOCK-AMOUNTAIN/00new/AMOUNTAIN/libs/i386
** R
** inst
** byte-compile and prepare package for lazy loading
** help
*** installing help indices
converting help for package 'AMOUNTAIN'
finding HTML links ... done
CGPFixSS html
CGPFixSSMultiLayer html
CGPFixSSTwolayer html
EuclideanProjectionENNORM html
moduleIdentificationGPFixSS html
moduleIdentificationGPFixSSMultilayer html
moduleIdentificationGPFixSSTwolayer html
multilayernetworkSimulation html
networkSimulation html
twolayernetworkSimulation html
** building package indices
** installing vignettes
'AMOUNTAIN.Rmd' using 'UTF-8'
** testing if installed package can be loaded from temporary location
** testing if installed package can be loaded from final location
** testing if installed package keeps a record of temporary installation path
install for x64
* installing *source* package 'AMOUNTAIN' ...
** libs
C:/Rtools/mingw_64/bin/gcc -I"C:/Users/BIOCBU~1/BBS-3~1.10-/R/include" -DNDEBUG -I/src/include -I/x64/include -I"C:/extsoft/include" -O2 -Wall -std=gnu99 -mtune=core2 -c AMOUNTAIN.c -o AMOUNTAIN.o
C:/Rtools/mingw_64/bin/gcc -shared -s -static-libgcc -o AMOUNTAIN.dll tmp.def AMOUNTAIN.o -L/x64/lib -lgsl -lgslcblas -lm -LC:/extsoft/lib/x64 -LC:/extsoft/lib -LC:/Users/BIOCBU~1/BBS-3~1.10-/R/bin/x64 -lR
installing to C:/Users/biocbuild/bbs-3.10-bioc/meat/AMOUNTAIN.buildbin-libdir/AMOUNTAIN/libs/x64
** testing if installed package can be loaded
* MD5 sums
packaged installation of 'AMOUNTAIN' as AMOUNTAIN_1.12.0.zip
* DONE (AMOUNTAIN)
* installing to library 'C:/Users/biocbuild/bbs-3.10-bioc/R/library'
package 'AMOUNTAIN' successfully unpacked and MD5 sums checked