| Back to Multiple platform build/check report for BioC 3.10 |
|
This page was generated on 2020-04-15 12:15:24 -0400 (Wed, 15 Apr 2020).
| Package 49/1823 | Hostname | OS / Arch | INSTALL | BUILD | CHECK | BUILD BIN | ||||||
| AMARETTO 1.2.0 Olivier Gevaert
| malbec1 | Linux (Ubuntu 18.04.4 LTS) / x86_64 | OK | OK | [ OK ] | |||||||
| tokay1 | Windows Server 2012 R2 Standard / x64 | OK | OK | OK | OK | |||||||
| merida1 | OS X 10.11.6 El Capitan / x86_64 | OK | OK | OK | OK |
| Package: AMARETTO |
| Version: 1.2.0 |
| Command: /home/biocbuild/bbs-3.10-bioc/R/bin/R CMD check --install=check:AMARETTO.install-out.txt --library=/home/biocbuild/bbs-3.10-bioc/R/library --no-vignettes --timings AMARETTO_1.2.0.tar.gz |
| StartedAt: 2020-04-15 06:22:44 -0400 (Wed, 15 Apr 2020) |
| EndedAt: 2020-04-15 06:27:45 -0400 (Wed, 15 Apr 2020) |
| EllapsedTime: 300.9 seconds |
| RetCode: 0 |
| Status: OK |
| CheckDir: AMARETTO.Rcheck |
| Warnings: 0 |
##############################################################################
##############################################################################
###
### Running command:
###
### /home/biocbuild/bbs-3.10-bioc/R/bin/R CMD check --install=check:AMARETTO.install-out.txt --library=/home/biocbuild/bbs-3.10-bioc/R/library --no-vignettes --timings AMARETTO_1.2.0.tar.gz
###
##############################################################################
##############################################################################
* using log directory ‘/home/biocbuild/bbs-3.10-bioc/meat/AMARETTO.Rcheck’
* using R version 3.6.3 (2020-02-29)
* using platform: x86_64-pc-linux-gnu (64-bit)
* using session charset: UTF-8
* using option ‘--no-vignettes’
* checking for file ‘AMARETTO/DESCRIPTION’ ... OK
* checking extension type ... Package
* this is package ‘AMARETTO’ version ‘1.2.0’
* package encoding: UTF-8
* checking package namespace information ... OK
* checking package dependencies ... OK
* checking if this is a source package ... OK
* checking if there is a namespace ... OK
* checking for hidden files and directories ... OK
* checking for portable file names ... OK
* checking for sufficient/correct file permissions ... OK
* checking whether package ‘AMARETTO’ can be installed ... OK
* checking installed package size ... NOTE
installed size is 6.1Mb
sub-directories of 1Mb or more:
data 1.5Mb
extdata 3.8Mb
* checking package directory ... OK
* checking ‘build’ directory ... OK
* checking DESCRIPTION meta-information ... NOTE
License components with restrictions not permitted:
Apache License (== 2.0) + file LICENSE
Package listed in more than one of Depends, Imports, Suggests, Enhances:
‘knitr’
A package should be listed in only one of these fields.
'LinkingTo' field is unused: package has no 'src' directory
* checking top-level files ... OK
* checking for left-over files ... OK
* checking index information ... OK
* checking package subdirectories ... OK
* checking R files for non-ASCII characters ... OK
* checking R files for syntax errors ... OK
* checking whether the package can be loaded ... OK
* checking whether the package can be loaded with stated dependencies ... OK
* checking whether the package can be unloaded cleanly ... OK
* checking whether the namespace can be loaded with stated dependencies ... OK
* checking whether the namespace can be unloaded cleanly ... OK
* checking dependencies in R code ... OK
* checking S3 generic/method consistency ... OK
* checking replacement functions ... OK
* checking foreign function calls ... OK
* checking R code for possible problems ... NOTE
AMARETTO_HTMLreport: no visible binding for global variable ‘ModuleNr’
AMARETTO_HTMLreport: no visible binding for global variable ‘Weights’
AMARETTO_HTMLreport: no visible binding for global variable
‘RegulatorIDs’
AMARETTO_HTMLreport: no visible binding for global variable ‘TargetIDs’
AMARETTO_HTMLreport: no visible binding for global variable ‘moduleNr’
AMARETTO_HTMLreport: no visible binding for global variable ‘Testset’
AMARETTO_HTMLreport: no visible binding for global variable ‘padj’
AMARETTO_HTMLreport: no visible binding for global variable
‘n_Overlapping’
AMARETTO_HTMLreport: no visible binding for global variable
‘NumberGenes’
AMARETTO_HTMLreport: no visible binding for global variable
‘overlap_perc’
AMARETTO_HTMLreport: no visible binding for global variable ‘Geneset’
AMARETTO_HTMLreport: no visible binding for global variable
‘Description’
AMARETTO_HTMLreport: no visible binding for global variable
‘Geneset_length’
AMARETTO_HTMLreport: no visible binding for global variable
‘Overlapping_genes’
AMARETTO_HTMLreport: no visible binding for global variable ‘p_value’
AMARETTO_HTMLreport: no visible binding for global variable ‘p.value’
AMARETTO_HTMLreport: no visible binding for global variable ‘q.value’
AMARETTO_HTMLreport: no visible binding for global variable ‘Genes’
AMARETTO_HTMLreport: no visible binding for global variable ‘value’
AMARETTO_HTMLreport: no visible binding for global variable ‘Type’
AMARETTO_HTMLreport: no visible binding for global variable ‘Color’
AMARETTO_HTMLreport: no visible binding for global variable ‘Modules’
AMARETTO_HTMLreport: no visible binding for global variable
‘dt_gensesetsall’
GeneSetDescription: no visible binding for global variable
‘MsigdbMapping’
GeneSetDescription : <anonymous>: no visible binding for global
variable ‘MsigdbMapping’
GmtFromModules: no visible binding for global variable ‘value’
GmtFromModules: no visible binding for global variable ‘variable’
GmtFromModules: no visible binding for global variable ‘GeneNames’
HyperGTestGeneEnrichment: no visible binding for global variable ‘i’
HyperGTestGeneEnrichment: no visible binding for global variable ‘j’
read_gct: no visible binding for global variable ‘Description’
Undefined global functions or variables:
Color Description GeneNames Genes Geneset Geneset_length ModuleNr
Modules MsigdbMapping NumberGenes Overlapping_genes RegulatorIDs
TargetIDs Testset Type Weights dt_gensesetsall i j moduleNr
n_Overlapping overlap_perc p.value p_value padj q.value value
variable
* checking Rd files ... OK
* checking Rd metadata ... OK
* checking Rd cross-references ... OK
* checking for missing documentation entries ... OK
* checking for code/documentation mismatches ... OK
* checking Rd \usage sections ... OK
* checking Rd contents ... OK
* checking for unstated dependencies in examples ... OK
* checking contents of ‘data’ directory ... OK
* checking data for non-ASCII characters ... NOTE
Note: found 152 marked UTF-8 strings
* checking data for ASCII and uncompressed saves ... OK
* checking files in ‘vignettes’ ... OK
* checking examples ... OK
Examples with CPU or elapsed time > 5s
user system elapsed
AMARETTO_Download 17.076 0.784 19.731
AMARETTO_VisualizeModule 4.116 0.024 6.797
* checking for unstated dependencies in ‘tests’ ... OK
* checking tests ...
Running ‘testthat.R’
OK
* checking for unstated dependencies in vignettes ... OK
* checking package vignettes in ‘inst/doc’ ... OK
* checking running R code from vignettes ... SKIPPED
* checking re-building of vignette outputs ... SKIPPED
* checking PDF version of manual ... OK
* DONE
Status: 4 NOTEs
See
‘/home/biocbuild/bbs-3.10-bioc/meat/AMARETTO.Rcheck/00check.log’
for details.
AMARETTO.Rcheck/00install.out
############################################################################## ############################################################################## ### ### Running command: ### ### /home/biocbuild/bbs-3.10-bioc/R/bin/R CMD INSTALL AMARETTO ### ############################################################################## ############################################################################## * installing to library ‘/home/biocbuild/bbs-3.10-bioc/R/library’ * installing *source* package ‘AMARETTO’ ... ** using staged installation ** R ** data *** moving datasets to lazyload DB ** inst ** byte-compile and prepare package for lazy loading ** help *** installing help indices ** building package indices ** installing vignettes ** testing if installed package can be loaded from temporary location ** testing if installed package can be loaded from final location ** testing if installed package keeps a record of temporary installation path * DONE (AMARETTO)
AMARETTO.Rcheck/tests/testthat.Rout
R version 3.6.3 (2020-02-29) -- "Holding the Windsock"
Copyright (C) 2020 The R Foundation for Statistical Computing
Platform: x86_64-pc-linux-gnu (64-bit)
R is free software and comes with ABSOLUTELY NO WARRANTY.
You are welcome to redistribute it under certain conditions.
Type 'license()' or 'licence()' for distribution details.
R is a collaborative project with many contributors.
Type 'contributors()' for more information and
'citation()' on how to cite R or R packages in publications.
Type 'demo()' for some demos, 'help()' for on-line help, or
'help.start()' for an HTML browser interface to help.
Type 'q()' to quit R.
> library(testthat)
> library(AMARETTO)
Loading required package: impute
Loading required package: doParallel
Loading required package: foreach
Loading required package: iterators
Loading required package: parallel
Loading required package: dplyr
Attaching package: 'dplyr'
The following object is masked from 'package:testthat':
matches
The following objects are masked from 'package:stats':
filter, lag
The following objects are masked from 'package:base':
intersect, setdiff, setequal, union
Loading required package: ComplexHeatmap
Loading required package: grid
========================================
ComplexHeatmap version 2.2.0
Bioconductor page: http://bioconductor.org/packages/ComplexHeatmap/
Github page: https://github.com/jokergoo/ComplexHeatmap
Documentation: http://jokergoo.github.io/ComplexHeatmap-reference
If you use it in published research, please cite:
Gu, Z. Complex heatmaps reveal patterns and correlations in multidimensional
genomic data. Bioinformatics 2016.
========================================
>
> test_check("AMARETTO")
Found 10 CNV driver genes.
Found 89 MethylMix driver genes.
Found a total of 96 unique drivers with your selected method.
Running AMARETTO on 402 genes and 45 samples.
Stopping if less then 4.02 genes reassigned.
Autoregulation is turned ON.
Elapsed time is 2.737000 seconds
Average nr of regulators per module: 9.200000
Elapsed time is 0.171000 seconds
Nr of reassignments is: 48
Elapsed time is 2.307000 seconds
Average nr of regulators per module: 9.100000
Elapsed time is 0.197000 seconds
Nr of reassignments is: 9
Elapsed time is 2.708000 seconds
Average nr of regulators per module: 9.600000
Elapsed time is 0.197000 seconds
Nr of reassignments is: 8
Elapsed time is 2.643000 seconds
Average nr of regulators per module: 9.700000
Elapsed time is 0.213000 seconds
Nr of reassignments is: 8
Elapsed time is 2.481000 seconds
Average nr of regulators per module: 9.300000
Elapsed time is 0.202000 seconds
Nr of reassignments is: 4
Elapsed time is 13.861000 seconds
══ testthat results ═══════════════════════════════════════════════════════════
[ OK: 39 | SKIPPED: 0 | WARNINGS: 0 | FAILED: 0 ]
>
> proc.time()
user system elapsed
26.888 0.492 29.664
AMARETTO.Rcheck/AMARETTO-Ex.timings
| name | user | system | elapsed | |
| AMARETTO_CreateModuleData | 2.112 | 0.088 | 2.204 | |
| AMARETTO_CreateRegulatorPrograms | 1.460 | 0.004 | 1.465 | |
| AMARETTO_Download | 17.076 | 0.784 | 19.731 | |
| AMARETTO_EvaluateTestSet | 1.572 | 0.108 | 2.773 | |
| AMARETTO_ExportResults | 1.584 | 0.056 | 3.715 | |
| AMARETTO_HTMLreport | 0 | 0 | 0 | |
| AMARETTO_Initialize | 0.704 | 0.032 | 1.443 | |
| AMARETTO_Preprocess | 0 | 0 | 0 | |
| AMARETTO_Run | 1.468 | 0.032 | 3.147 | |
| AMARETTO_VisualizeModule | 4.116 | 0.024 | 6.797 | |
| plot_run_history | 2.128 | 0.000 | 4.030 | |
| read_gct | 0 | 0 | 0 | |