motifStack 1.10.2 Jianhong Ou
 | Snapshot Date: 2015-04-09 16:20:12 -0700 (Thu, 09 Apr 2015) |  | URL: https://hedgehog.fhcrc.org/bioconductor/branches/RELEASE_3_0/madman/Rpacks/motifStack |  | Last Changed Rev: 102193 / Revision: 102249 |  | Last Changed Date: 2015-04-09 08:30:19 -0700 (Thu, 09 Apr 2015) |  
  | zin1  | Linux (Ubuntu 12.04.4 LTS) / x86_64  | [ OK ] |  OK  |  OK  |  | 
| moscato1  | Windows Server 2008 R2 Enterprise SP1 (64-bit) / x64  |  OK  |  OK  |  OK  |  OK  | 
| perceval  | Mac OS X Snow Leopard (10.6.8) / x86_64  |  OK  |  OK  |  OK  |  OK  | 
| oaxaca  | Mac OS X Mavericks (10.9.5) / x86_64  |  OK  |  OK  |  OK  |  OK  | 
##############################################################################
##############################################################################
###
### Running command:
###
###   /home/biocbuild/bbs-3.0-bioc/R/bin/R CMD INSTALL motifStack
###
##############################################################################
##############################################################################
* installing to library ‘/home/biocbuild/bbs-3.0-bioc/R/library’
* installing *source* package ‘motifStack’ ...
** R
** inst
** preparing package for lazy loading
Warning: replacing previous import by ‘graphics::plot’ when loading ‘seqLogo’
No methods found in "IRanges" for requests: sapply
** help
*** installing help indices
** building package indices
** installing vignettes
** testing if installed package can be loaded
Warning: replacing previous import by ‘graphics::plot’ when loading ‘seqLogo’
No methods found in "IRanges" for requests: sapply
* DONE (motifStack)