methylumi 2.12.0 Sean Davis
 | Snapshot Date: 2015-04-09 16:20:12 -0700 (Thu, 09 Apr 2015) |  | URL: https://hedgehog.fhcrc.org/bioconductor/branches/RELEASE_3_0/madman/Rpacks/methylumi |  | Last Changed Rev: 95439 / Revision: 102249 |  | Last Changed Date: 2014-10-13 14:38:33 -0700 (Mon, 13 Oct 2014) |  
  | zin1  | Linux (Ubuntu 12.04.4 LTS) / x86_64  |  OK  |  OK  |  OK  |  | 
| moscato1  | Windows Server 2008 R2 Enterprise SP1 (64-bit) / x64  |  OK  |  OK  |  OK  |  OK  | 
| perceval  | Mac OS X Snow Leopard (10.6.8) / x86_64  |  OK  |  OK  | [ OK ] |  OK  | 
| oaxaca  | Mac OS X Mavericks (10.9.5) / x86_64  |  OK  |  OK  |  OK  |  OK  | 
##############################################################################
##############################################################################
###
### Running command:
###
###   /Library/Frameworks/R.framework/Versions/Current/Resources/bin/R CMD check --no-vignettes --timings --no-multiarch methylumi_2.12.0.tar.gz
###
##############################################################################
##############################################################################
* using log directory ‘/Users/biocbuild/bbs-3.0-bioc/meat/methylumi.Rcheck’
* using R version 3.1.3 (2015-03-09)
* using platform: x86_64-apple-darwin10.8.0 (64-bit)
* using session charset: UTF-8
* using option ‘--no-vignettes’
* checking for file ‘methylumi/DESCRIPTION’ ... OK
* checking extension type ... Package
* this is package ‘methylumi’ version ‘2.12.0’
* checking package namespace information ... OK
* checking package dependencies ... NOTE
Depends: includes the non-default packages:
  ‘Biobase’ ‘scales’ ‘reshape2’ ‘ggplot2’ ‘matrixStats’ ‘minfi’
Adding so many packages to the search path is excessive and importing
selectively is preferable.
* checking if this is a source package ... OK
* checking if there is a namespace ... OK
* checking for hidden files and directories ... OK
* checking for portable file names ... OK
* checking for sufficient/correct file permissions ... OK
* checking whether package ‘methylumi’ can be installed ... [35s/46s] OK
* checking installed package size ... NOTE
  installed size is  5.5Mb
  sub-directories of 1Mb or more:
    data      2.7Mb
    extdata   1.7Mb
* checking package directory ... OK
* checking ‘build’ directory ... OK
* checking DESCRIPTION meta-information ... NOTE
Packages listed in more than one of Depends, Imports, Suggests, Enhances:
  ‘Biobase’ ‘minfi’ ‘lattice’ ‘matrixStats’
A package should be listed in only one of these fields.
* checking top-level files ... OK
* checking for left-over files ... OK
* checking index information ... OK
* checking package subdirectories ... OK
* checking R files for non-ASCII characters ... OK
* checking R files for syntax errors ... OK
* checking whether the package can be loaded ... OK
* checking whether the package can be loaded with stated dependencies ... OK
* checking whether the package can be unloaded cleanly ... OK
* checking whether the namespace can be loaded with stated dependencies ... OK
* checking whether the namespace can be unloaded cleanly ... OK
* checking dependencies in R code ... NOTE
'library' or 'require' calls to packages already attached by Depends:
  ‘ggplot2’ ‘matrixStats’ ‘minfi’ ‘reshape2’ ‘scales’
  Please remove these calls from your code.
'library' or 'require' calls in package code:
  ‘Biostrings’ ‘FDb.InfiniumMethylation.hg19’
  ‘IlluminaHumanMethylation27k.db’ ‘IlluminaHumanMethylation450k.db’
  ‘lumi’ ‘MASS’ ‘parallel’ ‘rtracklayer’ ‘SQN’
  Please use :: or requireNamespace() instead.
  See section 'Suggested packages' in the 'Writing R Extensions' manual.
Namespace in Imports field not imported from: ‘graphics’
  All declared Imports should be used.
Packages in Depends field not imported from:
  ‘ggplot2’ ‘matrixStats’ ‘methods’ ‘reshape2’ ‘scales’
  These packages need to be imported from (in the NAMESPACE file)
  for when this namespace is loaded but not attached.
':::' call which should be '::': ‘lumi:::produceMethylationGEOSubmissionFile’
  See the note in ?`:::` about the use of this operator.
Unexported objects imported by ':::' calls:
  ‘Biobase:::unsafeSetSlot’ ‘genefilter:::.findCentralMap’
  See the note in ?`:::` about the use of this operator.
* checking S3 generic/method consistency ... OK
* checking replacement functions ... OK
* checking foreign function calls ... OK
* checking R code for possible problems ... NOTE
getBarcodes: warning in list.files(path = path, patt = "idat"): partial
  argument match of 'patt' to 'pattern'
normexp.signal: warning in pnorm(0, mean = mu.sf, sd = sigma,
  lower.tail = FALSE, log = TRUE): partial argument match of 'log' to
  'log.p'
.mclapply: no visible global function definition for ‘mclapply’
compare.chips: no visible binding for global variable
  ‘IlluminaHumanMethylation450kCOLOR_CHANNEL’
compare.chips: no visible binding for global variable
  ‘IlluminaHumanMethylation27kCOLOR_CHANNEL’
compare.chips: no visible binding for global variable
  ‘IlluminaHumanMethylation450kDESIGN’
compare.chips: no visible global function definition for ‘ggplot’
compare.chips: no visible global function definition for ‘aes’
compare.chips: no visible binding for global variable ‘chip’
compare.chips: no visible global function definition for
  ‘geom_histogram’
compare.chips: no visible global function definition for
  ‘position_identity’
compare.chips: no visible global function definition for ‘geom_density’
compare.chips: no visible global function definition for ‘facet_grid’
compare.chips: no visible global function definition for ‘opts’
compare.chips: no visible global function definition for ‘xlab’
compare.chips: no visible global function definition for
  ‘scale_x_continuous’
compare.chips: no visible global function definition for ‘theme_bw’
cy3: no visible global function definition for ‘addColorChannelInfo’
cy5: no visible global function definition for ‘addColorChannelInfo’
gamma.get.xcs: no visible global function definition for
  ‘gamma.integral’
gamma.get.xs : <anonymous>: no visible global function definition for
  ‘gamma.mle’
gamma.get.xs : <anonymous>: no visible global function definition for
  ‘gamma.integral’
gamma.signal: no visible global function definition for
  ‘gamma.integral’
gammaM.get.xs : <anonymous>: no visible global function definition for
  ‘gamma.mode’
gammaM.get.xs : <anonymous>: no visible global function definition for
  ‘gamma.mle’
getMethylationBeadMappers: no visible binding for global variable
  ‘IlluminaHumanMethylation450k_getProbes’
getMethylationBeadMappers: no visible binding for global variable
  ‘IlluminaHumanMethylation450k_getControls’
getMethylationBeadMappers: no visible binding for global variable
  ‘IlluminaHumanMethylation450k_getProbeOrdering’
getMethylationBeadMappers: no visible binding for global variable
  ‘IlluminaHumanMethylation27k_getProbes’
getMethylationBeadMappers: no visible binding for global variable
  ‘IlluminaHumanMethylation27k_getControls’
getMethylationBeadMappers: no visible binding for global variable
  ‘IlluminaHumanMethylation27k_getProbeOrdering’
getPlatform: no visible global function definition for ‘features’
getPlatform: no visible binding for global variable
  ‘FDb.InfiniumMethylation.hg19’
getPlatform: no visible global function definition for
  ‘SeqinfoForBSGenome’
getPlatform: no visible global function definition for ‘DNAStringSet’
illumina.get.xs: no visible global function definition for
  ‘colQuantiles’
median.get.xs: no visible global function definition for ‘colMedians’
methylumi.bgcorr: no visible binding for global variable
  ‘IlluminaHumanMethylation27kCOLORCHANNEL’
methylumi.bgcorr: no visible binding for global variable
  ‘IlluminaHumanMethylation450kCOLORCHANNEL’
methylumi.diagnostics: no visible binding for global variable
  ‘IlluminaHumanMethylation27kCOLORCHANNEL’
methylumi.diagnostics: no visible binding for global variable
  ‘IlluminaHumanMethylation450kCOLORCHANNEL’
methylumi.diagnostics: no visible global function definition for
  ‘plot.density’
methylumiToMinfi: no visible global function definition for
  ‘RGChannelSet’
normalize27kAnd450k: no visible binding for global variable
  ‘history.submitted’
normalizeViaSQN: no visible global function definition for
  ‘assayDataElements’
normalizeViaSQN: no visible binding for global variable
  ‘IlluminaHumanMethylation450kDESIGN’
normalizeViaSQN: no visible binding for global variable ‘CpGs’
normalizeViaSQN: no visible global function definition for ‘SQN’
normalizeViaSQN: no visible binding for global variable ‘ctrl.id’
normalizeViaSQN: no visible binding for global variable ‘withins’
normalizeViaSQN: no visible binding for global variable
  ‘normprobes.Cy3’
normalizeViaSQN: no visible binding for global variable
  ‘normprobes.Cy5’
normexp.get.xs: no visible global function definition for ‘huber’
normexp.get.xs: no visible global function definition for ‘colSds’
plotNegOob : <anonymous>: no visible global function definition for
  ‘melt’
plotNegOob: no visible global function definition for ‘ggplot’
plotNegOob: no visible global function definition for ‘aes’
plotNegOob: no visible binding for global variable ‘intensity’
plotNegOob: no visible binding for global variable ‘channel.probes’
plotNegOob: no visible global function definition for ‘geom_histogram’
plotNegOob: no visible binding for global variable ‘..density..’
plotNegOob: no visible global function definition for
  ‘position_identity’
plotNegOob: no visible global function definition for ‘facet_grid’
plotNegOob: no visible global function definition for
  ‘scale_x_continuous’
plotNegOob: no visible global function definition for
  ‘scale_y_continuous’
plotNegOob: no visible global function definition for
  ‘scale_fill_manual’
plotNegOob: no visible global function definition for ‘opts’
plotNegOob: no visible global function definition for ‘theme_bw’
qc.probe.plot: no visible global function definition for ‘log_trans’
qc.probe.plot: no visible global function definition for ‘melt’
qc.probe.plot: no visible binding for global variable ‘grouping’
qc.probe.plot: no visible binding for global variable ‘variable’
qc.probe.plot: no visible binding for global variable ‘value’
qc.probe.plot: no visible global function definition for ‘coord_flip’
qc.probe.plot: no visible global function definition for
  ‘scale_x_continuous’
qc.probe.plot: no visible global function definition for
  ‘scale_y_discrete’
qc.probe.plot: no visible global function definition for ‘facet_grid’
qc.probe.plot: no visible global function definition for
  ‘scale_colour_manual’
qc.probe.plot: no visible global function definition for
  ‘scale_shape_manual’
qc.probe.plot: no visible global function definition for ‘theme_bw’
subset27kas450k: no visible global function definition for
  ‘IlluminaHumanMethylation450k_get27k’
subset450kas27k: no visible global function definition for
  ‘IlluminaHumanMethylation450k_get27k’
coerce,MethyLumiM-MethylSet: no visible global function definition for
  ‘MethylSet’
coerce,MethyLumiSet-MethylSet: no visible global function definition
  for ‘MethylSet’
coerce,SummarizedExperiment-GenomicMethylSet: no visible global
  function definition for ‘GenomicMethylSet’
intensities.IB,MethyLumiSet-character: no visible binding for global
  variable ‘IlluminaHumanMethylation27kCOLORCHANNEL’
intensities.IB,MethyLumiSet-character: no visible binding for global
  variable ‘IlluminaHumanMethylation450kCOLORCHANNEL’
intensities.M,MethyLumiSet-character: no visible binding for global
  variable ‘IlluminaHumanMethylation27kCOLORCHANNEL’
intensities.M,MethyLumiSet-character: no visible binding for global
  variable ‘IlluminaHumanMethylation450kCOLORCHANNEL’
intensities.OOB,MethyLumiSet-character: no visible binding for global
  variable ‘IlluminaHumanMethylation27kCOLORCHANNEL’
intensities.OOB,MethyLumiSet-character: no visible binding for global
  variable ‘IlluminaHumanMethylation450kCOLORCHANNEL’
intensities.OOB.allelic,MethyLumiSet-character-character: no visible
  binding for global variable ‘IlluminaHumanMethylation27kCOLORCHANNEL’
intensities.OOB.allelic,MethyLumiSet-character-character: no visible
  binding for global variable
  ‘IlluminaHumanMethylation450kCOLORCHANNEL’
intensities.U,MethyLumiSet-character: no visible binding for global
  variable ‘IlluminaHumanMethylation27kCOLORCHANNEL’
intensities.U,MethyLumiSet-character: no visible binding for global
  variable ‘IlluminaHumanMethylation450kCOLORCHANNEL’
plotNAs,methylData: no visible binding for global variable ‘index’
plotNAs,methylData: no visible binding for global variable ‘dropouts’
plotProbeNAs,methylData: no visible binding for global variable ‘mu’
plotProbeNAs,methylData: no visible binding for global variable ‘drops’
pval.detect<-,methylData-numeric: no visible global function definition
  for ‘toTable’
pval.detect<-,methylData-numeric: no visible global function definition
  for ‘rowMins’
* checking Rd files ... NOTE
prepare_Rd: estimateM.Rd:34-36: Dropping empty section \seealso
prepare_Rd: estimateM.Rd:37-39: Dropping empty section \examples
prepare_Rd: methylumIDAT.Rd:52-54: Dropping empty section \seealso
* checking Rd metadata ... OK
* checking Rd cross-references ... OK
* checking for missing documentation entries ... OK
* checking for code/documentation mismatches ... OK
* checking Rd \usage sections ... OK
* checking Rd contents ... OK
* checking for unstated dependencies in examples ... OK
* checking contents of ‘data’ directory ... OK
* checking data for non-ASCII characters ... OK
* checking data for ASCII and uncompressed saves ... OK
* checking sizes of PDF files under ‘inst/doc’ ... OK
* checking installed files from ‘inst/doc’ ... OK
* checking files in ‘vignettes’ ... OK
* checking examples ... [24s/24s] OK
* checking for unstated dependencies in vignettes ... OK
* checking package vignettes in ‘inst/doc’ ... OK
* checking running R code from vignettes ... SKIPPED
* checking re-building of vignette outputs ... SKIPPED
* checking PDF version of manual ... OK
* DONE
NOTE: There were 6 notes.
See
  ‘/Users/biocbuild/bbs-3.0-bioc/meat/methylumi.Rcheck/00check.log’
for details.