fabia 2.12.0 Sepp Hochreiter
 | Snapshot Date: 2015-04-09 16:20:12 -0700 (Thu, 09 Apr 2015) |  | URL: https://hedgehog.fhcrc.org/bioconductor/branches/RELEASE_3_0/madman/Rpacks/fabia |  | Last Changed Rev: 95439 / Revision: 102249 |  | Last Changed Date: 2014-10-13 14:38:33 -0700 (Mon, 13 Oct 2014) |  
  | zin1  | Linux (Ubuntu 12.04.4 LTS) / x86_64  |  OK  |  OK  |  OK  |  | 
| moscato1  | Windows Server 2008 R2 Enterprise SP1 (64-bit) / x64  |  OK  |  OK  |  OK  | [ OK ] | 
| perceval  | Mac OS X Snow Leopard (10.6.8) / x86_64  |  OK  |  OK  |  OK  |  OK  | 
| oaxaca  | Mac OS X Mavericks (10.9.5) / x86_64  |  OK  |  OK  |  OK  |  OK  | 
##############################################################################
##############################################################################
###
### Running command:
###
###   cd fabia.buildbin-libdir/fabia && zip -r ../../fabia_2.12.0.zip . & cd ../..
###
##############################################################################
##############################################################################
  adding: CITATION (188 bytes security) (deflated 61%)
  adding: demo/ (256 bytes security) (stored 0%)
  adding: demo/demo01FabiaToydata.R (188 bytes security) (deflated 61%)
  adding: demo/demo02FabiaBreastcancer.R (188 bytes security) (deflated 57%)
  adding: demo/demo03FabiaMultipleTissues.R (188 bytes security) (deflated 57%)
  adding: demo/demo04FabiaLymphoma.R (188 bytes security) (deflated 57%)
  adding: demo/demo05FabiasToydata.R (188 bytes security) (deflated 61%)
  adding: demo/demo06FabiasBreastcancer.R (188 bytes security) (deflated 57%)
  adding: demo/demo07FabiasMultipleTissues.R (188 bytes security) (deflated 58%)
  adding: demo/demo08FabiasLymphoma.R (188 bytes security) (deflated 57%)
  adding: DESCRIPTION (188 bytes security) (deflated 46%)
  adding: doc/ (256 bytes security) (stored 0%)
  adding: doc/fabia.pdf (188 bytes security) (deflated 25%)
  adding: doc/fabia.R (188 bytes security) (deflated 46%)
  adding: doc/fabia.Rnw (188 bytes security) (deflated 83%)
  adding: doc/index.html (188 bytes security) (deflated 56%)
  adding: help/ (256 bytes security) (stored 0%)
  adding: help/aliases.rds (188 bytes security) (stored 0%)
  adding: help/AnIndex (188 bytes security) (deflated 85%)
  adding: help/fabia.rdb (188 bytes security) (deflated 1%)
  adding: help/fabia.rdx (188 bytes security) (stored 0%)
  adding: help/paths.rds (188 bytes security) (stored 0%)
  adding: html/ (256 bytes security) (stored 0%)
  adding: html/00Index.html (188 bytes security) (deflated 88%)
  adding: html/R.css (188 bytes security) (deflated 70%)
  adding: INDEX (188 bytes security) (deflated 76%)
  adding: libs/ (256 bytes security) (stored 0%)
  adding: libs/i386/ (256 bytes security) (stored 0%)
  adding: libs/i386/fabia.dll (188 bytes security) (deflated 55%)
  adding: libs/x64/ (256 bytes security) (stored 0%)
  adding: libs/x64/fabia.dll (188 bytes security) (deflated 54%)
  adding: MD5 (188 bytes security) (deflated 44%)
  adding: Meta/ (256 bytes security) (stored 0%)
  adding: Meta/demo.rds (188 bytes security) (stored 0%)
  adding: Meta/hsearch.rds (188 bytes security) (stored 0%)
  adding: Meta/links.rds (188 bytes security) (stored 0%)
  adding: Meta/nsInfo.rds (188 bytes security) (stored 0%)
  adding: Meta/package.rds (188 bytes security) (stored 0%)
  adding: Meta/Rd.rds (188 bytes security) (stored 0%)
  adding: Meta/vignette.rds (188 bytes security) (stored 0%)
  adding: NAMESPACE (188 bytes security) (deflated 67%)
  adding: NEWS (188 bytes security) (deflated 59%)
  adding: R/ (256 bytes security) (stored 0%)
  adding: R/fabia (188 bytes security) (deflated 41%)
  adding: R/fabia.rdb (188 bytes security) (deflated 31%)
  adding: R/fabia.rdx (188 bytes security) (deflated 1%)