| Back to the "Multiple platform build/check report" |
| Package 27/98 | Hostname | OS / Arch | BUILD | CHECK | BUILD BIN | ||||
| ecoliLeucine 1.2.5 Laurent Gautier
| wilson2 | Linux (openSUSE 11.4) / x86_64 | OK | OK | |||||
| liverpool | Windows Server 2003 R2 (32-bit) / x64 | OK | OK | [ OK ] | |||||
| pitt | Mac OS X Leopard (10.5.8) / i386 | OK | OK | OK |
| Package: ecoliLeucine |
| Version: 1.2.5 |
| Command: mkdir ecoliLeucine.buildbin-libdir && E:\biocbld\bbs-2.9-bioc\R\bin\R.exe CMD INSTALL --build --no-multiarch --library=ecoliLeucine.buildbin-libdir ecoliLeucine_1.2.5.tar.gz |
| StartedAt: 2011-07-06 16:47:07 -0700 (Wed, 06 Jul 2011) |
| EndedAt: 2011-07-06 16:47:16 -0700 (Wed, 06 Jul 2011) |
| EllapsedTime: 8.5 seconds |
| RetCode: 0 |
| Status: OK |
| PackageFile: ecoliLeucine_1.2.5.zip |
| PackageFileSize: 5.943 MiB |
* installing *source* package 'ecoliLeucine' ... ** data ** help *** installing help indices ** building package indices ... ** testing if installed package can be loaded * MD5 sums packaged installation of 'ecoliLeucine' as ecoliLeucine_1.2.5.zip * DONE (ecoliLeucine)