segmentSeq 1.6.2 Thomas J. Hardcastle
 | Snapshot Date: 2012-03-23 18:21:46 -0700 (Fri, 23 Mar 2012) |  | URL: https://hedgehog.fhcrc.org/bioconductor/branches/RELEASE_2_9/madman/Rpacks/segmentSeq |  | Last Changed Rev: 62148 / Revision: 64395 |  | Last Changed Date: 2012-01-19 07:04:25 -0800 (Thu, 19 Jan 2012) |  
  | wilson2  | Linux (openSUSE 11.4) / x86_64  |  OK  |  OK  |  | 
| moscato1  | Windows Server 2008 R2 Enterprise SP1 (64-bit) / x64  | [ OK ] |  OK  |  OK  | 
| pitt  | Mac OS X Leopard (10.5.8) / i386  |  OK  |  OK  |  OK  | 
* checking for file 'segmentSeq/DESCRIPTION' ... OK
* preparing 'segmentSeq':
* checking DESCRIPTION meta-information ... OK
* installing the package to re-build vignettes
* creating vignettes ... OK
* checking for LF line-endings in source and make files
* checking for empty or unneeded directories
* building 'segmentSeq_1.6.2.tar.gz'