rMAT 3.4.1 Arnaud Droit  and Raphael Gottardo
 | Snapshot Date: 2012-03-23 18:21:46 -0700 (Fri, 23 Mar 2012) |  | URL: https://hedgehog.fhcrc.org/bioconductor/branches/RELEASE_2_9/madman/Rpacks/rMAT |  | Last Changed Rev: 60373 / Revision: 64395 |  | Last Changed Date: 2011-11-15 17:44:53 -0800 (Tue, 15 Nov 2011) |  
  | wilson2  | Linux (openSUSE 11.4) / x86_64  | [ OK ] |  OK  |  | 
| moscato1  | Windows Server 2008 R2 Enterprise SP1 (64-bit) / x64  |  ERROR  |  skipped  |  skipped  | 
| pitt  | Mac OS X Leopard (10.5.8) / i386  |  OK  |  OK  |  OK  | 
* checking for file ‘rMAT/DESCRIPTION’ ... OK
* preparing ‘rMAT’:
* checking DESCRIPTION meta-information ... OK
* cleaning src
* running ‘cleanup’
* installing the package to re-build vignettes
* creating vignettes ... OK
* cleaning src
* running ‘cleanup’
* checking for LF line-endings in source and make files
* checking for empty or unneeded directories
* building ‘rMAT_3.4.1.tar.gz’