mcaGUI 1.2.0 Wade K. Copeland
 | Snapshot Date: 2012-03-23 18:21:46 -0700 (Fri, 23 Mar 2012) |  | URL: https://hedgehog.fhcrc.org/bioconductor/branches/RELEASE_2_9/madman/Rpacks/mcaGUI |  | Last Changed Rev: 59920 / Revision: 64395 |  | Last Changed Date: 2011-10-31 15:59:03 -0700 (Mon, 31 Oct 2011) |  
  | wilson2  | Linux (openSUSE 11.4) / x86_64  |  OK  |  OK  |  | 
| moscato1  | Windows Server 2008 R2 Enterprise SP1 (64-bit) / x64  |  OK  |  OK  |  OK  | 
| pitt  | Mac OS X Leopard (10.5.8) / i386  |  OK  |  OK  | [ OK ] | 
>>>>>>> 
>>>>>>> INSTALLATION WITH 'R CMD INSTALL --preclean --no-multiarch --library=mcaGUI.buildbin-libdir mcaGUI_1.2.0.tar.gz'
>>>>>>> 
* installing *source* package 'mcaGUI' ...
** R
** inst
** preparing package for lazy loading
Warning in .simpleDuplicateClass(def, prev) :
  A specification for class ".ShortReadBase" in package 'OTUbase' seems equivalent to one from package 'ShortRead' and is not turning on duplicate class definitions for this class
** help
*** installing help indices
** building package indices ...
** testing if installed package can be loaded
Loading mcaGUI()
[1] "You can access the mcaGUI vignette by browsing to:  "
[1] "/Users/biocbuild/bbs-2.9-bioc/meat/mcaGUI.buildbin-libdir/mcaGUI/doc/An_Introduction_and_User_Guide_for_mcaGUI.pdf"
GUI requires an interactive environment
* DONE (mcaGUI)