annotate 1.32.3 Bioconductor Package Maintainer
 | Snapshot Date: 2012-03-23 18:21:46 -0700 (Fri, 23 Mar 2012) |  | URL: https://hedgehog.fhcrc.org/bioconductor/branches/RELEASE_2_9/madman/Rpacks/annotate |  | Last Changed Rev: 63882 / Revision: 64395 |  | Last Changed Date: 2012-03-14 13:34:56 -0700 (Wed, 14 Mar 2012) |  
  | wilson2  | Linux (openSUSE 11.4) / x86_64  |  OK  |  OK  |  | 
| moscato1  | Windows Server 2008 R2 Enterprise SP1 (64-bit) / x64  |  OK  |  OK  |  OK  | 
| pitt  | Mac OS X Leopard (10.5.8) / i386  |  OK  |  OK  | [ OK ] | 
>>>>>>> 
>>>>>>> INSTALLATION WITH 'R CMD INSTALL --preclean --no-multiarch --library=annotate.buildbin-libdir annotate_1.32.3.tar.gz'
>>>>>>> 
* installing *source* package 'annotate' ...
** R
** data
** inst
** preparing package for lazy loading
** help
*** installing help indices
** building package indices ...
*** tangling vignette sources ...
   'GOusage.Rnw' 
   'annotate.Rnw' 
   'chromLoc.Rnw' 
   'prettyOutput.Rnw' 
   'query.Rnw' 
   'useDataPkgs.Rnw' 
   'useHomology.Rnw' 
   'useProbeInfo.Rnw' 
** testing if installed package can be loaded
* DONE (annotate)