Rsamtools 1.6.3 Bioconductor Package Maintainer
 | Snapshot Date: 2012-03-23 18:21:46 -0700 (Fri, 23 Mar 2012) |  | URL: https://hedgehog.fhcrc.org/bioconductor/branches/RELEASE_2_9/madman/Rpacks/Rsamtools |  | Last Changed Rev: 61391 / Revision: 64395 |  | Last Changed Date: 2011-12-15 18:47:14 -0800 (Thu, 15 Dec 2011) |  
  | wilson2  | Linux (openSUSE 11.4) / x86_64  | [ OK ] |  OK  |  | 
| moscato1  | Windows Server 2008 R2 Enterprise SP1 (64-bit) / x64  |  OK  |  OK  |  OK  | 
| pitt  | Mac OS X Leopard (10.5.8) / i386  |  OK  |  OK  |  OK  | 
* checking for file ‘Rsamtools/DESCRIPTION’ ... OK
* preparing ‘Rsamtools’:
* checking DESCRIPTION meta-information ... OK
* cleaning src
* installing the package to re-build vignettes
* creating vignettes ... OK
* cleaning src
* checking for LF line-endings in source and make files
* checking for empty or unneeded directories
* building ‘Rsamtools_1.6.3.tar.gz’