Rredland 1.19.18 VJ Carey
 | Snapshot Date: 2011-09-26 18:22:03 -0700 (Mon, 26 Sep 2011) |  | URL: https://hedgehog.fhcrc.org/bioconductor/trunk/madman/Rpacks/Rredland |  | Last Changed Rev: 57204 / Revision: 58408 |  | Last Changed Date: 2011-08-03 09:17:40 -0700 (Wed, 03 Aug 2011) |  
  | wilson2  | Linux (openSUSE 11.4) / x86_64  | [ ERROR ] |  skipped  |  | 
| liverpool  | Windows Server 2003 R2 (32-bit) / x64  | N O T   S U P P O R T E D | 
| gewurz  | Windows Server 2008 R2 Enterprise SP1 (64-bit) / x64  | N O T   S U P P O R T E D | 
| moscato1  | Windows Server 2008 R2 Enterprise SP1 (64-bit) / x64  | N O T   S U P P O R T E D | 
| pitt  | Mac OS X Leopard (10.5.8) / i386  | N O T   S U P P O R T E D | 
* checking for file ‘Rredland/DESCRIPTION’ ... OK
* preparing ‘Rredland’:
* checking DESCRIPTION meta-information ... OK
* cleaning src
* installing the package to re-build vignettes
      -----------------------------------
* installing *source* package ‘Rredland’ ...
Warning: installing a top-level ‘COPYING’ file is deprecated -- see the ‘Writing R Extensions’ manual'
** libs
gcc -std=gnu99 -I/home/biocbuild/bbs-2.9-bioc/R/include -I/usr/local/include/raptor2 -I/usr/local/include/rasqal -I/usr/local/include    -fpic  -g -O2 -Wall -c Rredl.c -o Rredl.o
Rredl.c:2:21: fatal error: redland.h: No such file or directory
compilation terminated.
make: *** [Rredl.o] Error 1
ERROR: compilation failed for package ‘Rredland’
* removing ‘/tmp/RtmpoKHLHT/Rinst2cb79d8c/Rredland’
      -----------------------------------
ERROR: package installation failed