Repitools 0.99.1 Mark Robinson
 | Snapshot Date: 2011-06-21 19:21:48 -0700 (Tue, 21 Jun 2011) |  | URL: https://hedgehog.fhcrc.org/bioconductor/trunk/madman/Rpacks/Repitools |  | Last Changed Rev: 56334 / Revision: 56351 |  | Last Changed Date: 2011-06-20 15:42:02 -0700 (Mon, 20 Jun 2011) |  
  | wilson2  | Linux (openSUSE 11.4) / x86_64  |  ERROR  |  skipped  |  | 
| liverpool  | Windows Server 2003 R2 (32-bit) / x64  |  ERROR  |  skipped  |  skipped  | 
| gewurz  | Windows Server 2008 R2 Enterprise (64-bit) / x64  |  ERROR  |  skipped  |  skipped  | 
| moscato1  | Windows Server 2008 R2 Enterprise (64-bit) / x64  |  ERROR  |  skipped  |  skipped  | 
| pelham  | Mac OS X Leopard (10.5.8) / i386  | [ ERROR ] |  skipped  |  skipped  | 
* checking for file ‘Repitools/DESCRIPTION’ ... OK
* preparing ‘Repitools’:
* checking DESCRIPTION meta-information ... OK
* installing the package to re-build vignettes
      -----------------------------------
ERROR: dependency ‘gsmoothr’ is not available for package ‘Repitools’
* removing ‘/private/tmp/Rtmpbi31se/Rinst40e1a2e1/Repitools’
      -----------------------------------
ERROR: package installation failed