RCytoscape 1.4.4 Paul Shannon
 | Snapshot Date: 2012-03-23 18:21:46 -0700 (Fri, 23 Mar 2012) |  | URL: https://hedgehog.fhcrc.org/bioconductor/branches/RELEASE_2_9/madman/Rpacks/RCytoscape |  | Last Changed Rev: 62607 / Revision: 64395 |  | Last Changed Date: 2012-02-07 09:11:02 -0800 (Tue, 07 Feb 2012) |  
  | wilson2  | Linux (openSUSE 11.4) / x86_64  | [ OK ] |  OK  |  | 
| moscato1  | Windows Server 2008 R2 Enterprise SP1 (64-bit) / x64  |  OK  |  OK  |  OK  | 
| pitt  | Mac OS X Leopard (10.5.8) / i386  |  OK  |  OK  |  OK  | 
* checking for file ‘RCytoscape/DESCRIPTION’ ... OK
* preparing ‘RCytoscape’:
* checking DESCRIPTION meta-information ... OK
* installing the package to re-build vignettes
* creating vignettes ... OK
* checking for LF line-endings in source and make files
* checking for empty or unneeded directories
* building ‘RCytoscape_1.4.4.tar.gz’